Workbook

Sheet Scorer
A1: SegmentPulse — Nike Customer Segment Scorer
A2: Enter customer data below → Get segment assignment instantly
A4: FEATURE | B4: YOUR INPUT | C4: SCALED VALUE | D4: DESCRIPTION
A5: Annual Spend | B5: 1200 | C5: =(B5-Scaler!C2)/Scaler!D2 -> 1.1448493 | D5: Total $ spent in last 12 months
A6: Purchase Frequency | B6: 8 | C6: =(B6-Scaler!C3)/Scaler!D3 -> 0.085376484 | D6: Number of purchases in last 12 months
A7: Avg Order Value | B7: 150 | C7: =(B7-Scaler!C4)/Scaler!D4 -> 1.936205 | D7: Average $ per order
A8: App Sessions Monthly | B8: 25 | C8: =(B8-Scaler!C5)/Scaler!D5 -> 1.0611171 | D8: App sessions per month
A9: Pct Running | B9: 0.05 | C9: =(B9-Scaler!C6)/Scaler!D6 -> -0.96880012 | D9: Fraction of purchases: Running products
A10: Pct Training | B10: 0.1 | C10: =(B10-Scaler!C7)/Scaler!D7 -> -1.0225307 | D10: Fraction of purchases: Training products
A11: Pct Lifestyle | B11: 0.85 | C11: =(B11-Scaler!C8)/Scaler!D8 -> 1.1670649 | D11: Fraction of purchases: Lifestyle products
A12: Return Rate | B12: 0.1 | C12: =(B12-Scaler!C9)/Scaler!D9 -> 0.77236097 | D12: Fraction of items returned
A13: Days Since Last Purchase | B13: 15 | C13: =(B13-Scaler!C10)/Scaler!D10 -> -0.81377379 | D13: Days since most recent purchase
A14: Channel Online Pct | B14: 0.78 | C14: =(B14-Scaler!C11)/Scaler!D11 -> 1.256353 | D14: Fraction of purchases made online
A16: DISTANCE TO EACH CLUSTER CENTROID
A17: Cluster 0 | B17: Performance Athletes | C17: =SQRT((C5-Centroids!B2)^2+(C6-Centroids!C2)^2+(C7-Centroids!D2)^2+(C8-Centroids!E2)^2+(C9-Centroids!F2)^2+(C10-Centroids!G2)^2+(C11-Centroids!H2)^2+(C12-Centroids!I2)^2+(C13-Centroids!J2)^2+(C14-Centroids!K2)^2) -> 4.9594603 | D17: Euclidean distance
A18: Cluster 1 | B18: Casual Walkers | C18: =SQRT((C5-Centroids!B3)^2+(C6-Centroids!C3)^2+(C7-Centroids!D3)^2+(C8-Centroids!E3)^2+(C9-Centroids!F3)^2+(C10-Centroids!G3)^2+(C11-Centroids!H3)^2+(C12-Centroids!I3)^2+(C13-Centroids!J3)^2+(C14-Centroids!K3)^2) -> 5.034352 | D18: Euclidean distance
A19: Cluster 2 | B19: Sneakerheads | C19: =SQRT((C5-Centroids!B4)^2+(C6-Centroids!C4)^2+(C7-Centroids!D4)^2+(C8-Centroids!E4)^2+(C9-Centroids!F4)^2+(C10-Centroids!G4)^2+(C11-Centroids!H4)^2+(C12-Centroids!I4)^2+(C13-Centroids!J4)^2+(C14-Centroids!K4)^2) -> 0.72868219 | D19: Euclidean distance
A20: Cluster 3 | B20: Weekend Warriors | C20: =SQRT((C5-Centroids!B5)^2+(C6-Centroids!C5)^2+(C7-Centroids!D5)^2+(C8-Centroids!E5)^2+(C9-Centroids!F5)^2+(C10-Centroids!G5)^2+(C11-Centroids!H5)^2+(C12-Centroids!I5)^2+(C13-Centroids!J5)^2+(C14-Centroids!K5)^2) -> 4.5933496 | D20: Euclidean distance
A22: SEGMENT ASSIGNMENT
A23: Assigned Cluster | B23: =MATCH(MIN(C17:C20),C17:C20,0)-1 -> 2
A24: Segment Name | B24: =INDEX(B17:B20,MATCH(MIN(C17:C20),C17:C20,0)) -> Sneakerheads
A25: Confidence | B25: =IF(SMALL(C17:C20,2)-MIN(C17:C20)>1,"Strong","Weak — Review Manually") -> Strong
A26: Recommended Action | B26: =IF(B24="Performance Athletes","New running gear launches + training plans",IF(B24="Casual Walkers","Comfort-focused recommendations + reactivation",IF(B24="Sneakerheads","Exclusive drops + SNKRS app priority access",IF(B24="Weekend Warriors","Seasonal activity bundles + community events","Unknown")))) -> Exclusive drops + SNKRS app priority access

Sheet Centroids
A1: Cluster | B1: annual_spend | C1: purchase_frequency | D1: avg_order_value | E1: app_sessions_monthly | F1: pct_running | G1: pct_training | H1: pct_lifestyle | I1: return_rate | J1: days_since_last_purchase | K1: channel_online_pct
A2: 0 | B2: 0.467852 | C2: 1.282211 | D2: -0.29121 | E2: 0.669662 | F2: 1.476103 | G2: 0.261526 | H2: -1.322092 | I2: -0.766998 | J2: -0.707671 | K2: 0.078323
A3: 1 | B3: -0.928802 | C3: -1.04403 | D3: -0.478219 | E3: -0.972006 | F3: -0.71464 | G3: -0.655119 | H3: 0.852197 | I3: -0.285028 | J3: 1.199724 | K3: -0.825738
A4: 2 | B4: 1.547716 | C4: 0.442994 | D4: 1.787534 | E4: 1.268041 | F4: -0.917296 | G4: -0.976957 | H4: 1.142897 | I4: 1.117218 | J4: -0.586619 | K4: 1.261442
A5: 3 | B5: -0.446774 | C5: -0.277115 | D5: -0.43811 | E5: -0.386706 | F5: 0.111835 | G5: 1.051653 | H5: -0.510768 | I5: 0.175029 | J5: -0.23757 | K5: -0.05768
A8: NOTE: These are centroids in SCALED space (z-scores).
A9: They were produced by KMeans(n_clusters=4, random_state=42) on standardized data.

Sheet Scaler
A1: # | B1: Feature | C1: Mean | D1: Std Dev
A2: 1 | B2: annual_spend | C2: 634.87156 | D2: 493.62691
A3: 2 | B3: purchase_frequency | C3: 7.595 | D3: 4.743695
A4: 3 | B4: avg_order_value | C4: 74.295788 | D4: 39.099275
A5: 4 | B5: app_sessions_monthly | C5: 13.690833 | D5: 10.657794
A6: 5 | B6: pct_running | C6: 0.266242 | D6: 0.223206
A7: 6 | B7: pct_training | C7: 0.223217 | D7: 0.120502
A8: 7 | B8: pct_lifestyle | C8: 0.500792 | D8: 0.299219
A9: 8 | B9: return_rate | C9: 0.07096 | D9: 0.037599
A10: 9 | B10: days_since_last_purchase | C10: 39.933333 | D10: 30.639145
A11: 10 | B11: channel_online_pct | C11: 0.526375 | D11: 0.201874
A13: Scaling formula: z = (value - mean) / std_dev
A14: These parameters come from sklearn.preprocessing.StandardScaler fit on the training data.

Sheet Segment Actions
A1: Segment Name | B1: Marketing Action | C1: Email Campaign | D1: Offer Type | E1: Channel Priority | F1: KPI to Track
A2: Performance Athletes | B2: New running gear launches + training plans | C2: Early access to performance line | D2: Free shipping on orders $75+ | E2: App push + Email | F2: Repeat purchase rate
A3: Casual Walkers | B3: Comfort-focused recommendations + reactivation | C3: Seasonal comfort picks | D3: 20% off to re-engage | E3: Email + Direct mail | F3: Reactivation rate
A4: Sneakerheads | B4: Exclusive drops + SNKRS app priority access | C4: Limited edition alerts | D4: First access to releases | E4: App exclusive + SMS | F4: Drop participation rate
A5: Weekend Warriors | B5: Seasonal activity bundles + community events | C5: Weekend workout inspiration | D5: 15% off second item | E5: Email + Social | F5: Cross-category purchase rate

Sheet Batch Scoring
A1: Batch Scoring — Paste Customer Data Below (up to 50 rows)
A2: customer_id | B2: Annual Spend | C2: Purchase Frequency | D2: Avg Order Value | E2: App Sessions Monthly | F2: Pct Running | G2: Pct Training | H2: Pct Lifestyle | I2: Return Rate | J2: Days Since Last Purchase | K2: Channel Online Pct | L2: Assigned Cluster | M2: Segment Name | N2: Confidence
L3: =IF(A3="","",IF(SQRT(((B3-Scaler!C2)/Scaler!D2-Centroids!B2)^2+((C3-Scaler!C3)/Scaler!D3-Centroids!C2)^2+((D3-Scaler!C4)/Scaler!D4-Centroids!D2)^2+((E3-Scaler!C5)/Scaler!D5-Centroids!E2)^2+((F3-Scaler!C6)/Scaler!D6-Centroids!F2)^2+((G3-Scaler!C7)/Scaler!D7-Centroids!G2)^2+((H3-Scaler!C8)/Scaler!D8-Centroids!H2)^2+((I3-Scaler!C9)/Scaler!D9-Centroids!I2)^2+((J3-Scaler!C10)/Scaler!D10-Centroids!J2)^2+((K3-Scaler!C11)/Scaler!D11-Centroids!K2)^2)<=MIN(SQRT(((B3-Scaler!C2)/Scaler!D2-Centroids!B3)^2+((C3-Scaler!C3)/Scaler!D3-Centroids!C3)^2+((D3-Scaler!C4)/Scaler!D4-Centroids!D3)^2+((E3-Scaler!C5)/Scaler!D5-Centroids!E3)^2+((F3-Scaler!C6)/Scaler!D6-Centroids!F3)^2+((G3-Scaler!C7)/Scaler!D7-Centroids!G3)^2+((H3-Scaler!C8)/Scaler!D8-Centroids!H3)^2+((I3-Scaler!C9)/Scaler!D9-Centroids!I3)^2+((J3-Scaler!C10)/Scaler!D10-Centroids!J3)^2+((K3-Scaler!C11)/Scaler!D11-Centroids!K3)^2),SQRT(((B3-Scaler!C2)/Scaler!D2-Centroids!B4)^2+((C3-Scaler!C3)/Scaler!D3-Centroids!C4)^2+((D3-Scaler!C4)/Scaler!D4-Centroids!D4)^2+((E3-Scaler!C5)/Scaler!D5-Centroids!E4)^2+((F3-Scaler!C6)/Scaler!D6-Centroids!F4)^2+((G3-Scaler!C7)/Scaler!D7-Centroids!G4)^2+((H3-Scaler!C8)/Scaler!D8-Centroids!H4)^2+((I3-Scaler!C9)/Scaler!D9-Centroids!I4)^2+((J3-Scaler!C10)/Scaler!D10-Centroids!J4)^2+((K3-Scaler!C11)/Scaler!D11-Centroids!K4)^2),SQRT(((B3-Scaler!C2)/Scaler!D2-Centroids!B5)^2+((C3-Scaler!C3)/Scaler!D3-Centroids!C5)^2+((D3-Scaler!C4)/Scaler!D4-Centroids!D5)^2+((E3-Scaler!C5)/Scaler!D5-Centroids!E5)^2+((F3-Scaler!C6)/Scaler!D6-Centroids!F5)^2+((G3-Scaler!C7)/Scaler!D7-Centroids!G5)^2+((H3-Scaler!C8)/Scaler!D8-Centroids!H5)^2+((I3-Scaler!C9)/Scaler!D9-Centroids!I5)^2+((J3-Scaler!C10)/Scaler!D10-Centroids!J5)^2+((K3-Scaler!C11)/Scaler!D11-Centroids!K5)^2)),0,IF(SQRT(((B3-Scaler!C2)/Scaler!D2-Centroids!B3)^2+((C3-Scaler!C3)/Scaler!D3-Centroids!C3)^2+((D3-Scaler!C4)/Scaler!D4-Centroids!D3)^2+((E3-Scaler!C5)/Scaler!D5-Centroids!E3)^2+((F3-Scaler!C6)/Scaler!D6-Centroids!F3)^2+((G3-Scaler!C7)/Scaler!D7-Centroids!G3)^2+((H3-Scaler!C8)/Scaler!D8-Centroids!H3)^2+((I3-Scaler!C9)/Scaler!D9-Centroids!I3)^2+((J3-Scaler!C10)/Scaler!D10-Centroids!J3)^2+((K3-Scaler!C11)/Scaler!D11-Centroids!K3)^2)<=MIN(SQRT(((B3-Scaler!C2)/Scaler!D2-Centroids!B2)^2+((C3-Scaler!C3)/Scaler!D3-Centroids!C2)^2+((D3-Scaler!C4)/Scaler!D4-Centroids!D2)^2+((E3-Scaler!C5)/Scaler!D5-Centroids!E2)^2+((F3-Scaler!C6)/Scaler!D6-Centroids!F2)^2+((G3-Scaler!C7)/Scaler!D7-Centroids!G2)^2+((H3-Scaler!C8)/Scaler!D8-Centroids!H2)^2+((I3-Scaler!C9)/Scaler!D9-Centroids!I2)^2+((J3-Scaler!C10)/Scaler!D10-Centroids!J2)^2+((K3-Scaler!C11)/Scaler!D11-Centroids!K2)^2),SQRT(((B3-Scaler!C2)/Scaler!D2-Centroids!B4)^2+((C3-Scaler!C3)/Scaler!D3-Centroids!C4)^2+((D3-Scaler!C4)/Scaler!D4-Centroids!D4)^2+((E3-Scaler!C5)/Scaler!D5-Centroids!E4)^2+((F3-Scaler!C6)/Scaler!D6-Centroids!F4)^2+((G3-Scaler!C7)/Scaler!D7-Centroids!G4)^2+((H3-Scaler!C8)/Scaler!D8-Centroids!H4)^2+((I3-Scaler!C9)/Scaler!D9-Centroids!I4)^2+((J3-Scaler!C10)/Scaler!D10-Centroids!J4)^2+((K3-Scaler!C11)/Scaler!D11-Centroids!K4)^2),SQRT(((B3-Scaler!C2)/Scaler!D2-Centroids!B5)^2+((C3-Scaler!C3)/Scaler!D3-Centroids!C5)^2+((D3-Scaler!C4)/Scaler!D4-Centroids!D5)^2+((E3-Scaler!C5)/Scaler!D5-Centroids!E5)^2+((F3-Scaler!C6)/Scaler!D6-Centroids!F5)^2+((G3-Scaler!C7)/Scaler!D7-Centroids!G5)^2+((H3-Scaler!C8)/Scaler!D8-Centroids!H5)^2+((I3-Scaler!C9)/Scaler!D9-Centroids!I5)^2+((J3-Scaler!C10)/Scaler!D10-Centroids!J5)^2+((K3-Scaler!C11)/Scaler!D11-Centroids!K5)^2)),1,IF(SQRT(((B3-Scaler!C2)/Scaler!D2-Centroids!B4)^2+((C3-Scaler!C3)/Scaler!D3-Centroids!C4)^2+((D3-Scaler!C4)/Scaler!D4-Centroids!D4)^2+((E3-Scaler!C5)/Scaler!D5-Centroids!E4)^2+((F3-Scaler!C6)/Scaler!D6-Centroids!F4)^2+((G3-Scaler!C7)/Scaler!D7-Centroids!G4)^2+((H3-Scaler!C8)/Scaler!D8-Centroids!H4)^2+((I3-Scaler!C9)/Scaler!D9-Centroids!I4)^2+((J3-Scaler!C10)/Scaler!D10-Centroids!J4)^2+((K3-Scaler!C11)/Scaler!D11-Centroids!K4)^2)<=MIN(SQRT(((B3-Scaler!C2)/Scaler!D2-Centroids!B2)^2+((C3-Scaler!C3)/Scaler!D3-Centroids!C2)^2+((D3-Scaler!C4)/Scaler!D4-Centroids!D2)^2+((E3-Scaler!C5)/Scaler!D5-Centroids!E2)^2+((F3-Scaler!C6)/Scaler!D6-Centroids!F2)^2+((G3-Scaler!C7)/Scaler!D7-Centroids!G2)^2+((H3-Scaler!C8)/Scaler!D8-Centroids!H2)^2+((I3-Scaler!C9)/Scaler!D9-Centroids!I2)^2+((J3-Scaler!C10)/Scaler!D10-Centroids!J2)^2+((K3-Scaler!C11)/Scaler!D11-Centroids!K2)^2),SQRT(((B3-Scaler!C2)/Scaler!D2-Centroids!B3)^2+((C3-Scaler!C3)/Scaler!D3-Centroids!C3)^2+((D3-Scaler!C4)/Scaler!D4-Centroids!D3)^2+((E3-Scaler!C5)/Scaler!D5-Centroids!E3)^2+((F3-Scaler!C6)/Scaler!D6-Centroids!F3)^2+((G3-Scaler!C7)/Scaler!D7-Centroids!G3)^2+((H3-Scaler!C8)/Scaler!D8-Centroids!H3)^2+((I3-Scaler!C9)/Scaler!D9-Centroids!I3)^2+((J3-Scaler!C10)/Scaler!D10-Centroids!J3)^2+((K3-Scaler!C11)/Scaler!D11-Centroids!K3)^2),SQRT(((B3-Scaler!C2)/Scaler!D2-Centroids!B5)^2+((C3-Scaler!C3)/Scaler!D3-Centroids!C5)^2+((D3-Scaler!C4)/Scaler!D4-Centroids!D5)^2+((E3-Scaler!C5)/Scaler!D5-Centroids!E5)^2+((F3-Scaler!C6)/Scaler!D6-Centroids!F5)^2+((G3-Scaler!C7)/Scaler!D7-Centroids!G5)^2+((H3-Scaler!C8)/Scaler!D8-Centroids!H5)^2+((I3-Scaler!C9)/Scaler!D9-Centroids!I5)^2+((J3-Scaler!C10)/Scaler!D10-Centroids!J5)^2+((K3-Scaler!C11)/Scaler!D11-Centroids!K5)^2)),2,3)))) | M3: =IF(A3="","",VLOOKUP(L3,{0,"Performance Athletes";1,"Casual Walkers";2,"Sneakerheads";3,"Weekend Warriors"},2,FALSE())) | N3: =IF(A3="","","Scored")
L4: =IF(A4="","",IF(SQRT(((B4-Scaler!C2)/Scaler!D2-Centroids!B2)^2+((C4-Scaler!C3)/Scaler!D3-Centroids!C2)^2+((D4-Scaler!C4)/Scaler!D4-Centroids!D2)^2+((E4-Scaler!C5)/Scaler!D5-Centroids!E2)^2+((F4-Scaler!C6)/Scaler!D6-Centroids!F2)^2+((G4-Scaler!C7)/Scaler!D7-Centroids!G2)^2+((H4-Scaler!C8)/Scaler!D8-Centroids!H2)^2+((I4-Scaler!C9)/Scaler!D9-Centroids!I2)^2+((J4-Scaler!C10)/Scaler!D10-Centroids!J2)^2+((K4-Scaler!C11)/Scaler!D11-Centroids!K2)^2)<=MIN(SQRT(((B4-Scaler!C2)/Scaler!D2-Centroids!B3)^2+((C4-Scaler!C3)/Scaler!D3-Centroids!C3)^2+((D4-Scaler!C4)/Scaler!D4-Centroids!D3)^2+((E4-Scaler!C5)/Scaler!D5-Centroids!E3)^2+((F4-Scaler!C6)/Scaler!D6-Centroids!F3)^2+((G4-Scaler!C7)/Scaler!D7-Centroids!G3)^2+((H4-Scaler!C8)/Scaler!D8-Centroids!H3)^2+((I4-Scaler!C9)/Scaler!D9-Centroids!I3)^2+((J4-Scaler!C10)/Scaler!D10-Centroids!J3)^2+((K4-Scaler!C11)/Scaler!D11-Centroids!K3)^2),SQRT(((B4-Scaler!C2)/Scaler!D2-Centroids!B4)^2+((C4-Scaler!C3)/Scaler!D3-Centroids!C4)^2+((D4-Scaler!C4)/Scaler!D4-Centroids!D4)^2+((E4-Scaler!C5)/Scaler!D5-Centroids!E4)^2+((F4-Scaler!C6)/Scaler!D6-Centroids!F4)^2+((G4-Scaler!C7)/Scaler!D7-Centroids!G4)^2+((H4-Scaler!C8)/Scaler!D8-Centroids!H4)^2+((I4-Scaler!C9)/Scaler!D9-Centroids!I4)^2+((J4-Scaler!C10)/Scaler!D10-Centroids!J4)^2+((K4-Scaler!C11)/Scaler!D11-Centroids!K4)^2),SQRT(((B4-Scaler!C2)/Scaler!D2-Centroids!B5)^2+((C4-Scaler!C3)/Scaler!D3-Centroids!C5)^2+((D4-Scaler!C4)/Scaler!D4-Centroids!D5)^2+((E4-Scaler!C5)/Scaler!D5-Centroids!E5)^2+((F4-Scaler!C6)/Scaler!D6-Centroids!F5)^2+((G4-Scaler!C7)/Scaler!D7-Centroids!G5)^2+((H4-Scaler!C8)/Scaler!D8-Centroids!H5)^2+((I4-Scaler!C9)/Scaler!D9-Centroids!I5)^2+((J4-Scaler!C10)/Scaler!D10-Centroids!J5)^2+((K4-Scaler!C11)/Scaler!D11-Centroids!K5)^2)),0,IF(SQRT(((B4-Scaler!C2)/Scaler!D2-Centroids!B3)^2+((C4-Scaler!C3)/Scaler!D3-Centroids!C3)^2+((D4-Scaler!C4)/Scaler!D4-Centroids!D3)^2+((E4-Scaler!C5)/Scaler!D5-Centroids!E3)^2+((F4-Scaler!C6)/Scaler!D6-Centroids!F3)^2+((G4-Scaler!C7)/Scaler!D7-Centroids!G3)^2+((H4-Scaler!C8)/Scaler!D8-Centroids!H3)^2+((I4-Scaler!C9)/Scaler!D9-Centroids!I3)^2+((J4-Scaler!C10)/Scaler!D10-Centroids!J3)^2+((K4-Scaler!C11)/Scaler!D11-Centroids!K3)^2)<=MIN(SQRT(((B4-Scaler!C2)/Scaler!D2-Centroids!B2)^2+((C4-Scaler!C3)/Scaler!D3-Centroids!C2)^2+((D4-Scaler!C4)/Scaler!D4-Centroids!D2)^2+((E4-Scaler!C5)/Scaler!D5-Centroids!E2)^2+((F4-Scaler!C6)/Scaler!D6-Centroids!F2)^2+((G4-Scaler!C7)/Scaler!D7-Centroids!G2)^2+((H4-Scaler!C8)/Scaler!D8-Centroids!H2)^2+((I4-Scaler!C9)/Scaler!D9-Centroids!I2)^2+((J4-Scaler!C10)/Scaler!D10-Centroids!J2)^2+((K4-Scaler!C11)/Scaler!D11-Centroids!K2)^2),SQRT(((B4-Scaler!C2)/Scaler!D2-Centroids!B4)^2+((C4-Scaler!C3)/Scaler!D3-Centroids!C4)^2+((D4-Scaler!C4)/Scaler!D4-Centroids!D4)^2+((E4-Scaler!C5)/Scaler!D5-Centroids!E4)^2+((F4-Scaler!C6)/Scaler!D6-Centroids!F4)^2+((G4-Scaler!C7)/Scaler!D7-Centroids!G4)^2+((H4-Scaler!C8)/Scaler!D8-Centroids!H4)^2+((I4-Scaler!C9)/Scaler!D9-Centroids!I4)^2+((J4-Scaler!C10)/Scaler!D10-Centroids!J4)^2+((K4-Scaler!C11)/Scaler!D11-Centroids!K4)^2),SQRT(((B4-Scaler!C2)/Scaler!D2-Centroids!B5)^2+((C4-Scaler!C3)/Scaler!D3-Centroids!C5)^2+((D4-Scaler!C4)/Scaler!D4-Centroids!D5)^2+((E4-Scaler!C5)/Scaler!D5-Centroids!E5)^2+((F4-Scaler!C6)/Scaler!D6-Centroids!F5)^2+((G4-Scaler!C7)/Scaler!D7-Centroids!G5)^2+((H4-Scaler!C8)/Scaler!D8-Centroids!H5)^2+((I4-Scaler!C9)/Scaler!D9-Centroids!I5)^2+((J4-Scaler!C10)/Scaler!D10-Centroids!J5)^2+((K4-Scaler!C11)/Scaler!D11-Centroids!K5)^2)),1,IF(SQRT(((B4-Scaler!C2)/Scaler!D2-Centroids!B4)^2+((C4-Scaler!C3)/Scaler!D3-Centroids!C4)^2+((D4-Scaler!C4)/Scaler!D4-Centroids!D4)^2+((E4-Scaler!C5)/Scaler!D5-Centroids!E4)^2+((F4-Scaler!C6)/Scaler!D6-Centroids!F4)^2+((G4-Scaler!C7)/Scaler!D7-Centroids!G4)^2+((H4-Scaler!C8)/Scaler!D8-Centroids!H4)^2+((I4-Scaler!C9)/Scaler!D9-Centroids!I4)^2+((J4-Scaler!C10)/Scaler!D10-Centroids!J4)^2+((K4-Scaler!C11)/Scaler!D11-Centroids!K4)^2)<=MIN(SQRT(((B4-Scaler!C2)/Scaler!D2-Centroids!B2)^2+((C4-Scaler!C3)/Scaler!D3-Centroids!C2)^2+((D4-Scaler!C4)/Scaler!D4-Centroids!D2)^2+((E4-Scaler!C5)/Scaler!D5-Centroids!E2)^2+((F4-Scaler!C6)/Scaler!D6-Centroids!F2)^2+((G4-Scaler!C7)/Scaler!D7-Centroids!G2)^2+((H4-Scaler!C8)/Scaler!D8-Centroids!H2)^2+((I4-Scaler!C9)/Scaler!D9-Centroids!I2)^2+((J4-Scaler!C10)/Scaler!D10-Centroids!J2)^2+((K4-Scaler!C11)/Scaler!D11-Centroids!K2)^2),SQRT(((B4-Scaler!C2)/Scaler!D2-Centroids!B3)^2+((C4-Scaler!C3)/Scaler!D3-Centroids!C3)^2+((D4-Scaler!C4)/Scaler!D4-Centroids!D3)^2+((E4-Scaler!C5)/Scaler!D5-Centroids!E3)^2+((F4-Scaler!C6)/Scaler!D6-Centroids!F3)^2+((G4-Scaler!C7)/Scaler!D7-Centroids!G3)^2+((H4-Scaler!C8)/Scaler!D8-Centroids!H3)^2+((I4-Scaler!C9)/Scaler!D9-Centroids!I3)^2+((J4-Scaler!C10)/Scaler!D10-Centroids!J3)^2+((K4-Scaler!C11)/Scaler!D11-Centroids!K3)^2),SQRT(((B4-Scaler!C2)/Scaler!D2-Centroids!B5)^2+((C4-Scaler!C3)/Scaler!D3-Centroids!C5)^2+((D4-Scaler!C4)/Scaler!D4-Centroids!D5)^2+((E4-Scaler!C5)/Scaler!D5-Centroids!E5)^2+((F4-Scaler!C6)/Scaler!D6-Centroids!F5)^2+((G4-Scaler!C7)/Scaler!D7-Centroids!G5)^2+((H4-Scaler!C8)/Scaler!D8-Centroids!H5)^2+((I4-Scaler!C9)/Scaler!D9-Centroids!I5)^2+((J4-Scaler!C10)/Scaler!D10-Centroids!J5)^2+((K4-Scaler!C11)/Scaler!D11-Centroids!K5)^2)),2,3)))) | M4: =IF(A4="","",VLOOKUP(L4,{0,"Performance Athletes";1,"Casual Walkers";2,"Sneakerheads";3,"Weekend Warriors"},2,FALSE())) | N4: =IF(A4="","","Scored")
L5: =IF(A5="","",IF(SQRT(((B5-Scaler!C2)/Scaler!D2-Centroids!B2)^2+((C5-Scaler!C3)/Scaler!D3-Centroids!C2)^2+((D5-Scaler!C4)/Scaler!D4-Centroids!D2)^2+((E5-Scaler!C5)/Scaler!D5-Centroids!E2)^2+((F5-Scaler!C6)/Scaler!D6-Centroids!F2)^2+((G5-Scaler!C7)/Scaler!D7-Centroids!G2)^2+((H5-Scaler!C8)/Scaler!D8-Centroids!H2)^2+((I5-Scaler!C9)/Scaler!D9-Centroids!I2)^2+((J5-Scaler!C10)/Scaler!D10-Centroids!J2)^2+((K5-Scaler!C11)/Scaler!D11-Centroids!K2)^2)<=MIN(SQRT(((B5-Scaler!C2)/Scaler!D2-Centroids!B3)^2+((C5-Scaler!C3)/Scaler!D3-Centroids!C3)^2+((D5-Scaler!C4)/Scaler!D4-Centroids!D3)^2+((E5-Scaler!C5)/Scaler!D5-Centroids!E3)^2+((F5-Scaler!C6)/Scaler!D6-Centroids!F3)^2+((G5-Scaler!C7)/Scaler!D7-Centroids!G3)^2+((H5-Scaler!C8)/Scaler!D8-Centroids!H3)^2+((I5-Scaler!C9)/Scaler!D9-Centroids!I3)^2+((J5-Scaler!C10)/Scaler!D10-Centroids!J3)^2+((K5-Scaler!C11)/Scaler!D11-Centroids!K3)^2),SQRT(((B5-Scaler!C2)/Scaler!D2-Centroids!B4)^2+((C5-Scaler!C3)/Scaler!D3-Centroids!C4)^2+((D5-Scaler!C4)/Scaler!D4-Centroids!D4)^2+((E5-Scaler!C5)/Scaler!D5-Centroids!E4)^2+((F5-Scaler!C6)/Scaler!D6-Centroids!F4)^2+((G5-Scaler!C7)/Scaler!D7-Centroids!G4)^2+((H5-Scaler!C8)/Scaler!D8-Centroids!H4)^2+((I5-Scaler!C9)/Scaler!D9-Centroids!I4)^2+((J5-Scaler!C10)/Scaler!D10-Centroids!J4)^2+((K5-Scaler!C11)/Scaler!D11-Centroids!K4)^2),SQRT(((B5-Scaler!C2)/Scaler!D2-Centroids!B5)^2+((C5-Scaler!C3)/Scaler!D3-Centroids!C5)^2+((D5-Scaler!C4)/Scaler!D4-Centroids!D5)^2+((E5-Scaler!C5)/Scaler!D5-Centroids!E5)^2+((F5-Scaler!C6)/Scaler!D6-Centroids!F5)^2+((G5-Scaler!C7)/Scaler!D7-Centroids!G5)^2+((H5-Scaler!C8)/Scaler!D8-Centroids!H5)^2+((I5-Scaler!C9)/Scaler!D9-Centroids!I5)^2+((J5-Scaler!C10)/Scaler!D10-Centroids!J5)^2+((K5-Scaler!C11)/Scaler!D11-Centroids!K5)^2)),0,IF(SQRT(((B5-Scaler!C2)/Scaler!D2-Centroids!B3)^2+((C5-Scaler!C3)/Scaler!D3-Centroids!C3)^2+((D5-Scaler!C4)/Scaler!D4-Centroids!D3)^2+((E5-Scaler!C5)/Scaler!D5-Centroids!E3)^2+((F5-Scaler!C6)/Scaler!D6-Centroids!F3)^2+((G5-Scaler!C7)/Scaler!D7-Centroids!G3)^2+((H5-Scaler!C8)/Scaler!D8-Centroids!H3)^2+((I5-Scaler!C9)/Scaler!D9-Centroids!I3)^2+((J5-Scaler!C10)/Scaler!D10-Centroids!J3)^2+((K5-Scaler!C11)/Scaler!D11-Centroids!K3)^2)<=MIN(SQRT(((B5-Scaler!C2)/Scaler!D2-Centroids!B2)^2+((C5-Scaler!C3)/Scaler!D3-Centroids!C2)^2+((D5-Scaler!C4)/Scaler!D4-Centroids!D2)^2+((E5-Scaler!C5)/Scaler!D5-Centroids!E2)^2+((F5-Scaler!C6)/Scaler!D6-Centroids!F2)^2+((G5-Scaler!C7)/Scaler!D7-Centroids!G2)^2+((H5-Scaler!C8)/Scaler!D8-Centroids!H2)^2+((I5-Scaler!C9)/Scaler!D9-Centroids!I2)^2+((J5-Scaler!C10)/Scaler!D10-Centroids!J2)^2+((K5-Scaler!C11)/Scaler!D11-Centroids!K2)^2),SQRT(((B5-Scaler!C2)/Scaler!D2-Centroids!B4)^2+((C5-Scaler!C3)/Scaler!D3-Centroids!C4)^2+((D5-Scaler!C4)/Scaler!D4-Centroids!D4)^2+((E5-Scaler!C5)/Scaler!D5-Centroids!E4)^2+((F5-Scaler!C6)/Scaler!D6-Centroids!F4)^2+((G5-Scaler!C7)/Scaler!D7-Centroids!G4)^2+((H5-Scaler!C8)/Scaler!D8-Centroids!H4)^2+((I5-Scaler!C9)/Scaler!D9-Centroids!I4)^2+((J5-Scaler!C10)/Scaler!D10-Centroids!J4)^2+((K5-Scaler!C11)/Scaler!D11-Centroids!K4)^2),SQRT(((B5-Scaler!C2)/Scaler!D2-Centroids!B5)^2+((C5-Scaler!C3)/Scaler!D3-Centroids!C5)^2+((D5-Scaler!C4)/Scaler!D4-Centroids!D5)^2+((E5-Scaler!C5)/Scaler!D5-Centroids!E5)^2+((F5-Scaler!C6)/Scaler!D6-Centroids!F5)^2+((G5-Scaler!C7)/Scaler!D7-Centroids!G5)^2+((H5-Scaler!C8)/Scaler!D8-Centroids!H5)^2+((I5-Scaler!C9)/Scaler!D9-Centroids!I5)^2+((J5-Scaler!C10)/Scaler!D10-Centroids!J5)^2+((K5-Scaler!C11)/Scaler!D11-Centroids!K5)^2)),1,IF(SQRT(((B5-Scaler!C2)/Scaler!D2-Centroids!B4)^2+((C5-Scaler!C3)/Scaler!D3-Centroids!C4)^2+((D5-Scaler!C4)/Scaler!D4-Centroids!D4)^2+((E5-Scaler!C5)/Scaler!D5-Centroids!E4)^2+((F5-Scaler!C6)/Scaler!D6-Centroids!F4)^2+((G5-Scaler!C7)/Scaler!D7-Centroids!G4)^2+((H5-Scaler!C8)/Scaler!D8-Centroids!H4)^2+((I5-Scaler!C9)/Scaler!D9-Centroids!I4)^2+((J5-Scaler!C10)/Scaler!D10-Centroids!J4)^2+((K5-Scaler!C11)/Scaler!D11-Centroids!K4)^2)<=MIN(SQRT(((B5-Scaler!C2)/Scaler!D2-Centroids!B2)^2+((C5-Scaler!C3)/Scaler!D3-Centroids!C2)^2+((D5-Scaler!C4)/Scaler!D4-Centroids!D2)^2+((E5-Scaler!C5)/Scaler!D5-Centroids!E2)^2+((F5-Scaler!C6)/Scaler!D6-Centroids!F2)^2+((G5-Scaler!C7)/Scaler!D7-Centroids!G2)^2+((H5-Scaler!C8)/Scaler!D8-Centroids!H2)^2+((I5-Scaler!C9)/Scaler!D9-Centroids!I2)^2+((J5-Scaler!C10)/Scaler!D10-Centroids!J2)^2+((K5-Scaler!C11)/Scaler!D11-Centroids!K2)^2),SQRT(((B5-Scaler!C2)/Scaler!D2-Centroids!B3)^2+((C5-Scaler!C3)/Scaler!D3-Centroids!C3)^2+((D5-Scaler!C4)/Scaler!D4-Centroids!D3)^2+((E5-Scaler!C5)/Scaler!D5-Centroids!E3)^2+((F5-Scaler!C6)/Scaler!D6-Centroids!F3)^2+((G5-Scaler!C7)/Scaler!D7-Centroids!G3)^2+((H5-Scaler!C8)/Scaler!D8-Centroids!H3)^2+((I5-Scaler!C9)/Scaler!D9-Centroids!I3)^2+((J5-Scaler!C10)/Scaler!D10-Centroids!J3)^2+((K5-Scaler!C11)/Scaler!D11-Centroids!K3)^2),SQRT(((B5-Scaler!C2)/Scaler!D2-Centroids!B5)^2+((C5-Scaler!C3)/Scaler!D3-Centroids!C5)^2+((D5-Scaler!C4)/Scaler!D4-Centroids!D5)^2+((E5-Scaler!C5)/Scaler!D5-Centroids!E5)^2+((F5-Scaler!C6)/Scaler!D6-Centroids!F5)^2+((G5-Scaler!C7)/Scaler!D7-Centroids!G5)^2+((H5-Scaler!C8)/Scaler!D8-Centroids!H5)^2+((I5-Scaler!C9)/Scaler!D9-Centroids!I5)^2+((J5-Scaler!C10)/Scaler!D10-Centroids!J5)^2+((K5-Scaler!C11)/Scaler!D11-Centroids!K5)^2)),2,3)))) | M5: =IF(A5="","",VLOOKUP(L5,{0,"Performance Athletes";1,"Casual Walkers";2,"Sneakerheads";3,"Weekend Warriors"},2,FALSE())) | N5: =IF(A5="","","Scored")
L6: =IF(A6="","",IF(SQRT(((B6-Scaler!C2)/Scaler!D2-Centroids!B2)^2+((C6-Scaler!C3)/Scaler!D3-Centroids!C2)^2+((D6-Scaler!C4)/Scaler!D4-Centroids!D2)^2+((E6-Scaler!C5)/Scaler!D5-Centroids!E2)^2+((F6-Scaler!C6)/Scaler!D6-Centroids!F2)^2+((G6-Scaler!C7)/Scaler!D7-Centroids!G2)^2+((H6-Scaler!C8)/Scaler!D8-Centroids!H2)^2+((I6-Scaler!C9)/Scaler!D9-Centroids!I2)^2+((J6-Scaler!C10)/Scaler!D10-Centroids!J2)^2+((K6-Scaler!C11)/Scaler!D11-Centroids!K2)^2)<=MIN(SQRT(((B6-Scaler!C2)/Scaler!D2-Centroids!B3)^2+((C6-Scaler!C3)/Scaler!D3-Centroids!C3)^2+((D6-Scaler!C4)/Scaler!D4-Centroids!D3)^2+((E6-Scaler!C5)/Scaler!D5-Centroids!E3)^2+((F6-Scaler!C6)/Scaler!D6-Centroids!F3)^2+((G6-Scaler!C7)/Scaler!D7-Centroids!G3)^2+((H6-Scaler!C8)/Scaler!D8-Centroids!H3)^2+((I6-Scaler!C9)/Scaler!D9-Centroids!I3)^2+((J6-Scaler!C10)/Scaler!D10-Centroids!J3)^2+((K6-Scaler!C11)/Scaler!D11-Centroids!K3)^2),SQRT(((B6-Scaler!C2)/Scaler!D2-Centroids!B4)^2+((C6-Scaler!C3)/Scaler!D3-Centroids!C4)^2+((D6-Scaler!C4)/Scaler!D4-Centroids!D4)^2+((E6-Scaler!C5)/Scaler!D5-Centroids!E4)^2+((F6-Scaler!C6)/Scaler!D6-Centroids!F4)^2+((G6-Scaler!C7)/Scaler!D7-Centroids!G4)^2+((H6-Scaler!C8)/Scaler!D8-Centroids!H4)^2+((I6-Scaler!C9)/Scaler!D9-Centroids!I4)^2+((J6-Scaler!C10)/Scaler!D10-Centroids!J4)^2+((K6-Scaler!C11)/Scaler!D11-Centroids!K4)^2),SQRT(((B6-Scaler!C2)/Scaler!D2-Centroids!B5)^2+((C6-Scaler!C3)/Scaler!D3-Centroids!C5)^2+((D6-Scaler!C4)/Scaler!D4-Centroids!D5)^2+((E6-Scaler!C5)/Scaler!D5-Centroids!E5)^2+((F6-Scaler!C6)/Scaler!D6-Centroids!F5)^2+((G6-Scaler!C7)/Scaler!D7-Centroids!G5)^2+((H6-Scaler!C8)/Scaler!D8-Centroids!H5)^2+((I6-Scaler!C9)/Scaler!D9-Centroids!I5)^2+((J6-Scaler!C10)/Scaler!D10-Centroids!J5)^2+((K6-Scaler!C11)/Scaler!D11-Centroids!K5)^2)),0,IF(SQRT(((B6-Scaler!C2)/Scaler!D2-Centroids!B3)^2+((C6-Scaler!C3)/Scaler!D3-Centroids!C3)^2+((D6-Scaler!C4)/Scaler!D4-Centroids!D3)^2+((E6-Scaler!C5)/Scaler!D5-Centroids!E3)^2+((F6-Scaler!C6)/Scaler!D6-Centroids!F3)^2+((G6-Scaler!C7)/Scaler!D7-Centroids!G3)^2+((H6-Scaler!C8)/Scaler!D8-Centroids!H3)^2+((I6-Scaler!C9)/Scaler!D9-Centroids!I3)^2+((J6-Scaler!C10)/Scaler!D10-Centroids!J3)^2+((K6-Scaler!C11)/Scaler!D11-Centroids!K3)^2)<=MIN(SQRT(((B6-Scaler!C2)/Scaler!D2-Centroids!B2)^2+((C6-Scaler!C3)/Scaler!D3-Centroids!C2)^2+((D6-Scaler!C4)/Scaler!D4-Centroids!D2)^2+((E6-Scaler!C5)/Scaler!D5-Centroids!E2)^2+((F6-Scaler!C6)/Scaler!D6-Centroids!F2)^2+((G6-Scaler!C7)/Scaler!D7-Centroids!G2)^2+((H6-Scaler!C8)/Scaler!D8-Centroids!H2)^2+((I6-Scaler!C9)/Scaler!D9-Centroids!I2)^2+((J6-Scaler!C10)/Scaler!D10-Centroids!J2)^2+((K6-Scaler!C11)/Scaler!D11-Centroids!K2)^2),SQRT(((B6-Scaler!C2)/Scaler!D2-Centroids!B4)^2+((C6-Scaler!C3)/Scaler!D3-Centroids!C4)^2+((D6-Scaler!C4)/Scaler!D4-Centroids!D4)^2+((E6-Scaler!C5)/Scaler!D5-Centroids!E4)^2+((F6-Scaler!C6)/Scaler!D6-Centroids!F4)^2+((G6-Scaler!C7)/Scaler!D7-Centroids!G4)^2+((H6-Scaler!C8)/Scaler!D8-Centroids!H4)^2+((I6-Scaler!C9)/Scaler!D9-Centroids!I4)^2+((J6-Scaler!C10)/Scaler!D10-Centroids!J4)^2+((K6-Scaler!C11)/Scaler!D11-Centroids!K4)^2),SQRT(((B6-Scaler!C2)/Scaler!D2-Centroids!B5)^2+((C6-Scaler!C3)/Scaler!D3-Centroids!C5)^2+((D6-Scaler!C4)/Scaler!D4-Centroids!D5)^2+((E6-Scaler!C5)/Scaler!D5-Centroids!E5)^2+((F6-Scaler!C6)/Scaler!D6-Centroids!F5)^2+((G6-Scaler!C7)/Scaler!D7-Centroids!G5)^2+((H6-Scaler!C8)/Scaler!D8-Centroids!H5)^2+((I6-Scaler!C9)/Scaler!D9-Centroids!I5)^2+((J6-Scaler!C10)/Scaler!D10-Centroids!J5)^2+((K6-Scaler!C11)/Scaler!D11-Centroids!K5)^2)),1,IF(SQRT(((B6-Scaler!C2)/Scaler!D2-Centroids!B4)^2+((C6-Scaler!C3)/Scaler!D3-Centroids!C4)^2+((D6-Scaler!C4)/Scaler!D4-Centroids!D4)^2+((E6-Scaler!C5)/Scaler!D5-Centroids!E4)^2+((F6-Scaler!C6)/Scaler!D6-Centroids!F4)^2+((G6-Scaler!C7)/Scaler!D7-Centroids!G4)^2+((H6-Scaler!C8)/Scaler!D8-Centroids!H4)^2+((I6-Scaler!C9)/Scaler!D9-Centroids!I4)^2+((J6-Scaler!C10)/Scaler!D10-Centroids!J4)^2+((K6-Scaler!C11)/Scaler!D11-Centroids!K4)^2)<=MIN(SQRT(((B6-Scaler!C2)/Scaler!D2-Centroids!B2)^2+((C6-Scaler!C3)/Scaler!D3-Centroids!C2)^2+((D6-Scaler!C4)/Scaler!D4-Centroids!D2)^2+((E6-Scaler!C5)/Scaler!D5-Centroids!E2)^2+((F6-Scaler!C6)/Scaler!D6-Centroids!F2)^2+((G6-Scaler!C7)/Scaler!D7-Centroids!G2)^2+((H6-Scaler!C8)/Scaler!D8-Centroids!H2)^2+((I6-Scaler!C9)/Scaler!D9-Centroids!I2)^2+((J6-Scaler!C10)/Scaler!D10-Centroids!J2)^2+((K6-Scaler!C11)/Scaler!D11-Centroids!K2)^2),SQRT(((B6-Scaler!C2)/Scaler!D2-Centroids!B3)^2+((C6-Scaler!C3)/Scaler!D3-Centroids!C3)^2+((D6-Scaler!C4)/Scaler!D4-Centroids!D3)^2+((E6-Scaler!C5)/Scaler!D5-Centroids!E3)^2+((F6-Scaler!C6)/Scaler!D6-Centroids!F3)^2+((G6-Scaler!C7)/Scaler!D7-Centroids!G3)^2+((H6-Scaler!C8)/Scaler!D8-Centroids!H3)^2+((I6-Scaler!C9)/Scaler!D9-Centroids!I3)^2+((J6-Scaler!C10)/Scaler!D10-Centroids!J3)^2+((K6-Scaler!C11)/Scaler!D11-Centroids!K3)^2),SQRT(((B6-Scaler!C2)/Scaler!D2-Centroids!B5)^2+((C6-Scaler!C3)/Scaler!D3-Centroids!C5)^2+((D6-Scaler!C4)/Scaler!D4-Centroids!D5)^2+((E6-Scaler!C5)/Scaler!D5-Centroids!E5)^2+((F6-Scaler!C6)/Scaler!D6-Centroids!F5)^2+((G6-Scaler!C7)/Scaler!D7-Centroids!G5)^2+((H6-Scaler!C8)/Scaler!D8-Centroids!H5)^2+((I6-Scaler!C9)/Scaler!D9-Centroids!I5)^2+((J6-Scaler!C10)/Scaler!D10-Centroids!J5)^2+((K6-Scaler!C11)/Scaler!D11-Centroids!K5)^2)),2,3)))) | M6: =IF(A6="","",VLOOKUP(L6,{0,"Performance Athletes";1,"Casual Walkers";2,"Sneakerheads";3,"Weekend Warriors"},2,FALSE())) | N6: =IF(A6="","","Scored")
L7: =IF(A7="","",IF(SQRT(((B7-Scaler!C2)/Scaler!D2-Centroids!B2)^2+((C7-Scaler!C3)/Scaler!D3-Centroids!C2)^2+((D7-Scaler!C4)/Scaler!D4-Centroids!D2)^2+((E7-Scaler!C5)/Scaler!D5-Centroids!E2)^2+((F7-Scaler!C6)/Scaler!D6-Centroids!F2)^2+((G7-Scaler!C7)/Scaler!D7-Centroids!G2)^2+((H7-Scaler!C8)/Scaler!D8-Centroids!H2)^2+((I7-Scaler!C9)/Scaler!D9-Centroids!I2)^2+((J7-Scaler!C10)/Scaler!D10-Centroids!J2)^2+((K7-Scaler!C11)/Scaler!D11-Centroids!K2)^2)<=MIN(SQRT(((B7-Scaler!C2)/Scaler!D2-Centroids!B3)^2+((C7-Scaler!C3)/Scaler!D3-Centroids!C3)^2+((D7-Scaler!C4)/Scaler!D4-Centroids!D3)^2+((E7-Scaler!C5)/Scaler!D5-Centroids!E3)^2+((F7-Scaler!C6)/Scaler!D6-Centroids!F3)^2+((G7-Scaler!C7)/Scaler!D7-Centroids!G3)^2+((H7-Scaler!C8)/Scaler!D8-Centroids!H3)^2+((I7-Scaler!C9)/Scaler!D9-Centroids!I3)^2+((J7-Scaler!C10)/Scaler!D10-Centroids!J3)^2+((K7-Scaler!C11)/Scaler!D11-Centroids!K3)^2),SQRT(((B7-Scaler!C2)/Scaler!D2-Centroids!B4)^2+((C7-Scaler!C3)/Scaler!D3-Centroids!C4)^2+((D7-Scaler!C4)/Scaler!D4-Centroids!D4)^2+((E7-Scaler!C5)/Scaler!D5-Centroids!E4)^2+((F7-Scaler!C6)/Scaler!D6-Centroids!F4)^2+((G7-Scaler!C7)/Scaler!D7-Centroids!G4)^2+((H7-Scaler!C8)/Scaler!D8-Centroids!H4)^2+((I7-Scaler!C9)/Scaler!D9-Centroids!I4)^2+((J7-Scaler!C10)/Scaler!D10-Centroids!J4)^2+((K7-Scaler!C11)/Scaler!D11-Centroids!K4)^2),SQRT(((B7-Scaler!C2)/Scaler!D2-Centroids!B5)^2+((C7-Scaler!C3)/Scaler!D3-Centroids!C5)^2+((D7-Scaler!C4)/Scaler!D4-Centroids!D5)^2+((E7-Scaler!C5)/Scaler!D5-Centroids!E5)^2+((F7-Scaler!C6)/Scaler!D6-Centroids!F5)^2+((G7-Scaler!C7)/Scaler!D7-Centroids!G5)^2+((H7-Scaler!C8)/Scaler!D8-Centroids!H5)^2+((I7-Scaler!C9)/Scaler!D9-Centroids!I5)^2+((J7-Scaler!C10)/Scaler!D10-Centroids!J5)^2+((K7-Scaler!C11)/Scaler!D11-Centroids!K5)^2)),0,IF(SQRT(((B7-Scaler!C2)/Scaler!D2-Centroids!B3)^2+((C7-Scaler!C3)/Scaler!D3-Centroids!C3)^2+((D7-Scaler!C4)/Scaler!D4-Centroids!D3)^2+((E7-Scaler!C5)/Scaler!D5-Centroids!E3)^2+((F7-Scaler!C6)/Scaler!D6-Centroids!F3)^2+((G7-Scaler!C7)/Scaler!D7-Centroids!G3)^2+((H7-Scaler!C8)/Scaler!D8-Centroids!H3)^2+((I7-Scaler!C9)/Scaler!D9-Centroids!I3)^2+((J7-Scaler!C10)/Scaler!D10-Centroids!J3)^2+((K7-Scaler!C11)/Scaler!D11-Centroids!K3)^2)<=MIN(SQRT(((B7-Scaler!C2)/Scaler!D2-Centroids!B2)^2+((C7-Scaler!C3)/Scaler!D3-Centroids!C2)^2+((D7-Scaler!C4)/Scaler!D4-Centroids!D2)^2+((E7-Scaler!C5)/Scaler!D5-Centroids!E2)^2+((F7-Scaler!C6)/Scaler!D6-Centroids!F2)^2+((G7-Scaler!C7)/Scaler!D7-Centroids!G2)^2+((H7-Scaler!C8)/Scaler!D8-Centroids!H2)^2+((I7-Scaler!C9)/Scaler!D9-Centroids!I2)^2+((J7-Scaler!C10)/Scaler!D10-Centroids!J2)^2+((K7-Scaler!C11)/Scaler!D11-Centroids!K2)^2),SQRT(((B7-Scaler!C2)/Scaler!D2-Centroids!B4)^2+((C7-Scaler!C3)/Scaler!D3-Centroids!C4)^2+((D7-Scaler!C4)/Scaler!D4-Centroids!D4)^2+((E7-Scaler!C5)/Scaler!D5-Centroids!E4)^2+((F7-Scaler!C6)/Scaler!D6-Centroids!F4)^2+((G7-Scaler!C7)/Scaler!D7-Centroids!G4)^2+((H7-Scaler!C8)/Scaler!D8-Centroids!H4)^2+((I7-Scaler!C9)/Scaler!D9-Centroids!I4)^2+((J7-Scaler!C10)/Scaler!D10-Centroids!J4)^2+((K7-Scaler!C11)/Scaler!D11-Centroids!K4)^2),SQRT(((B7-Scaler!C2)/Scaler!D2-Centroids!B5)^2+((C7-Scaler!C3)/Scaler!D3-Centroids!C5)^2+((D7-Scaler!C4)/Scaler!D4-Centroids!D5)^2+((E7-Scaler!C5)/Scaler!D5-Centroids!E5)^2+((F7-Scaler!C6)/Scaler!D6-Centroids!F5)^2+((G7-Scaler!C7)/Scaler!D7-Centroids!G5)^2+((H7-Scaler!C8)/Scaler!D8-Centroids!H5)^2+((I7-Scaler!C9)/Scaler!D9-Centroids!I5)^2+((J7-Scaler!C10)/Scaler!D10-Centroids!J5)^2+((K7-Scaler!C11)/Scaler!D11-Centroids!K5)^2)),1,IF(SQRT(((B7-Scaler!C2)/Scaler!D2-Centroids!B4)^2+((C7-Scaler!C3)/Scaler!D3-Centroids!C4)^2+((D7-Scaler!C4)/Scaler!D4-Centroids!D4)^2+((E7-Scaler!C5)/Scaler!D5-Centroids!E4)^2+((F7-Scaler!C6)/Scaler!D6-Centroids!F4)^2+((G7-Scaler!C7)/Scaler!D7-Centroids!G4)^2+((H7-Scaler!C8)/Scaler!D8-Centroids!H4)^2+((I7-Scaler!C9)/Scaler!D9-Centroids!I4)^2+((J7-Scaler!C10)/Scaler!D10-Centroids!J4)^2+((K7-Scaler!C11)/Scaler!D11-Centroids!K4)^2)<=MIN(SQRT(((B7-Scaler!C2)/Scaler!D2-Centroids!B2)^2+((C7-Scaler!C3)/Scaler!D3-Centroids!C2)^2+((D7-Scaler!C4)/Scaler!D4-Centroids!D2)^2+((E7-Scaler!C5)/Scaler!D5-Centroids!E2)^2+((F7-Scaler!C6)/Scaler!D6-Centroids!F2)^2+((G7-Scaler!C7)/Scaler!D7-Centroids!G2)^2+((H7-Scaler!C8)/Scaler!D8-Centroids!H2)^2+((I7-Scaler!C9)/Scaler!D9-Centroids!I2)^2+((J7-Scaler!C10)/Scaler!D10-Centroids!J2)^2+((K7-Scaler!C11)/Scaler!D11-Centroids!K2)^2),SQRT(((B7-Scaler!C2)/Scaler!D2-Centroids!B3)^2+((C7-Scaler!C3)/Scaler!D3-Centroids!C3)^2+((D7-Scaler!C4)/Scaler!D4-Centroids!D3)^2+((E7-Scaler!C5)/Scaler!D5-Centroids!E3)^2+((F7-Scaler!C6)/Scaler!D6-Centroids!F3)^2+((G7-Scaler!C7)/Scaler!D7-Centroids!G3)^2+((H7-Scaler!C8)/Scaler!D8-Centroids!H3)^2+((I7-Scaler!C9)/Scaler!D9-Centroids!I3)^2+((J7-Scaler!C10)/Scaler!D10-Centroids!J3)^2+((K7-Scaler!C11)/Scaler!D11-Centroids!K3)^2),SQRT(((B7-Scaler!C2)/Scaler!D2-Centroids!B5)^2+((C7-Scaler!C3)/Scaler!D3-Centroids!C5)^2+((D7-Scaler!C4)/Scaler!D4-Centroids!D5)^2+((E7-Scaler!C5)/Scaler!D5-Centroids!E5)^2+((F7-Scaler!C6)/Scaler!D6-Centroids!F5)^2+((G7-Scaler!C7)/Scaler!D7-Centroids!G5)^2+((H7-Scaler!C8)/Scaler!D8-Centroids!H5)^2+((I7-Scaler!C9)/Scaler!D9-Centroids!I5)^2+((J7-Scaler!C10)/Scaler!D10-Centroids!J5)^2+((K7-Scaler!C11)/Scaler!D11-Centroids!K5)^2)),2,3)))) | M7: =IF(A7="","",VLOOKUP(L7,{0,"Performance Athletes";1,"Casual Walkers";2,"Sneakerheads";3,"Weekend Warriors"},2,FALSE())) | N7: =IF(A7="","","Scored")
L8: =IF(A8="","",IF(SQRT(((B8-Scaler!C2)/Scaler!D2-Centroids!B2)^2+((C8-Scaler!C3)/Scaler!D3-Centroids!C2)^2+((D8-Scaler!C4)/Scaler!D4-Centroids!D2)^2+((E8-Scaler!C5)/Scaler!D5-Centroids!E2)^2+((F8-Scaler!C6)/Scaler!D6-Centroids!F2)^2+((G8-Scaler!C7)/Scaler!D7-Centroids!G2)^2+((H8-Scaler!C8)/Scaler!D8-Centroids!H2)^2+((I8-Scaler!C9)/Scaler!D9-Centroids!I2)^2+((J8-Scaler!C10)/Scaler!D10-Centroids!J2)^2+((K8-Scaler!C11)/Scaler!D11-Centroids!K2)^2)<=MIN(SQRT(((B8-Scaler!C2)/Scaler!D2-Centroids!B3)^2+((C8-Scaler!C3)/Scaler!D3-Centroids!C3)^2+((D8-Scaler!C4)/Scaler!D4-Centroids!D3)^2+((E8-Scaler!C5)/Scaler!D5-Centroids!E3)^2+((F8-Scaler!C6)/Scaler!D6-Centroids!F3)^2+((G8-Scaler!C7)/Scaler!D7-Centroids!G3)^2+((H8-Scaler!C8)/Scaler!D8-Centroids!H3)^2+((I8-Scaler!C9)/Scaler!D9-Centroids!I3)^2+((J8-Scaler!C10)/Scaler!D10-Centroids!J3)^2+((K8-Scaler!C11)/Scaler!D11-Centroids!K3)^2),SQRT(((B8-Scaler!C2)/Scaler!D2-Centroids!B4)^2+((C8-Scaler!C3)/Scaler!D3-Centroids!C4)^2+((D8-Scaler!C4)/Scaler!D4-Centroids!D4)^2+((E8-Scaler!C5)/Scaler!D5-Centroids!E4)^2+((F8-Scaler!C6)/Scaler!D6-Centroids!F4)^2+((G8-Scaler!C7)/Scaler!D7-Centroids!G4)^2+((H8-Scaler!C8)/Scaler!D8-Centroids!H4)^2+((I8-Scaler!C9)/Scaler!D9-Centroids!I4)^2+((J8-Scaler!C10)/Scaler!D10-Centroids!J4)^2+((K8-Scaler!C11)/Scaler!D11-Centroids!K4)^2),SQRT(((B8-Scaler!C2)/Scaler!D2-Centroids!B5)^2+((C8-Scaler!C3)/Scaler!D3-Centroids!C5)^2+((D8-Scaler!C4)/Scaler!D4-Centroids!D5)^2+((E8-Scaler!C5)/Scaler!D5-Centroids!E5)^2+((F8-Scaler!C6)/Scaler!D6-Centroids!F5)^2+((G8-Scaler!C7)/Scaler!D7-Centroids!G5)^2+((H8-Scaler!C8)/Scaler!D8-Centroids!H5)^2+((I8-Scaler!C9)/Scaler!D9-Centroids!I5)^2+((J8-Scaler!C10)/Scaler!D10-Centroids!J5)^2+((K8-Scaler!C11)/Scaler!D11-Centroids!K5)^2)),0,IF(SQRT(((B8-Scaler!C2)/Scaler!D2-Centroids!B3)^2+((C8-Scaler!C3)/Scaler!D3-Centroids!C3)^2+((D8-Scaler!C4)/Scaler!D4-Centroids!D3)^2+((E8-Scaler!C5)/Scaler!D5-Centroids!E3)^2+((F8-Scaler!C6)/Scaler!D6-Centroids!F3)^2+((G8-Scaler!C7)/Scaler!D7-Centroids!G3)^2+((H8-Scaler!C8)/Scaler!D8-Centroids!H3)^2+((I8-Scaler!C9)/Scaler!D9-Centroids!I3)^2+((J8-Scaler!C10)/Scaler!D10-Centroids!J3)^2+((K8-Scaler!C11)/Scaler!D11-Centroids!K3)^2)<=MIN(SQRT(((B8-Scaler!C2)/Scaler!D2-Centroids!B2)^2+((C8-Scaler!C3)/Scaler!D3-Centroids!C2)^2+((D8-Scaler!C4)/Scaler!D4-Centroids!D2)^2+((E8-Scaler!C5)/Scaler!D5-Centroids!E2)^2+((F8-Scaler!C6)/Scaler!D6-Centroids!F2)^2+((G8-Scaler!C7)/Scaler!D7-Centroids!G2)^2+((H8-Scaler!C8)/Scaler!D8-Centroids!H2)^2+((I8-Scaler!C9)/Scaler!D9-Centroids!I2)^2+((J8-Scaler!C10)/Scaler!D10-Centroids!J2)^2+((K8-Scaler!C11)/Scaler!D11-Centroids!K2)^2),SQRT(((B8-Scaler!C2)/Scaler!D2-Centroids!B4)^2+((C8-Scaler!C3)/Scaler!D3-Centroids!C4)^2+((D8-Scaler!C4)/Scaler!D4-Centroids!D4)^2+((E8-Scaler!C5)/Scaler!D5-Centroids!E4)^2+((F8-Scaler!C6)/Scaler!D6-Centroids!F4)^2+((G8-Scaler!C7)/Scaler!D7-Centroids!G4)^2+((H8-Scaler!C8)/Scaler!D8-Centroids!H4)^2+((I8-Scaler!C9)/Scaler!D9-Centroids!I4)^2+((J8-Scaler!C10)/Scaler!D10-Centroids!J4)^2+((K8-Scaler!C11)/Scaler!D11-Centroids!K4)^2),SQRT(((B8-Scaler!C2)/Scaler!D2-Centroids!B5)^2+((C8-Scaler!C3)/Scaler!D3-Centroids!C5)^2+((D8-Scaler!C4)/Scaler!D4-Centroids!D5)^2+((E8-Scaler!C5)/Scaler!D5-Centroids!E5)^2+((F8-Scaler!C6)/Scaler!D6-Centroids!F5)^2+((G8-Scaler!C7)/Scaler!D7-Centroids!G5)^2+((H8-Scaler!C8)/Scaler!D8-Centroids!H5)^2+((I8-Scaler!C9)/Scaler!D9-Centroids!I5)^2+((J8-Scaler!C10)/Scaler!D10-Centroids!J5)^2+((K8-Scaler!C11)/Scaler!D11-Centroids!K5)^2)),1,IF(SQRT(((B8-Scaler!C2)/Scaler!D2-Centroids!B4)^2+((C8-Scaler!C3)/Scaler!D3-Centroids!C4)^2+((D8-Scaler!C4)/Scaler!D4-Centroids!D4)^2+((E8-Scaler!C5)/Scaler!D5-Centroids!E4)^2+((F8-Scaler!C6)/Scaler!D6-Centroids!F4)^2+((G8-Scaler!C7)/Scaler!D7-Centroids!G4)^2+((H8-Scaler!C8)/Scaler!D8-Centroids!H4)^2+((I8-Scaler!C9)/Scaler!D9-Centroids!I4)^2+((J8-Scaler!C10)/Scaler!D10-Centroids!J4)^2+((K8-Scaler!C11)/Scaler!D11-Centroids!K4)^2)<=MIN(SQRT(((B8-Scaler!C2)/Scaler!D2-Centroids!B2)^2+((C8-Scaler!C3)/Scaler!D3-Centroids!C2)^2+((D8-Scaler!C4)/Scaler!D4-Centroids!D2)^2+((E8-Scaler!C5)/Scaler!D5-Centroids!E2)^2+((F8-Scaler!C6)/Scaler!D6-Centroids!F2)^2+((G8-Scaler!C7)/Scaler!D7-Centroids!G2)^2+((H8-Scaler!C8)/Scaler!D8-Centroids!H2)^2+((I8-Scaler!C9)/Scaler!D9-Centroids!I2)^2+((J8-Scaler!C10)/Scaler!D10-Centroids!J2)^2+((K8-Scaler!C11)/Scaler!D11-Centroids!K2)^2),SQRT(((B8-Scaler!C2)/Scaler!D2-Centroids!B3)^2+((C8-Scaler!C3)/Scaler!D3-Centroids!C3)^2+((D8-Scaler!C4)/Scaler!D4-Centroids!D3)^2+((E8-Scaler!C5)/Scaler!D5-Centroids!E3)^2+((F8-Scaler!C6)/Scaler!D6-Centroids!F3)^2+((G8-Scaler!C7)/Scaler!D7-Centroids!G3)^2+((H8-Scaler!C8)/Scaler!D8-Centroids!H3)^2+((I8-Scaler!C9)/Scaler!D9-Centroids!I3)^2+((J8-Scaler!C10)/Scaler!D10-Centroids!J3)^2+((K8-Scaler!C11)/Scaler!D11-Centroids!K3)^2),SQRT(((B8-Scaler!C2)/Scaler!D2-Centroids!B5)^2+((C8-Scaler!C3)/Scaler!D3-Centroids!C5)^2+((D8-Scaler!C4)/Scaler!D4-Centroids!D5)^2+((E8-Scaler!C5)/Scaler!D5-Centroids!E5)^2+((F8-Scaler!C6)/Scaler!D6-Centroids!F5)^2+((G8-Scaler!C7)/Scaler!D7-Centroids!G5)^2+((H8-Scaler!C8)/Scaler!D8-Centroids!H5)^2+((I8-Scaler!C9)/Scaler!D9-Centroids!I5)^2+((J8-Scaler!C10)/Scaler!D10-Centroids!J5)^2+((K8-Scaler!C11)/Scaler!D11-Centroids!K5)^2)),2,3)))) | M8: =IF(A8="","",VLOOKUP(L8,{0,"Performance Athletes";1,"Casual Walkers";2,"Sneakerheads";3,"Weekend Warriors"},2,FALSE())) | N8: =IF(A8="","","Scored")
L9: =IF(A9="","",IF(SQRT(((B9-Scaler!C2)/Scaler!D2-Centroids!B2)^2+((C9-Scaler!C3)/Scaler!D3-Centroids!C2)^2+((D9-Scaler!C4)/Scaler!D4-Centroids!D2)^2+((E9-Scaler!C5)/Scaler!D5-Centroids!E2)^2+((F9-Scaler!C6)/Scaler!D6-Centroids!F2)^2+((G9-Scaler!C7)/Scaler!D7-Centroids!G2)^2+((H9-Scaler!C8)/Scaler!D8-Centroids!H2)^2+((I9-Scaler!C9)/Scaler!D9-Centroids!I2)^2+((J9-Scaler!C10)/Scaler!D10-Centroids!J2)^2+((K9-Scaler!C11)/Scaler!D11-Centroids!K2)^2)<=MIN(SQRT(((B9-Scaler!C2)/Scaler!D2-Centroids!B3)^2+((C9-Scaler!C3)/Scaler!D3-Centroids!C3)^2+((D9-Scaler!C4)/Scaler!D4-Centroids!D3)^2+((E9-Scaler!C5)/Scaler!D5-Centroids!E3)^2+((F9-Scaler!C6)/Scaler!D6-Centroids!F3)^2+((G9-Scaler!C7)/Scaler!D7-Centroids!G3)^2+((H9-Scaler!C8)/Scaler!D8-Centroids!H3)^2+((I9-Scaler!C9)/Scaler!D9-Centroids!I3)^2+((J9-Scaler!C10)/Scaler!D10-Centroids!J3)^2+((K9-Scaler!C11)/Scaler!D11-Centroids!K3)^2),SQRT(((B9-Scaler!C2)/Scaler!D2-Centroids!B4)^2+((C9-Scaler!C3)/Scaler!D3-Centroids!C4)^2+((D9-Scaler!C4)/Scaler!D4-Centroids!D4)^2+((E9-Scaler!C5)/Scaler!D5-Centroids!E4)^2+((F9-Scaler!C6)/Scaler!D6-Centroids!F4)^2+((G9-Scaler!C7)/Scaler!D7-Centroids!G4)^2+((H9-Scaler!C8)/Scaler!D8-Centroids!H4)^2+((I9-Scaler!C9)/Scaler!D9-Centroids!I4)^2+((J9-Scaler!C10)/Scaler!D10-Centroids!J4)^2+((K9-Scaler!C11)/Scaler!D11-Centroids!K4)^2),SQRT(((B9-Scaler!C2)/Scaler!D2-Centroids!B5)^2+((C9-Scaler!C3)/Scaler!D3-Centroids!C5)^2+((D9-Scaler!C4)/Scaler!D4-Centroids!D5)^2+((E9-Scaler!C5)/Scaler!D5-Centroids!E5)^2+((F9-Scaler!C6)/Scaler!D6-Centroids!F5)^2+((G9-Scaler!C7)/Scaler!D7-Centroids!G5)^2+((H9-Scaler!C8)/Scaler!D8-Centroids!H5)^2+((I9-Scaler!C9)/Scaler!D9-Centroids!I5)^2+((J9-Scaler!C10)/Scaler!D10-Centroids!J5)^2+((K9-Scaler!C11)/Scaler!D11-Centroids!K5)^2)),0,IF(SQRT(((B9-Scaler!C2)/Scaler!D2-Centroids!B3)^2+((C9-Scaler!C3)/Scaler!D3-Centroids!C3)^2+((D9-Scaler!C4)/Scaler!D4-Centroids!D3)^2+((E9-Scaler!C5)/Scaler!D5-Centroids!E3)^2+((F9-Scaler!C6)/Scaler!D6-Centroids!F3)^2+((G9-Scaler!C7)/Scaler!D7-Centroids!G3)^2+((H9-Scaler!C8)/Scaler!D8-Centroids!H3)^2+((I9-Scaler!C9)/Scaler!D9-Centroids!I3)^2+((J9-Scaler!C10)/Scaler!D10-Centroids!J3)^2+((K9-Scaler!C11)/Scaler!D11-Centroids!K3)^2)<=MIN(SQRT(((B9-Scaler!C2)/Scaler!D2-Centroids!B2)^2+((C9-Scaler!C3)/Scaler!D3-Centroids!C2)^2+((D9-Scaler!C4)/Scaler!D4-Centroids!D2)^2+((E9-Scaler!C5)/Scaler!D5-Centroids!E2)^2+((F9-Scaler!C6)/Scaler!D6-Centroids!F2)^2+((G9-Scaler!C7)/Scaler!D7-Centroids!G2)^2+((H9-Scaler!C8)/Scaler!D8-Centroids!H2)^2+((I9-Scaler!C9)/Scaler!D9-Centroids!I2)^2+((J9-Scaler!C10)/Scaler!D10-Centroids!J2)^2+((K9-Scaler!C11)/Scaler!D11-Centroids!K2)^2),SQRT(((B9-Scaler!C2)/Scaler!D2-Centroids!B4)^2+((C9-Scaler!C3)/Scaler!D3-Centroids!C4)^2+((D9-Scaler!C4)/Scaler!D4-Centroids!D4)^2+((E9-Scaler!C5)/Scaler!D5-Centroids!E4)^2+((F9-Scaler!C6)/Scaler!D6-Centroids!F4)^2+((G9-Scaler!C7)/Scaler!D7-Centroids!G4)^2+((H9-Scaler!C8)/Scaler!D8-Centroids!H4)^2+((I9-Scaler!C9)/Scaler!D9-Centroids!I4)^2+((J9-Scaler!C10)/Scaler!D10-Centroids!J4)^2+((K9-Scaler!C11)/Scaler!D11-Centroids!K4)^2),SQRT(((B9-Scaler!C2)/Scaler!D2-Centroids!B5)^2+((C9-Scaler!C3)/Scaler!D3-Centroids!C5)^2+((D9-Scaler!C4)/Scaler!D4-Centroids!D5)^2+((E9-Scaler!C5)/Scaler!D5-Centroids!E5)^2+((F9-Scaler!C6)/Scaler!D6-Centroids!F5)^2+((G9-Scaler!C7)/Scaler!D7-Centroids!G5)^2+((H9-Scaler!C8)/Scaler!D8-Centroids!H5)^2+((I9-Scaler!C9)/Scaler!D9-Centroids!I5)^2+((J9-Scaler!C10)/Scaler!D10-Centroids!J5)^2+((K9-Scaler!C11)/Scaler!D11-Centroids!K5)^2)),1,IF(SQRT(((B9-Scaler!C2)/Scaler!D2-Centroids!B4)^2+((C9-Scaler!C3)/Scaler!D3-Centroids!C4)^2+((D9-Scaler!C4)/Scaler!D4-Centroids!D4)^2+((E9-Scaler!C5)/Scaler!D5-Centroids!E4)^2+((F9-Scaler!C6)/Scaler!D6-Centroids!F4)^2+((G9-Scaler!C7)/Scaler!D7-Centroids!G4)^2+((H9-Scaler!C8)/Scaler!D8-Centroids!H4)^2+((I9-Scaler!C9)/Scaler!D9-Centroids!I4)^2+((J9-Scaler!C10)/Scaler!D10-Centroids!J4)^2+((K9-Scaler!C11)/Scaler!D11-Centroids!K4)^2)<=MIN(SQRT(((B9-Scaler!C2)/Scaler!D2-Centroids!B2)^2+((C9-Scaler!C3)/Scaler!D3-Centroids!C2)^2+((D9-Scaler!C4)/Scaler!D4-Centroids!D2)^2+((E9-Scaler!C5)/Scaler!D5-Centroids!E2)^2+((F9-Scaler!C6)/Scaler!D6-Centroids!F2)^2+((G9-Scaler!C7)/Scaler!D7-Centroids!G2)^2+((H9-Scaler!C8)/Scaler!D8-Centroids!H2)^2+((I9-Scaler!C9)/Scaler!D9-Centroids!I2)^2+((J9-Scaler!C10)/Scaler!D10-Centroids!J2)^2+((K9-Scaler!C11)/Scaler!D11-Centroids!K2)^2),SQRT(((B9-Scaler!C2)/Scaler!D2-Centroids!B3)^2+((C9-Scaler!C3)/Scaler!D3-Centroids!C3)^2+((D9-Scaler!C4)/Scaler!D4-Centroids!D3)^2+((E9-Scaler!C5)/Scaler!D5-Centroids!E3)^2+((F9-Scaler!C6)/Scaler!D6-Centroids!F3)^2+((G9-Scaler!C7)/Scaler!D7-Centroids!G3)^2+((H9-Scaler!C8)/Scaler!D8-Centroids!H3)^2+((I9-Scaler!C9)/Scaler!D9-Centroids!I3)^2+((J9-Scaler!C10)/Scaler!D10-Centroids!J3)^2+((K9-Scaler!C11)/Scaler!D11-Centroids!K3)^2),SQRT(((B9-Scaler!C2)/Scaler!D2-Centroids!B5)^2+((C9-Scaler!C3)/Scaler!D3-Centroids!C5)^2+((D9-Scaler!C4)/Scaler!D4-Centroids!D5)^2+((E9-Scaler!C5)/Scaler!D5-Centroids!E5)^2+((F9-Scaler!C6)/Scaler!D6-Centroids!F5)^2+((G9-Scaler!C7)/Scaler!D7-Centroids!G5)^2+((H9-Scaler!C8)/Scaler!D8-Centroids!H5)^2+((I9-Scaler!C9)/Scaler!D9-Centroids!I5)^2+((J9-Scaler!C10)/Scaler!D10-Centroids!J5)^2+((K9-Scaler!C11)/Scaler!D11-Centroids!K5)^2)),2,3)))) | M9: =IF(A9="","",VLOOKUP(L9,{0,"Performance Athletes";1,"Casual Walkers";2,"Sneakerheads";3,"Weekend Warriors"},2,FALSE())) | N9: =IF(A9="","","Scored")
L10: =IF(A10="","",IF(SQRT(((B10-Scaler!C2)/Scaler!D2-Centroids!B2)^2+((C10-Scaler!C3)/Scaler!D3-Centroids!C2)^2+((D10-Scaler!C4)/Scaler!D4-Centroids!D2)^2+((E10-Scaler!C5)/Scaler!D5-Centroids!E2)^2+((F10-Scaler!C6)/Scaler!D6-Centroids!F2)^2+((G10-Scaler!C7)/Scaler!D7-Centroids!G2)^2+((H10-Scaler!C8)/Scaler!D8-Centroids!H2)^2+((I10-Scaler!C9)/Scaler!D9-Centroids!I2)^2+((J10-Scaler!C10)/Scaler!D10-Centroids!J2)^2+((K10-Scaler!C11)/Scaler!D11-Centroids!K2)^2)<=MIN(SQRT(((B10-Scaler!C2)/Scaler!D2-Centroids!B3)^2+((C10-Scaler!C3)/Scaler!D3-Centroids!C3)^2+((D10-Scaler!C4)/Scaler!D4-Centroids!D3)^2+((E10-Scaler!C5)/Scaler!D5-Centroids!E3)^2+((F10-Scaler!C6)/Scaler!D6-Centroids!F3)^2+((G10-Scaler!C7)/Scaler!D7-Centroids!G3)^2+((H10-Scaler!C8)/Scaler!D8-Centroids!H3)^2+((I10-Scaler!C9)/Scaler!D9-Centroids!I3)^2+((J10-Scaler!C10)/Scaler!D10-Centroids!J3)^2+((K10-Scaler!C11)/Scaler!D11-Centroids!K3)^2),SQRT(((B10-Scaler!C2)/Scaler!D2-Centroids!B4)^2+((C10-Scaler!C3)/Scaler!D3-Centroids!C4)^2+((D10-Scaler!C4)/Scaler!D4-Centroids!D4)^2+((E10-Scaler!C5)/Scaler!D5-Centroids!E4)^2+((F10-Scaler!C6)/Scaler!D6-Centroids!F4)^2+((G10-Scaler!C7)/Scaler!D7-Centroids!G4)^2+((H10-Scaler!C8)/Scaler!D8-Centroids!H4)^2+((I10-Scaler!C9)/Scaler!D9-Centroids!I4)^2+((J10-Scaler!C10)/Scaler!D10-Centroids!J4)^2+((K10-Scaler!C11)/Scaler!D11-Centroids!K4)^2),SQRT(((B10-Scaler!C2)/Scaler!D2-Centroids!B5)^2+((C10-Scaler!C3)/Scaler!D3-Centroids!C5)^2+((D10-Scaler!C4)/Scaler!D4-Centroids!D5)^2+((E10-Scaler!C5)/Scaler!D5-Centroids!E5)^2+((F10-Scaler!C6)/Scaler!D6-Centroids!F5)^2+((G10-Scaler!C7)/Scaler!D7-Centroids!G5)^2+((H10-Scaler!C8)/Scaler!D8-Centroids!H5)^2+((I10-Scaler!C9)/Scaler!D9-Centroids!I5)^2+((J10-Scaler!C10)/Scaler!D10-Centroids!J5)^2+((K10-Scaler!C11)/Scaler!D11-Centroids!K5)^2)),0,IF(SQRT(((B10-Scaler!C2)/Scaler!D2-Centroids!B3)^2+((C10-Scaler!C3)/Scaler!D3-Centroids!C3)^2+((D10-Scaler!C4)/Scaler!D4-Centroids!D3)^2+((E10-Scaler!C5)/Scaler!D5-Centroids!E3)^2+((F10-Scaler!C6)/Scaler!D6-Centroids!F3)^2+((G10-Scaler!C7)/Scaler!D7-Centroids!G3)^2+((H10-Scaler!C8)/Scaler!D8-Centroids!H3)^2+((I10-Scaler!C9)/Scaler!D9-Centroids!I3)^2+((J10-Scaler!C10)/Scaler!D10-Centroids!J3)^2+((K10-Scaler!C11)/Scaler!D11-Centroids!K3)^2)<=MIN(SQRT(((B10-Scaler!C2)/Scaler!D2-Centroids!B2)^2+((C10-Scaler!C3)/Scaler!D3-Centroids!C2)^2+((D10-Scaler!C4)/Scaler!D4-Centroids!D2)^2+((E10-Scaler!C5)/Scaler!D5-Centroids!E2)^2+((F10-Scaler!C6)/Scaler!D6-Centroids!F2)^2+((G10-Scaler!C7)/Scaler!D7-Centroids!G2)^2+((H10-Scaler!C8)/Scaler!D8-Centroids!H2)^2+((I10-Scaler!C9)/Scaler!D9-Centroids!I2)^2+((J10-Scaler!C10)/Scaler!D10-Centroids!J2)^2+((K10-Scaler!C11)/Scaler!D11-Centroids!K2)^2),SQRT(((B10-Scaler!C2)/Scaler!D2-Centroids!B4)^2+((C10-Scaler!C3)/Scaler!D3-Centroids!C4)^2+((D10-Scaler!C4)/Scaler!D4-Centroids!D4)^2+((E10-Scaler!C5)/Scaler!D5-Centroids!E4)^2+((F10-Scaler!C6)/Scaler!D6-Centroids!F4)^2+((G10-Scaler!C7)/Scaler!D7-Centroids!G4)^2+((H10-Scaler!C8)/Scaler!D8-Centroids!H4)^2+((I10-Scaler!C9)/Scaler!D9-Centroids!I4)^2+((J10-Scaler!C10)/Scaler!D10-Centroids!J4)^2+((K10-Scaler!C11)/Scaler!D11-Centroids!K4)^2),SQRT(((B10-Scaler!C2)/Scaler!D2-Centroids!B5)^2+((C10-Scaler!C3)/Scaler!D3-Centroids!C5)^2+((D10-Scaler!C4)/Scaler!D4-Centroids!D5)^2+((E10-Scaler!C5)/Scaler!D5-Centroids!E5)^2+((F10-Scaler!C6)/Scaler!D6-Centroids!F5)^2+((G10-Scaler!C7)/Scaler!D7-Centroids!G5)^2+((H10-Scaler!C8)/Scaler!D8-Centroids!H5)^2+((I10-Scaler!C9)/Scaler!D9-Centroids!I5)^2+((J10-Scaler!C10)/Scaler!D10-Centroids!J5)^2+((K10-Scaler!C11)/Scaler!D11-Centroids!K5)^2)),1,IF(SQRT(((B10-Scaler!C2)/Scaler!D2-Centroids!B4)^2+((C10-Scaler!C3)/Scaler!D3-Centroids!C4)^2+((D10-Scaler!C4)/Scaler!D4-Centroids!D4)^2+((E10-Scaler!C5)/Scaler!D5-Centroids!E4)^2+((F10-Scaler!C6)/Scaler!D6-Centroids!F4)^2+((G10-Scaler!C7)/Scaler!D7-Centroids!G4)^2+((H10-Scaler!C8)/Scaler!D8-Centroids!H4)^2+((I10-Scaler!C9)/Scaler!D9-Centroids!I4)^2+((J10-Scaler!C10)/Scaler!D10-Centroids!J4)^2+((K10-Scaler!C11)/Scaler!D11-Centroids!K4)^2)<=MIN(SQRT(((B10-Scaler!C2)/Scaler!D2-Centroids!B2)^2+((C10-Scaler!C3)/Scaler!D3-Centroids!C2)^2+((D10-Scaler!C4)/Scaler!D4-Centroids!D2)^2+((E10-Scaler!C5)/Scaler!D5-Centroids!E2)^2+((F10-Scaler!C6)/Scaler!D6-Centroids!F2)^2+((G10-Scaler!C7)/Scaler!D7-Centroids!G2)^2+((H10-Scaler!C8)/Scaler!D8-Centroids!H2)^2+((I10-Scaler!C9)/Scaler!D9-Centroids!I2)^2+((J10-Scaler!C10)/Scaler!D10-Centroids!J2)^2+((K10-Scaler!C11)/Scaler!D11-Centroids!K2)^2),SQRT(((B10-Scaler!C2)/Scaler!D2-Centroids!B3)^2+((C10-Scaler!C3)/Scaler!D3-Centroids!C3)^2+((D10-Scaler!C4)/Scaler!D4-Centroids!D3)^2+((E10-Scaler!C5)/Scaler!D5-Centroids!E3)^2+((F10-Scaler!C6)/Scaler!D6-Centroids!F3)^2+((G10-Scaler!C7)/Scaler!D7-Centroids!G3)^2+((H10-Scaler!C8)/Scaler!D8-Centroids!H3)^2+((I10-Scaler!C9)/Scaler!D9-Centroids!I3)^2+((J10-Scaler!C10)/Scaler!D10-Centroids!J3)^2+((K10-Scaler!C11)/Scaler!D11-Centroids!K3)^2),SQRT(((B10-Scaler!C2)/Scaler!D2-Centroids!B5)^2+((C10-Scaler!C3)/Scaler!D3-Centroids!C5)^2+((D10-Scaler!C4)/Scaler!D4-Centroids!D5)^2+((E10-Scaler!C5)/Scaler!D5-Centroids!E5)^2+((F10-Scaler!C6)/Scaler!D6-Centroids!F5)^2+((G10-Scaler!C7)/Scaler!D7-Centroids!G5)^2+((H10-Scaler!C8)/Scaler!D8-Centroids!H5)^2+((I10-Scaler!C9)/Scaler!D9-Centroids!I5)^2+((J10-Scaler!C10)/Scaler!D10-Centroids!J5)^2+((K10-Scaler!C11)/Scaler!D11-Centroids!K5)^2)),2,3)))) | M10: =IF(A10="","",VLOOKUP(L10,{0,"Performance Athletes";1,"Casual Walkers";2,"Sneakerheads";3,"Weekend Warriors"},2,FALSE())) | N10: =IF(A10="","","Scored")
L11: =IF(A11="","",IF(SQRT(((B11-Scaler!C2)/Scaler!D2-Centroids!B2)^2+((C11-Scaler!C3)/Scaler!D3-Centroids!C2)^2+((D11-Scaler!C4)/Scaler!D4-Centroids!D2)^2+((E11-Scaler!C5)/Scaler!D5-Centroids!E2)^2+((F11-Scaler!C6)/Scaler!D6-Centroids!F2)^2+((G11-Scaler!C7)/Scaler!D7-Centroids!G2)^2+((H11-Scaler!C8)/Scaler!D8-Centroids!H2)^2+((I11-Scaler!C9)/Scaler!D9-Centroids!I2)^2+((J11-Scaler!C10)/Scaler!D10-Centroids!J2)^2+((K11-Scaler!C11)/Scaler!D11-Centroids!K2)^2)<=MIN(SQRT(((B11-Scaler!C2)/Scaler!D2-Centroids!B3)^2+((C11-Scaler!C3)/Scaler!D3-Centroids!C3)^2+((D11-Scaler!C4)/Scaler!D4-Centroids!D3)^2+((E11-Scaler!C5)/Scaler!D5-Centroids!E3)^2+((F11-Scaler!C6)/Scaler!D6-Centroids!F3)^2+((G11-Scaler!C7)/Scaler!D7-Centroids!G3)^2+((H11-Scaler!C8)/Scaler!D8-Centroids!H3)^2+((I11-Scaler!C9)/Scaler!D9-Centroids!I3)^2+((J11-Scaler!C10)/Scaler!D10-Centroids!J3)^2+((K11-Scaler!C11)/Scaler!D11-Centroids!K3)^2),SQRT(((B11-Scaler!C2)/Scaler!D2-Centroids!B4)^2+((C11-Scaler!C3)/Scaler!D3-Centroids!C4)^2+((D11-Scaler!C4)/Scaler!D4-Centroids!D4)^2+((E11-Scaler!C5)/Scaler!D5-Centroids!E4)^2+((F11-Scaler!C6)/Scaler!D6-Centroids!F4)^2+((G11-Scaler!C7)/Scaler!D7-Centroids!G4)^2+((H11-Scaler!C8)/Scaler!D8-Centroids!H4)^2+((I11-Scaler!C9)/Scaler!D9-Centroids!I4)^2+((J11-Scaler!C10)/Scaler!D10-Centroids!J4)^2+((K11-Scaler!C11)/Scaler!D11-Centroids!K4)^2),SQRT(((B11-Scaler!C2)/Scaler!D2-Centroids!B5)^2+((C11-Scaler!C3)/Scaler!D3-Centroids!C5)^2+((D11-Scaler!C4)/Scaler!D4-Centroids!D5)^2+((E11-Scaler!C5)/Scaler!D5-Centroids!E5)^2+((F11-Scaler!C6)/Scaler!D6-Centroids!F5)^2+((G11-Scaler!C7)/Scaler!D7-Centroids!G5)^2+((H11-Scaler!C8)/Scaler!D8-Centroids!H5)^2+((I11-Scaler!C9)/Scaler!D9-Centroids!I5)^2+((J11-Scaler!C10)/Scaler!D10-Centroids!J5)^2+((K11-Scaler!C11)/Scaler!D11-Centroids!K5)^2)),0,IF(SQRT(((B11-Scaler!C2)/Scaler!D2-Centroids!B3)^2+((C11-Scaler!C3)/Scaler!D3-Centroids!C3)^2+((D11-Scaler!C4)/Scaler!D4-Centroids!D3)^2+((E11-Scaler!C5)/Scaler!D5-Centroids!E3)^2+((F11-Scaler!C6)/Scaler!D6-Centroids!F3)^2+((G11-Scaler!C7)/Scaler!D7-Centroids!G3)^2+((H11-Scaler!C8)/Scaler!D8-Centroids!H3)^2+((I11-Scaler!C9)/Scaler!D9-Centroids!I3)^2+((J11-Scaler!C10)/Scaler!D10-Centroids!J3)^2+((K11-Scaler!C11)/Scaler!D11-Centroids!K3)^2)<=MIN(SQRT(((B11-Scaler!C2)/Scaler!D2-Centroids!B2)^2+((C11-Scaler!C3)/Scaler!D3-Centroids!C2)^2+((D11-Scaler!C4)/Scaler!D4-Centroids!D2)^2+((E11-Scaler!C5)/Scaler!D5-Centroids!E2)^2+((F11-Scaler!C6)/Scaler!D6-Centroids!F2)^2+((G11-Scaler!C7)/Scaler!D7-Centroids!G2)^2+((H11-Scaler!C8)/Scaler!D8-Centroids!H2)^2+((I11-Scaler!C9)/Scaler!D9-Centroids!I2)^2+((J11-Scaler!C10)/Scaler!D10-Centroids!J2)^2+((K11-Scaler!C11)/Scaler!D11-Centroids!K2)^2),SQRT(((B11-Scaler!C2)/Scaler!D2-Centroids!B4)^2+((C11-Scaler!C3)/Scaler!D3-Centroids!C4)^2+((D11-Scaler!C4)/Scaler!D4-Centroids!D4)^2+((E11-Scaler!C5)/Scaler!D5-Centroids!E4)^2+((F11-Scaler!C6)/Scaler!D6-Centroids!F4)^2+((G11-Scaler!C7)/Scaler!D7-Centroids!G4)^2+((H11-Scaler!C8)/Scaler!D8-Centroids!H4)^2+((I11-Scaler!C9)/Scaler!D9-Centroids!I4)^2+((J11-Scaler!C10)/Scaler!D10-Centroids!J4)^2+((K11-Scaler!C11)/Scaler!D11-Centroids!K4)^2),SQRT(((B11-Scaler!C2)/Scaler!D2-Centroids!B5)^2+((C11-Scaler!C3)/Scaler!D3-Centroids!C5)^2+((D11-Scaler!C4)/Scaler!D4-Centroids!D5)^2+((E11-Scaler!C5)/Scaler!D5-Centroids!E5)^2+((F11-Scaler!C6)/Scaler!D6-Centroids!F5)^2+((G11-Scaler!C7)/Scaler!D7-Centroids!G5)^2+((H11-Scaler!C8)/Scaler!D8-Centroids!H5)^2+((I11-Scaler!C9)/Scaler!D9-Centroids!I5)^2+((J11-Scaler!C10)/Scaler!D10-Centroids!J5)^2+((K11-Scaler!C11)/Scaler!D11-Centroids!K5)^2)),1,IF(SQRT(((B11-Scaler!C2)/Scaler!D2-Centroids!B4)^2+((C11-Scaler!C3)/Scaler!D3-Centroids!C4)^2+((D11-Scaler!C4)/Scaler!D4-Centroids!D4)^2+((E11-Scaler!C5)/Scaler!D5-Centroids!E4)^2+((F11-Scaler!C6)/Scaler!D6-Centroids!F4)^2+((G11-Scaler!C7)/Scaler!D7-Centroids!G4)^2+((H11-Scaler!C8)/Scaler!D8-Centroids!H4)^2+((I11-Scaler!C9)/Scaler!D9-Centroids!I4)^2+((J11-Scaler!C10)/Scaler!D10-Centroids!J4)^2+((K11-Scaler!C11)/Scaler!D11-Centroids!K4)^2)<=MIN(SQRT(((B11-Scaler!C2)/Scaler!D2-Centroids!B2)^2+((C11-Scaler!C3)/Scaler!D3-Centroids!C2)^2+((D11-Scaler!C4)/Scaler!D4-Centroids!D2)^2+((E11-Scaler!C5)/Scaler!D5-Centroids!E2)^2+((F11-Scaler!C6)/Scaler!D6-Centroids!F2)^2+((G11-Scaler!C7)/Scaler!D7-Centroids!G2)^2+((H11-Scaler!C8)/Scaler!D8-Centroids!H2)^2+((I11-Scaler!C9)/Scaler!D9-Centroids!I2)^2+((J11-Scaler!C10)/Scaler!D10-Centroids!J2)^2+((K11-Scaler!C11)/Scaler!D11-Centroids!K2)^2),SQRT(((B11-Scaler!C2)/Scaler!D2-Centroids!B3)^2+((C11-Scaler!C3)/Scaler!D3-Centroids!C3)^2+((D11-Scaler!C4)/Scaler!D4-Centroids!D3)^2+((E11-Scaler!C5)/Scaler!D5-Centroids!E3)^2+((F11-Scaler!C6)/Scaler!D6-Centroids!F3)^2+((G11-Scaler!C7)/Scaler!D7-Centroids!G3)^2+((H11-Scaler!C8)/Scaler!D8-Centroids!H3)^2+((I11-Scaler!C9)/Scaler!D9-Centroids!I3)^2+((J11-Scaler!C10)/Scaler!D10-Centroids!J3)^2+((K11-Scaler!C11)/Scaler!D11-Centroids!K3)^2),SQRT(((B11-Scaler!C2)/Scaler!D2-Centroids!B5)^2+((C11-Scaler!C3)/Scaler!D3-Centroids!C5)^2+((D11-Scaler!C4)/Scaler!D4-Centroids!D5)^2+((E11-Scaler!C5)/Scaler!D5-Centroids!E5)^2+((F11-Scaler!C6)/Scaler!D6-Centroids!F5)^2+((G11-Scaler!C7)/Scaler!D7-Centroids!G5)^2+((H11-Scaler!C8)/Scaler!D8-Centroids!H5)^2+((I11-Scaler!C9)/Scaler!D9-Centroids!I5)^2+((J11-Scaler!C10)/Scaler!D10-Centroids!J5)^2+((K11-Scaler!C11)/Scaler!D11-Centroids!K5)^2)),2,3)))) | M11: =IF(A11="","",VLOOKUP(L11,{0,"Performance Athletes";1,"Casual Walkers";2,"Sneakerheads";3,"Weekend Warriors"},2,FALSE())) | N11: =IF(A11="","","Scored")
L12: =IF(A12="","",IF(SQRT(((B12-Scaler!C2)/Scaler!D2-Centroids!B2)^2+((C12-Scaler!C3)/Scaler!D3-Centroids!C2)^2+((D12-Scaler!C4)/Scaler!D4-Centroids!D2)^2+((E12-Scaler!C5)/Scaler!D5-Centroids!E2)^2+((F12-Scaler!C6)/Scaler!D6-Centroids!F2)^2+((G12-Scaler!C7)/Scaler!D7-Centroids!G2)^2+((H12-Scaler!C8)/Scaler!D8-Centroids!H2)^2+((I12-Scaler!C9)/Scaler!D9-Centroids!I2)^2+((J12-Scaler!C10)/Scaler!D10-Centroids!J2)^2+((K12-Scaler!C11)/Scaler!D11-Centroids!K2)^2)<=MIN(SQRT(((B12-Scaler!C2)/Scaler!D2-Centroids!B3)^2+((C12-Scaler!C3)/Scaler!D3-Centroids!C3)^2+((D12-Scaler!C4)/Scaler!D4-Centroids!D3)^2+((E12-Scaler!C5)/Scaler!D5-Centroids!E3)^2+((F12-Scaler!C6)/Scaler!D6-Centroids!F3)^2+((G12-Scaler!C7)/Scaler!D7-Centroids!G3)^2+((H12-Scaler!C8)/Scaler!D8-Centroids!H3)^2+((I12-Scaler!C9)/Scaler!D9-Centroids!I3)^2+((J12-Scaler!C10)/Scaler!D10-Centroids!J3)^2+((K12-Scaler!C11)/Scaler!D11-Centroids!K3)^2),SQRT(((B12-Scaler!C2)/Scaler!D2-Centroids!B4)^2+((C12-Scaler!C3)/Scaler!D3-Centroids!C4)^2+((D12-Scaler!C4)/Scaler!D4-Centroids!D4)^2+((E12-Scaler!C5)/Scaler!D5-Centroids!E4)^2+((F12-Scaler!C6)/Scaler!D6-Centroids!F4)^2+((G12-Scaler!C7)/Scaler!D7-Centroids!G4)^2+((H12-Scaler!C8)/Scaler!D8-Centroids!H4)^2+((I12-Scaler!C9)/Scaler!D9-Centroids!I4)^2+((J12-Scaler!C10)/Scaler!D10-Centroids!J4)^2+((K12-Scaler!C11)/Scaler!D11-Centroids!K4)^2),SQRT(((B12-Scaler!C2)/Scaler!D2-Centroids!B5)^2+((C12-Scaler!C3)/Scaler!D3-Centroids!C5)^2+((D12-Scaler!C4)/Scaler!D4-Centroids!D5)^2+((E12-Scaler!C5)/Scaler!D5-Centroids!E5)^2+((F12-Scaler!C6)/Scaler!D6-Centroids!F5)^2+((G12-Scaler!C7)/Scaler!D7-Centroids!G5)^2+((H12-Scaler!C8)/Scaler!D8-Centroids!H5)^2+((I12-Scaler!C9)/Scaler!D9-Centroids!I5)^2+((J12-Scaler!C10)/Scaler!D10-Centroids!J5)^2+((K12-Scaler!C11)/Scaler!D11-Centroids!K5)^2)),0,IF(SQRT(((B12-Scaler!C2)/Scaler!D2-Centroids!B3)^2+((C12-Scaler!C3)/Scaler!D3-Centroids!C3)^2+((D12-Scaler!C4)/Scaler!D4-Centroids!D3)^2+((E12-Scaler!C5)/Scaler!D5-Centroids!E3)^2+((F12-Scaler!C6)/Scaler!D6-Centroids!F3)^2+((G12-Scaler!C7)/Scaler!D7-Centroids!G3)^2+((H12-Scaler!C8)/Scaler!D8-Centroids!H3)^2+((I12-Scaler!C9)/Scaler!D9-Centroids!I3)^2+((J12-Scaler!C10)/Scaler!D10-Centroids!J3)^2+((K12-Scaler!C11)/Scaler!D11-Centroids!K3)^2)<=MIN(SQRT(((B12-Scaler!C2)/Scaler!D2-Centroids!B2)^2+((C12-Scaler!C3)/Scaler!D3-Centroids!C2)^2+((D12-Scaler!C4)/Scaler!D4-Centroids!D2)^2+((E12-Scaler!C5)/Scaler!D5-Centroids!E2)^2+((F12-Scaler!C6)/Scaler!D6-Centroids!F2)^2+((G12-Scaler!C7)/Scaler!D7-Centroids!G2)^2+((H12-Scaler!C8)/Scaler!D8-Centroids!H2)^2+((I12-Scaler!C9)/Scaler!D9-Centroids!I2)^2+((J12-Scaler!C10)/Scaler!D10-Centroids!J2)^2+((K12-Scaler!C11)/Scaler!D11-Centroids!K2)^2),SQRT(((B12-Scaler!C2)/Scaler!D2-Centroids!B4)^2+((C12-Scaler!C3)/Scaler!D3-Centroids!C4)^2+((D12-Scaler!C4)/Scaler!D4-Centroids!D4)^2+((E12-Scaler!C5)/Scaler!D5-Centroids!E4)^2+((F12-Scaler!C6)/Scaler!D6-Centroids!F4)^2+((G12-Scaler!C7)/Scaler!D7-Centroids!G4)^2+((H12-Scaler!C8)/Scaler!D8-Centroids!H4)^2+((I12-Scaler!C9)/Scaler!D9-Centroids!I4)^2+((J12-Scaler!C10)/Scaler!D10-Centroids!J4)^2+((K12-Scaler!C11)/Scaler!D11-Centroids!K4)^2),SQRT(((B12-Scaler!C2)/Scaler!D2-Centroids!B5)^2+((C12-Scaler!C3)/Scaler!D3-Centroids!C5)^2+((D12-Scaler!C4)/Scaler!D4-Centroids!D5)^2+((E12-Scaler!C5)/Scaler!D5-Centroids!E5)^2+((F12-Scaler!C6)/Scaler!D6-Centroids!F5)^2+((G12-Scaler!C7)/Scaler!D7-Centroids!G5)^2+((H12-Scaler!C8)/Scaler!D8-Centroids!H5)^2+((I12-Scaler!C9)/Scaler!D9-Centroids!I5)^2+((J12-Scaler!C10)/Scaler!D10-Centroids!J5)^2+((K12-Scaler!C11)/Scaler!D11-Centroids!K5)^2)),1,IF(SQRT(((B12-Scaler!C2)/Scaler!D2-Centroids!B4)^2+((C12-Scaler!C3)/Scaler!D3-Centroids!C4)^2+((D12-Scaler!C4)/Scaler!D4-Centroids!D4)^2+((E12-Scaler!C5)/Scaler!D5-Centroids!E4)^2+((F12-Scaler!C6)/Scaler!D6-Centroids!F4)^2+((G12-Scaler!C7)/Scaler!D7-Centroids!G4)^2+((H12-Scaler!C8)/Scaler!D8-Centroids!H4)^2+((I12-Scaler!C9)/Scaler!D9-Centroids!I4)^2+((J12-Scaler!C10)/Scaler!D10-Centroids!J4)^2+((K12-Scaler!C11)/Scaler!D11-Centroids!K4)^2)<=MIN(SQRT(((B12-Scaler!C2)/Scaler!D2-Centroids!B2)^2+((C12-Scaler!C3)/Scaler!D3-Centroids!C2)^2+((D12-Scaler!C4)/Scaler!D4-Centroids!D2)^2+((E12-Scaler!C5)/Scaler!D5-Centroids!E2)^2+((F12-Scaler!C6)/Scaler!D6-Centroids!F2)^2+((G12-Scaler!C7)/Scaler!D7-Centroids!G2)^2+((H12-Scaler!C8)/Scaler!D8-Centroids!H2)^2+((I12-Scaler!C9)/Scaler!D9-Centroids!I2)^2+((J12-Scaler!C10)/Scaler!D10-Centroids!J2)^2+((K12-Scaler!C11)/Scaler!D11-Centroids!K2)^2),SQRT(((B12-Scaler!C2)/Scaler!D2-Centroids!B3)^2+((C12-Scaler!C3)/Scaler!D3-Centroids!C3)^2+((D12-Scaler!C4)/Scaler!D4-Centroids!D3)^2+((E12-Scaler!C5)/Scaler!D5-Centroids!E3)^2+((F12-Scaler!C6)/Scaler!D6-Centroids!F3)^2+((G12-Scaler!C7)/Scaler!D7-Centroids!G3)^2+((H12-Scaler!C8)/Scaler!D8-Centroids!H3)^2+((I12-Scaler!C9)/Scaler!D9-Centroids!I3)^2+((J12-Scaler!C10)/Scaler!D10-Centroids!J3)^2+((K12-Scaler!C11)/Scaler!D11-Centroids!K3)^2),SQRT(((B12-Scaler!C2)/Scaler!D2-Centroids!B5)^2+((C12-Scaler!C3)/Scaler!D3-Centroids!C5)^2+((D12-Scaler!C4)/Scaler!D4-Centroids!D5)^2+((E12-Scaler!C5)/Scaler!D5-Centroids!E5)^2+((F12-Scaler!C6)/Scaler!D6-Centroids!F5)^2+((G12-Scaler!C7)/Scaler!D7-Centroids!G5)^2+((H12-Scaler!C8)/Scaler!D8-Centroids!H5)^2+((I12-Scaler!C9)/Scaler!D9-Centroids!I5)^2+((J12-Scaler!C10)/Scaler!D10-Centroids!J5)^2+((K12-Scaler!C11)/Scaler!D11-Centroids!K5)^2)),2,3)))) | M12: =IF(A12="","",VLOOKUP(L12,{0,"Performance Athletes";1,"Casual Walkers";2,"Sneakerheads";3,"Weekend Warriors"},2,FALSE())) | N12: =IF(A12="","","Scored")
L13: =IF(A13="","",IF(SQRT(((B13-Scaler!C2)/Scaler!D2-Centroids!B2)^2+((C13-Scaler!C3)/Scaler!D3-Centroids!C2)^2+((D13-Scaler!C4)/Scaler!D4-Centroids!D2)^2+((E13-Scaler!C5)/Scaler!D5-Centroids!E2)^2+((F13-Scaler!C6)/Scaler!D6-Centroids!F2)^2+((G13-Scaler!C7)/Scaler!D7-Centroids!G2)^2+((H13-Scaler!C8)/Scaler!D8-Centroids!H2)^2+((I13-Scaler!C9)/Scaler!D9-Centroids!I2)^2+((J13-Scaler!C10)/Scaler!D10-Centroids!J2)^2+((K13-Scaler!C11)/Scaler!D11-Centroids!K2)^2)<=MIN(SQRT(((B13-Scaler!C2)/Scaler!D2-Centroids!B3)^2+((C13-Scaler!C3)/Scaler!D3-Centroids!C3)^2+((D13-Scaler!C4)/Scaler!D4-Centroids!D3)^2+((E13-Scaler!C5)/Scaler!D5-Centroids!E3)^2+((F13-Scaler!C6)/Scaler!D6-Centroids!F3)^2+((G13-Scaler!C7)/Scaler!D7-Centroids!G3)^2+((H13-Scaler!C8)/Scaler!D8-Centroids!H3)^2+((I13-Scaler!C9)/Scaler!D9-Centroids!I3)^2+((J13-Scaler!C10)/Scaler!D10-Centroids!J3)^2+((K13-Scaler!C11)/Scaler!D11-Centroids!K3)^2),SQRT(((B13-Scaler!C2)/Scaler!D2-Centroids!B4)^2+((C13-Scaler!C3)/Scaler!D3-Centroids!C4)^2+((D13-Scaler!C4)/Scaler!D4-Centroids!D4)^2+((E13-Scaler!C5)/Scaler!D5-Centroids!E4)^2+((F13-Scaler!C6)/Scaler!D6-Centroids!F4)^2+((G13-Scaler!C7)/Scaler!D7-Centroids!G4)^2+((H13-Scaler!C8)/Scaler!D8-Centroids!H4)^2+((I13-Scaler!C9)/Scaler!D9-Centroids!I4)^2+((J13-Scaler!C10)/Scaler!D10-Centroids!J4)^2+((K13-Scaler!C11)/Scaler!D11-Centroids!K4)^2),SQRT(((B13-Scaler!C2)/Scaler!D2-Centroids!B5)^2+((C13-Scaler!C3)/Scaler!D3-Centroids!C5)^2+((D13-Scaler!C4)/Scaler!D4-Centroids!D5)^2+((E13-Scaler!C5)/Scaler!D5-Centroids!E5)^2+((F13-Scaler!C6)/Scaler!D6-Centroids!F5)^2+((G13-Scaler!C7)/Scaler!D7-Centroids!G5)^2+((H13-Scaler!C8)/Scaler!D8-Centroids!H5)^2+((I13-Scaler!C9)/Scaler!D9-Centroids!I5)^2+((J13-Scaler!C10)/Scaler!D10-Centroids!J5)^2+((K13-Scaler!C11)/Scaler!D11-Centroids!K5)^2)),0,IF(SQRT(((B13-Scaler!C2)/Scaler!D2-Centroids!B3)^2+((C13-Scaler!C3)/Scaler!D3-Centroids!C3)^2+((D13-Scaler!C4)/Scaler!D4-Centroids!D3)^2+((E13-Scaler!C5)/Scaler!D5-Centroids!E3)^2+((F13-Scaler!C6)/Scaler!D6-Centroids!F3)^2+((G13-Scaler!C7)/Scaler!D7-Centroids!G3)^2+((H13-Scaler!C8)/Scaler!D8-Centroids!H3)^2+((I13-Scaler!C9)/Scaler!D9-Centroids!I3)^2+((J13-Scaler!C10)/Scaler!D10-Centroids!J3)^2+((K13-Scaler!C11)/Scaler!D11-Centroids!K3)^2)<=MIN(SQRT(((B13-Scaler!C2)/Scaler!D2-Centroids!B2)^2+((C13-Scaler!C3)/Scaler!D3-Centroids!C2)^2+((D13-Scaler!C4)/Scaler!D4-Centroids!D2)^2+((E13-Scaler!C5)/Scaler!D5-Centroids!E2)^2+((F13-Scaler!C6)/Scaler!D6-Centroids!F2)^2+((G13-Scaler!C7)/Scaler!D7-Centroids!G2)^2+((H13-Scaler!C8)/Scaler!D8-Centroids!H2)^2+((I13-Scaler!C9)/Scaler!D9-Centroids!I2)^2+((J13-Scaler!C10)/Scaler!D10-Centroids!J2)^2+((K13-Scaler!C11)/Scaler!D11-Centroids!K2)^2),SQRT(((B13-Scaler!C2)/Scaler!D2-Centroids!B4)^2+((C13-Scaler!C3)/Scaler!D3-Centroids!C4)^2+((D13-Scaler!C4)/Scaler!D4-Centroids!D4)^2+((E13-Scaler!C5)/Scaler!D5-Centroids!E4)^2+((F13-Scaler!C6)/Scaler!D6-Centroids!F4)^2+((G13-Scaler!C7)/Scaler!D7-Centroids!G4)^2+((H13-Scaler!C8)/Scaler!D8-Centroids!H4)^2+((I13-Scaler!C9)/Scaler!D9-Centroids!I4)^2+((J13-Scaler!C10)/Scaler!D10-Centroids!J4)^2+((K13-Scaler!C11)/Scaler!D11-Centroids!K4)^2),SQRT(((B13-Scaler!C2)/Scaler!D2-Centroids!B5)^2+((C13-Scaler!C3)/Scaler!D3-Centroids!C5)^2+((D13-Scaler!C4)/Scaler!D4-Centroids!D5)^2+((E13-Scaler!C5)/Scaler!D5-Centroids!E5)^2+((F13-Scaler!C6)/Scaler!D6-Centroids!F5)^2+((G13-Scaler!C7)/Scaler!D7-Centroids!G5)^2+((H13-Scaler!C8)/Scaler!D8-Centroids!H5)^2+((I13-Scaler!C9)/Scaler!D9-Centroids!I5)^2+((J13-Scaler!C10)/Scaler!D10-Centroids!J5)^2+((K13-Scaler!C11)/Scaler!D11-Centroids!K5)^2)),1,IF(SQRT(((B13-Scaler!C2)/Scaler!D2-Centroids!B4)^2+((C13-Scaler!C3)/Scaler!D3-Centroids!C4)^2+((D13-Scaler!C4)/Scaler!D4-Centroids!D4)^2+((E13-Scaler!C5)/Scaler!D5-Centroids!E4)^2+((F13-Scaler!C6)/Scaler!D6-Centroids!F4)^2+((G13-Scaler!C7)/Scaler!D7-Centroids!G4)^2+((H13-Scaler!C8)/Scaler!D8-Centroids!H4)^2+((I13-Scaler!C9)/Scaler!D9-Centroids!I4)^2+((J13-Scaler!C10)/Scaler!D10-Centroids!J4)^2+((K13-Scaler!C11)/Scaler!D11-Centroids!K4)^2)<=MIN(SQRT(((B13-Scaler!C2)/Scaler!D2-Centroids!B2)^2+((C13-Scaler!C3)/Scaler!D3-Centroids!C2)^2+((D13-Scaler!C4)/Scaler!D4-Centroids!D2)^2+((E13-Scaler!C5)/Scaler!D5-Centroids!E2)^2+((F13-Scaler!C6)/Scaler!D6-Centroids!F2)^2+((G13-Scaler!C7)/Scaler!D7-Centroids!G2)^2+((H13-Scaler!C8)/Scaler!D8-Centroids!H2)^2+((I13-Scaler!C9)/Scaler!D9-Centroids!I2)^2+((J13-Scaler!C10)/Scaler!D10-Centroids!J2)^2+((K13-Scaler!C11)/Scaler!D11-Centroids!K2)^2),SQRT(((B13-Scaler!C2)/Scaler!D2-Centroids!B3)^2+((C13-Scaler!C3)/Scaler!D3-Centroids!C3)^2+((D13-Scaler!C4)/Scaler!D4-Centroids!D3)^2+((E13-Scaler!C5)/Scaler!D5-Centroids!E3)^2+((F13-Scaler!C6)/Scaler!D6-Centroids!F3)^2+((G13-Scaler!C7)/Scaler!D7-Centroids!G3)^2+((H13-Scaler!C8)/Scaler!D8-Centroids!H3)^2+((I13-Scaler!C9)/Scaler!D9-Centroids!I3)^2+((J13-Scaler!C10)/Scaler!D10-Centroids!J3)^2+((K13-Scaler!C11)/Scaler!D11-Centroids!K3)^2),SQRT(((B13-Scaler!C2)/Scaler!D2-Centroids!B5)^2+((C13-Scaler!C3)/Scaler!D3-Centroids!C5)^2+((D13-Scaler!C4)/Scaler!D4-Centroids!D5)^2+((E13-Scaler!C5)/Scaler!D5-Centroids!E5)^2+((F13-Scaler!C6)/Scaler!D6-Centroids!F5)^2+((G13-Scaler!C7)/Scaler!D7-Centroids!G5)^2+((H13-Scaler!C8)/Scaler!D8-Centroids!H5)^2+((I13-Scaler!C9)/Scaler!D9-Centroids!I5)^2+((J13-Scaler!C10)/Scaler!D10-Centroids!J5)^2+((K13-Scaler!C11)/Scaler!D11-Centroids!K5)^2)),2,3)))) | M13: =IF(A13="","",VLOOKUP(L13,{0,"Performance Athletes";1,"Casual Walkers";2,"Sneakerheads";3,"Weekend Warriors"},2,FALSE())) | N13: =IF(A13="","","Scored")
L14: =IF(A14="","",IF(SQRT(((B14-Scaler!C2)/Scaler!D2-Centroids!B2)^2+((C14-Scaler!C3)/Scaler!D3-Centroids!C2)^2+((D14-Scaler!C4)/Scaler!D4-Centroids!D2)^2+((E14-Scaler!C5)/Scaler!D5-Centroids!E2)^2+((F14-Scaler!C6)/Scaler!D6-Centroids!F2)^2+((G14-Scaler!C7)/Scaler!D7-Centroids!G2)^2+((H14-Scaler!C8)/Scaler!D8-Centroids!H2)^2+((I14-Scaler!C9)/Scaler!D9-Centroids!I2)^2+((J14-Scaler!C10)/Scaler!D10-Centroids!J2)^2+((K14-Scaler!C11)/Scaler!D11-Centroids!K2)^2)<=MIN(SQRT(((B14-Scaler!C2)/Scaler!D2-Centroids!B3)^2+((C14-Scaler!C3)/Scaler!D3-Centroids!C3)^2+((D14-Scaler!C4)/Scaler!D4-Centroids!D3)^2+((E14-Scaler!C5)/Scaler!D5-Centroids!E3)^2+((F14-Scaler!C6)/Scaler!D6-Centroids!F3)^2+((G14-Scaler!C7)/Scaler!D7-Centroids!G3)^2+((H14-Scaler!C8)/Scaler!D8-Centroids!H3)^2+((I14-Scaler!C9)/Scaler!D9-Centroids!I3)^2+((J14-Scaler!C10)/Scaler!D10-Centroids!J3)^2+((K14-Scaler!C11)/Scaler!D11-Centroids!K3)^2),SQRT(((B14-Scaler!C2)/Scaler!D2-Centroids!B4)^2+((C14-Scaler!C3)/Scaler!D3-Centroids!C4)^2+((D14-Scaler!C4)/Scaler!D4-Centroids!D4)^2+((E14-Scaler!C5)/Scaler!D5-Centroids!E4)^2+((F14-Scaler!C6)/Scaler!D6-Centroids!F4)^2+((G14-Scaler!C7)/Scaler!D7-Centroids!G4)^2+((H14-Scaler!C8)/Scaler!D8-Centroids!H4)^2+((I14-Scaler!C9)/Scaler!D9-Centroids!I4)^2+((J14-Scaler!C10)/Scaler!D10-Centroids!J4)^2+((K14-Scaler!C11)/Scaler!D11-Centroids!K4)^2),SQRT(((B14-Scaler!C2)/Scaler!D2-Centroids!B5)^2+((C14-Scaler!C3)/Scaler!D3-Centroids!C5)^2+((D14-Scaler!C4)/Scaler!D4-Centroids!D5)^2+((E14-Scaler!C5)/Scaler!D5-Centroids!E5)^2+((F14-Scaler!C6)/Scaler!D6-Centroids!F5)^2+((G14-Scaler!C7)/Scaler!D7-Centroids!G5)^2+((H14-Scaler!C8)/Scaler!D8-Centroids!H5)^2+((I14-Scaler!C9)/Scaler!D9-Centroids!I5)^2+((J14-Scaler!C10)/Scaler!D10-Centroids!J5)^2+((K14-Scaler!C11)/Scaler!D11-Centroids!K5)^2)),0,IF(SQRT(((B14-Scaler!C2)/Scaler!D2-Centroids!B3)^2+((C14-Scaler!C3)/Scaler!D3-Centroids!C3)^2+((D14-Scaler!C4)/Scaler!D4-Centroids!D3)^2+((E14-Scaler!C5)/Scaler!D5-Centroids!E3)^2+((F14-Scaler!C6)/Scaler!D6-Centroids!F3)^2+((G14-Scaler!C7)/Scaler!D7-Centroids!G3)^2+((H14-Scaler!C8)/Scaler!D8-Centroids!H3)^2+((I14-Scaler!C9)/Scaler!D9-Centroids!I3)^2+((J14-Scaler!C10)/Scaler!D10-Centroids!J3)^2+((K14-Scaler!C11)/Scaler!D11-Centroids!K3)^2)<=MIN(SQRT(((B14-Scaler!C2)/Scaler!D2-Centroids!B2)^2+((C14-Scaler!C3)/Scaler!D3-Centroids!C2)^2+((D14-Scaler!C4)/Scaler!D4-Centroids!D2)^2+((E14-Scaler!C5)/Scaler!D5-Centroids!E2)^2+((F14-Scaler!C6)/Scaler!D6-Centroids!F2)^2+((G14-Scaler!C7)/Scaler!D7-Centroids!G2)^2+((H14-Scaler!C8)/Scaler!D8-Centroids!H2)^2+((I14-Scaler!C9)/Scaler!D9-Centroids!I2)^2+((J14-Scaler!C10)/Scaler!D10-Centroids!J2)^2+((K14-Scaler!C11)/Scaler!D11-Centroids!K2)^2),SQRT(((B14-Scaler!C2)/Scaler!D2-Centroids!B4)^2+((C14-Scaler!C3)/Scaler!D3-Centroids!C4)^2+((D14-Scaler!C4)/Scaler!D4-Centroids!D4)^2+((E14-Scaler!C5)/Scaler!D5-Centroids!E4)^2+((F14-Scaler!C6)/Scaler!D6-Centroids!F4)^2+((G14-Scaler!C7)/Scaler!D7-Centroids!G4)^2+((H14-Scaler!C8)/Scaler!D8-Centroids!H4)^2+((I14-Scaler!C9)/Scaler!D9-Centroids!I4)^2+((J14-Scaler!C10)/Scaler!D10-Centroids!J4)^2+((K14-Scaler!C11)/Scaler!D11-Centroids!K4)^2),SQRT(((B14-Scaler!C2)/Scaler!D2-Centroids!B5)^2+((C14-Scaler!C3)/Scaler!D3-Centroids!C5)^2+((D14-Scaler!C4)/Scaler!D4-Centroids!D5)^2+((E14-Scaler!C5)/Scaler!D5-Centroids!E5)^2+((F14-Scaler!C6)/Scaler!D6-Centroids!F5)^2+((G14-Scaler!C7)/Scaler!D7-Centroids!G5)^2+((H14-Scaler!C8)/Scaler!D8-Centroids!H5)^2+((I14-Scaler!C9)/Scaler!D9-Centroids!I5)^2+((J14-Scaler!C10)/Scaler!D10-Centroids!J5)^2+((K14-Scaler!C11)/Scaler!D11-Centroids!K5)^2)),1,IF(SQRT(((B14-Scaler!C2)/Scaler!D2-Centroids!B4)^2+((C14-Scaler!C3)/Scaler!D3-Centroids!C4)^2+((D14-Scaler!C4)/Scaler!D4-Centroids!D4)^2+((E14-Scaler!C5)/Scaler!D5-Centroids!E4)^2+((F14-Scaler!C6)/Scaler!D6-Centroids!F4)^2+((G14-Scaler!C7)/Scaler!D7-Centroids!G4)^2+((H14-Scaler!C8)/Scaler!D8-Centroids!H4)^2+((I14-Scaler!C9)/Scaler!D9-Centroids!I4)^2+((J14-Scaler!C10)/Scaler!D10-Centroids!J4)^2+((K14-Scaler!C11)/Scaler!D11-Centroids!K4)^2)<=MIN(SQRT(((B14-Scaler!C2)/Scaler!D2-Centroids!B2)^2+((C14-Scaler!C3)/Scaler!D3-Centroids!C2)^2+((D14-Scaler!C4)/Scaler!D4-Centroids!D2)^2+((E14-Scaler!C5)/Scaler!D5-Centroids!E2)^2+((F14-Scaler!C6)/Scaler!D6-Centroids!F2)^2+((G14-Scaler!C7)/Scaler!D7-Centroids!G2)^2+((H14-Scaler!C8)/Scaler!D8-Centroids!H2)^2+((I14-Scaler!C9)/Scaler!D9-Centroids!I2)^2+((J14-Scaler!C10)/Scaler!D10-Centroids!J2)^2+((K14-Scaler!C11)/Scaler!D11-Centroids!K2)^2),SQRT(((B14-Scaler!C2)/Scaler!D2-Centroids!B3)^2+((C14-Scaler!C3)/Scaler!D3-Centroids!C3)^2+((D14-Scaler!C4)/Scaler!D4-Centroids!D3)^2+((E14-Scaler!C5)/Scaler!D5-Centroids!E3)^2+((F14-Scaler!C6)/Scaler!D6-Centroids!F3)^2+((G14-Scaler!C7)/Scaler!D7-Centroids!G3)^2+((H14-Scaler!C8)/Scaler!D8-Centroids!H3)^2+((I14-Scaler!C9)/Scaler!D9-Centroids!I3)^2+((J14-Scaler!C10)/Scaler!D10-Centroids!J3)^2+((K14-Scaler!C11)/Scaler!D11-Centroids!K3)^2),SQRT(((B14-Scaler!C2)/Scaler!D2-Centroids!B5)^2+((C14-Scaler!C3)/Scaler!D3-Centroids!C5)^2+((D14-Scaler!C4)/Scaler!D4-Centroids!D5)^2+((E14-Scaler!C5)/Scaler!D5-Centroids!E5)^2+((F14-Scaler!C6)/Scaler!D6-Centroids!F5)^2+((G14-Scaler!C7)/Scaler!D7-Centroids!G5)^2+((H14-Scaler!C8)/Scaler!D8-Centroids!H5)^2+((I14-Scaler!C9)/Scaler!D9-Centroids!I5)^2+((J14-Scaler!C10)/Scaler!D10-Centroids!J5)^2+((K14-Scaler!C11)/Scaler!D11-Centroids!K5)^2)),2,3)))) | M14: =IF(A14="","",VLOOKUP(L14,{0,"Performance Athletes";1,"Casual Walkers";2,"Sneakerheads";3,"Weekend Warriors"},2,FALSE())) | N14: =IF(A14="","","Scored")
L15: =IF(A15="","",IF(SQRT(((B15-Scaler!C2)/Scaler!D2-Centroids!B2)^2+((C15-Scaler!C3)/Scaler!D3-Centroids!C2)^2+((D15-Scaler!C4)/Scaler!D4-Centroids!D2)^2+((E15-Scaler!C5)/Scaler!D5-Centroids!E2)^2+((F15-Scaler!C6)/Scaler!D6-Centroids!F2)^2+((G15-Scaler!C7)/Scaler!D7-Centroids!G2)^2+((H15-Scaler!C8)/Scaler!D8-Centroids!H2)^2+((I15-Scaler!C9)/Scaler!D9-Centroids!I2)^2+((J15-Scaler!C10)/Scaler!D10-Centroids!J2)^2+((K15-Scaler!C11)/Scaler!D11-Centroids!K2)^2)<=MIN(SQRT(((B15-Scaler!C2)/Scaler!D2-Centroids!B3)^2+((C15-Scaler!C3)/Scaler!D3-Centroids!C3)^2+((D15-Scaler!C4)/Scaler!D4-Centroids!D3)^2+((E15-Scaler!C5)/Scaler!D5-Centroids!E3)^2+((F15-Scaler!C6)/Scaler!D6-Centroids!F3)^2+((G15-Scaler!C7)/Scaler!D7-Centroids!G3)^2+((H15-Scaler!C8)/Scaler!D8-Centroids!H3)^2+((I15-Scaler!C9)/Scaler!D9-Centroids!I3)^2+((J15-Scaler!C10)/Scaler!D10-Centroids!J3)^2+((K15-Scaler!C11)/Scaler!D11-Centroids!K3)^2),SQRT(((B15-Scaler!C2)/Scaler!D2-Centroids!B4)^2+((C15-Scaler!C3)/Scaler!D3-Centroids!C4)^2+((D15-Scaler!C4)/Scaler!D4-Centroids!D4)^2+((E15-Scaler!C5)/Scaler!D5-Centroids!E4)^2+((F15-Scaler!C6)/Scaler!D6-Centroids!F4)^2+((G15-Scaler!C7)/Scaler!D7-Centroids!G4)^2+((H15-Scaler!C8)/Scaler!D8-Centroids!H4)^2+((I15-Scaler!C9)/Scaler!D9-Centroids!I4)^2+((J15-Scaler!C10)/Scaler!D10-Centroids!J4)^2+((K15-Scaler!C11)/Scaler!D11-Centroids!K4)^2),SQRT(((B15-Scaler!C2)/Scaler!D2-Centroids!B5)^2+((C15-Scaler!C3)/Scaler!D3-Centroids!C5)^2+((D15-Scaler!C4)/Scaler!D4-Centroids!D5)^2+((E15-Scaler!C5)/Scaler!D5-Centroids!E5)^2+((F15-Scaler!C6)/Scaler!D6-Centroids!F5)^2+((G15-Scaler!C7)/Scaler!D7-Centroids!G5)^2+((H15-Scaler!C8)/Scaler!D8-Centroids!H5)^2+((I15-Scaler!C9)/Scaler!D9-Centroids!I5)^2+((J15-Scaler!C10)/Scaler!D10-Centroids!J5)^2+((K15-Scaler!C11)/Scaler!D11-Centroids!K5)^2)),0,IF(SQRT(((B15-Scaler!C2)/Scaler!D2-Centroids!B3)^2+((C15-Scaler!C3)/Scaler!D3-Centroids!C3)^2+((D15-Scaler!C4)/Scaler!D4-Centroids!D3)^2+((E15-Scaler!C5)/Scaler!D5-Centroids!E3)^2+((F15-Scaler!C6)/Scaler!D6-Centroids!F3)^2+((G15-Scaler!C7)/Scaler!D7-Centroids!G3)^2+((H15-Scaler!C8)/Scaler!D8-Centroids!H3)^2+((I15-Scaler!C9)/Scaler!D9-Centroids!I3)^2+((J15-Scaler!C10)/Scaler!D10-Centroids!J3)^2+((K15-Scaler!C11)/Scaler!D11-Centroids!K3)^2)<=MIN(SQRT(((B15-Scaler!C2)/Scaler!D2-Centroids!B2)^2+((C15-Scaler!C3)/Scaler!D3-Centroids!C2)^2+((D15-Scaler!C4)/Scaler!D4-Centroids!D2)^2+((E15-Scaler!C5)/Scaler!D5-Centroids!E2)^2+((F15-Scaler!C6)/Scaler!D6-Centroids!F2)^2+((G15-Scaler!C7)/Scaler!D7-Centroids!G2)^2+((H15-Scaler!C8)/Scaler!D8-Centroids!H2)^2+((I15-Scaler!C9)/Scaler!D9-Centroids!I2)^2+((J15-Scaler!C10)/Scaler!D10-Centroids!J2)^2+((K15-Scaler!C11)/Scaler!D11-Centroids!K2)^2),SQRT(((B15-Scaler!C2)/Scaler!D2-Centroids!B4)^2+((C15-Scaler!C3)/Scaler!D3-Centroids!C4)^2+((D15-Scaler!C4)/Scaler!D4-Centroids!D4)^2+((E15-Scaler!C5)/Scaler!D5-Centroids!E4)^2+((F15-Scaler!C6)/Scaler!D6-Centroids!F4)^2+((G15-Scaler!C7)/Scaler!D7-Centroids!G4)^2+((H15-Scaler!C8)/Scaler!D8-Centroids!H4)^2+((I15-Scaler!C9)/Scaler!D9-Centroids!I4)^2+((J15-Scaler!C10)/Scaler!D10-Centroids!J4)^2+((K15-Scaler!C11)/Scaler!D11-Centroids!K4)^2),SQRT(((B15-Scaler!C2)/Scaler!D2-Centroids!B5)^2+((C15-Scaler!C3)/Scaler!D3-Centroids!C5)^2+((D15-Scaler!C4)/Scaler!D4-Centroids!D5)^2+((E15-Scaler!C5)/Scaler!D5-Centroids!E5)^2+((F15-Scaler!C6)/Scaler!D6-Centroids!F5)^2+((G15-Scaler!C7)/Scaler!D7-Centroids!G5)^2+((H15-Scaler!C8)/Scaler!D8-Centroids!H5)^2+((I15-Scaler!C9)/Scaler!D9-Centroids!I5)^2+((J15-Scaler!C10)/Scaler!D10-Centroids!J5)^2+((K15-Scaler!C11)/Scaler!D11-Centroids!K5)^2)),1,IF(SQRT(((B15-Scaler!C2)/Scaler!D2-Centroids!B4)^2+((C15-Scaler!C3)/Scaler!D3-Centroids!C4)^2+((D15-Scaler!C4)/Scaler!D4-Centroids!D4)^2+((E15-Scaler!C5)/Scaler!D5-Centroids!E4)^2+((F15-Scaler!C6)/Scaler!D6-Centroids!F4)^2+((G15-Scaler!C7)/Scaler!D7-Centroids!G4)^2+((H15-Scaler!C8)/Scaler!D8-Centroids!H4)^2+((I15-Scaler!C9)/Scaler!D9-Centroids!I4)^2+((J15-Scaler!C10)/Scaler!D10-Centroids!J4)^2+((K15-Scaler!C11)/Scaler!D11-Centroids!K4)^2)<=MIN(SQRT(((B15-Scaler!C2)/Scaler!D2-Centroids!B2)^2+((C15-Scaler!C3)/Scaler!D3-Centroids!C2)^2+((D15-Scaler!C4)/Scaler!D4-Centroids!D2)^2+((E15-Scaler!C5)/Scaler!D5-Centroids!E2)^2+((F15-Scaler!C6)/Scaler!D6-Centroids!F2)^2+((G15-Scaler!C7)/Scaler!D7-Centroids!G2)^2+((H15-Scaler!C8)/Scaler!D8-Centroids!H2)^2+((I15-Scaler!C9)/Scaler!D9-Centroids!I2)^2+((J15-Scaler!C10)/Scaler!D10-Centroids!J2)^2+((K15-Scaler!C11)/Scaler!D11-Centroids!K2)^2),SQRT(((B15-Scaler!C2)/Scaler!D2-Centroids!B3)^2+((C15-Scaler!C3)/Scaler!D3-Centroids!C3)^2+((D15-Scaler!C4)/Scaler!D4-Centroids!D3)^2+((E15-Scaler!C5)/Scaler!D5-Centroids!E3)^2+((F15-Scaler!C6)/Scaler!D6-Centroids!F3)^2+((G15-Scaler!C7)/Scaler!D7-Centroids!G3)^2+((H15-Scaler!C8)/Scaler!D8-Centroids!H3)^2+((I15-Scaler!C9)/Scaler!D9-Centroids!I3)^2+((J15-Scaler!C10)/Scaler!D10-Centroids!J3)^2+((K15-Scaler!C11)/Scaler!D11-Centroids!K3)^2),SQRT(((B15-Scaler!C2)/Scaler!D2-Centroids!B5)^2+((C15-Scaler!C3)/Scaler!D3-Centroids!C5)^2+((D15-Scaler!C4)/Scaler!D4-Centroids!D5)^2+((E15-Scaler!C5)/Scaler!D5-Centroids!E5)^2+((F15-Scaler!C6)/Scaler!D6-Centroids!F5)^2+((G15-Scaler!C7)/Scaler!D7-Centroids!G5)^2+((H15-Scaler!C8)/Scaler!D8-Centroids!H5)^2+((I15-Scaler!C9)/Scaler!D9-Centroids!I5)^2+((J15-Scaler!C10)/Scaler!D10-Centroids!J5)^2+((K15-Scaler!C11)/Scaler!D11-Centroids!K5)^2)),2,3)))) | M15: =IF(A15="","",VLOOKUP(L15,{0,"Performance Athletes";1,"Casual Walkers";2,"Sneakerheads";3,"Weekend Warriors"},2,FALSE())) | N15: =IF(A15="","","Scored")
L16: =IF(A16="","",IF(SQRT(((B16-Scaler!C2)/Scaler!D2-Centroids!B2)^2+((C16-Scaler!C3)/Scaler!D3-Centroids!C2)^2+((D16-Scaler!C4)/Scaler!D4-Centroids!D2)^2+((E16-Scaler!C5)/Scaler!D5-Centroids!E2)^2+((F16-Scaler!C6)/Scaler!D6-Centroids!F2)^2+((G16-Scaler!C7)/Scaler!D7-Centroids!G2)^2+((H16-Scaler!C8)/Scaler!D8-Centroids!H2)^2+((I16-Scaler!C9)/Scaler!D9-Centroids!I2)^2+((J16-Scaler!C10)/Scaler!D10-Centroids!J2)^2+((K16-Scaler!C11)/Scaler!D11-Centroids!K2)^2)<=MIN(SQRT(((B16-Scaler!C2)/Scaler!D2-Centroids!B3)^2+((C16-Scaler!C3)/Scaler!D3-Centroids!C3)^2+((D16-Scaler!C4)/Scaler!D4-Centroids!D3)^2+((E16-Scaler!C5)/Scaler!D5-Centroids!E3)^2+((F16-Scaler!C6)/Scaler!D6-Centroids!F3)^2+((G16-Scaler!C7)/Scaler!D7-Centroids!G3)^2+((H16-Scaler!C8)/Scaler!D8-Centroids!H3)^2+((I16-Scaler!C9)/Scaler!D9-Centroids!I3)^2+((J16-Scaler!C10)/Scaler!D10-Centroids!J3)^2+((K16-Scaler!C11)/Scaler!D11-Centroids!K3)^2),SQRT(((B16-Scaler!C2)/Scaler!D2-Centroids!B4)^2+((C16-Scaler!C3)/Scaler!D3-Centroids!C4)^2+((D16-Scaler!C4)/Scaler!D4-Centroids!D4)^2+((E16-Scaler!C5)/Scaler!D5-Centroids!E4)^2+((F16-Scaler!C6)/Scaler!D6-Centroids!F4)^2+((G16-Scaler!C7)/Scaler!D7-Centroids!G4)^2+((H16-Scaler!C8)/Scaler!D8-Centroids!H4)^2+((I16-Scaler!C9)/Scaler!D9-Centroids!I4)^2+((J16-Scaler!C10)/Scaler!D10-Centroids!J4)^2+((K16-Scaler!C11)/Scaler!D11-Centroids!K4)^2),SQRT(((B16-Scaler!C2)/Scaler!D2-Centroids!B5)^2+((C16-Scaler!C3)/Scaler!D3-Centroids!C5)^2+((D16-Scaler!C4)/Scaler!D4-Centroids!D5)^2+((E16-Scaler!C5)/Scaler!D5-Centroids!E5)^2+((F16-Scaler!C6)/Scaler!D6-Centroids!F5)^2+((G16-Scaler!C7)/Scaler!D7-Centroids!G5)^2+((H16-Scaler!C8)/Scaler!D8-Centroids!H5)^2+((I16-Scaler!C9)/Scaler!D9-Centroids!I5)^2+((J16-Scaler!C10)/Scaler!D10-Centroids!J5)^2+((K16-Scaler!C11)/Scaler!D11-Centroids!K5)^2)),0,IF(SQRT(((B16-Scaler!C2)/Scaler!D2-Centroids!B3)^2+((C16-Scaler!C3)/Scaler!D3-Centroids!C3)^2+((D16-Scaler!C4)/Scaler!D4-Centroids!D3)^2+((E16-Scaler!C5)/Scaler!D5-Centroids!E3)^2+((F16-Scaler!C6)/Scaler!D6-Centroids!F3)^2+((G16-Scaler!C7)/Scaler!D7-Centroids!G3)^2+((H16-Scaler!C8)/Scaler!D8-Centroids!H3)^2+((I16-Scaler!C9)/Scaler!D9-Centroids!I3)^2+((J16-Scaler!C10)/Scaler!D10-Centroids!J3)^2+((K16-Scaler!C11)/Scaler!D11-Centroids!K3)^2)<=MIN(SQRT(((B16-Scaler!C2)/Scaler!D2-Centroids!B2)^2+((C16-Scaler!C3)/Scaler!D3-Centroids!C2)^2+((D16-Scaler!C4)/Scaler!D4-Centroids!D2)^2+((E16-Scaler!C5)/Scaler!D5-Centroids!E2)^2+((F16-Scaler!C6)/Scaler!D6-Centroids!F2)^2+((G16-Scaler!C7)/Scaler!D7-Centroids!G2)^2+((H16-Scaler!C8)/Scaler!D8-Centroids!H2)^2+((I16-Scaler!C9)/Scaler!D9-Centroids!I2)^2+((J16-Scaler!C10)/Scaler!D10-Centroids!J2)^2+((K16-Scaler!C11)/Scaler!D11-Centroids!K2)^2),SQRT(((B16-Scaler!C2)/Scaler!D2-Centroids!B4)^2+((C16-Scaler!C3)/Scaler!D3-Centroids!C4)^2+((D16-Scaler!C4)/Scaler!D4-Centroids!D4)^2+((E16-Scaler!C5)/Scaler!D5-Centroids!E4)^2+((F16-Scaler!C6)/Scaler!D6-Centroids!F4)^2+((G16-Scaler!C7)/Scaler!D7-Centroids!G4)^2+((H16-Scaler!C8)/Scaler!D8-Centroids!H4)^2+((I16-Scaler!C9)/Scaler!D9-Centroids!I4)^2+((J16-Scaler!C10)/Scaler!D10-Centroids!J4)^2+((K16-Scaler!C11)/Scaler!D11-Centroids!K4)^2),SQRT(((B16-Scaler!C2)/Scaler!D2-Centroids!B5)^2+((C16-Scaler!C3)/Scaler!D3-Centroids!C5)^2+((D16-Scaler!C4)/Scaler!D4-Centroids!D5)^2+((E16-Scaler!C5)/Scaler!D5-Centroids!E5)^2+((F16-Scaler!C6)/Scaler!D6-Centroids!F5)^2+((G16-Scaler!C7)/Scaler!D7-Centroids!G5)^2+((H16-Scaler!C8)/Scaler!D8-Centroids!H5)^2+((I16-Scaler!C9)/Scaler!D9-Centroids!I5)^2+((J16-Scaler!C10)/Scaler!D10-Centroids!J5)^2+((K16-Scaler!C11)/Scaler!D11-Centroids!K5)^2)),1,IF(SQRT(((B16-Scaler!C2)/Scaler!D2-Centroids!B4)^2+((C16-Scaler!C3)/Scaler!D3-Centroids!C4)^2+((D16-Scaler!C4)/Scaler!D4-Centroids!D4)^2+((E16-Scaler!C5)/Scaler!D5-Centroids!E4)^2+((F16-Scaler!C6)/Scaler!D6-Centroids!F4)^2+((G16-Scaler!C7)/Scaler!D7-Centroids!G4)^2+((H16-Scaler!C8)/Scaler!D8-Centroids!H4)^2+((I16-Scaler!C9)/Scaler!D9-Centroids!I4)^2+((J16-Scaler!C10)/Scaler!D10-Centroids!J4)^2+((K16-Scaler!C11)/Scaler!D11-Centroids!K4)^2)<=MIN(SQRT(((B16-Scaler!C2)/Scaler!D2-Centroids!B2)^2+((C16-Scaler!C3)/Scaler!D3-Centroids!C2)^2+((D16-Scaler!C4)/Scaler!D4-Centroids!D2)^2+((E16-Scaler!C5)/Scaler!D5-Centroids!E2)^2+((F16-Scaler!C6)/Scaler!D6-Centroids!F2)^2+((G16-Scaler!C7)/Scaler!D7-Centroids!G2)^2+((H16-Scaler!C8)/Scaler!D8-Centroids!H2)^2+((I16-Scaler!C9)/Scaler!D9-Centroids!I2)^2+((J16-Scaler!C10)/Scaler!D10-Centroids!J2)^2+((K16-Scaler!C11)/Scaler!D11-Centroids!K2)^2),SQRT(((B16-Scaler!C2)/Scaler!D2-Centroids!B3)^2+((C16-Scaler!C3)/Scaler!D3-Centroids!C3)^2+((D16-Scaler!C4)/Scaler!D4-Centroids!D3)^2+((E16-Scaler!C5)/Scaler!D5-Centroids!E3)^2+((F16-Scaler!C6)/Scaler!D6-Centroids!F3)^2+((G16-Scaler!C7)/Scaler!D7-Centroids!G3)^2+((H16-Scaler!C8)/Scaler!D8-Centroids!H3)^2+((I16-Scaler!C9)/Scaler!D9-Centroids!I3)^2+((J16-Scaler!C10)/Scaler!D10-Centroids!J3)^2+((K16-Scaler!C11)/Scaler!D11-Centroids!K3)^2),SQRT(((B16-Scaler!C2)/Scaler!D2-Centroids!B5)^2+((C16-Scaler!C3)/Scaler!D3-Centroids!C5)^2+((D16-Scaler!C4)/Scaler!D4-Centroids!D5)^2+((E16-Scaler!C5)/Scaler!D5-Centroids!E5)^2+((F16-Scaler!C6)/Scaler!D6-Centroids!F5)^2+((G16-Scaler!C7)/Scaler!D7-Centroids!G5)^2+((H16-Scaler!C8)/Scaler!D8-Centroids!H5)^2+((I16-Scaler!C9)/Scaler!D9-Centroids!I5)^2+((J16-Scaler!C10)/Scaler!D10-Centroids!J5)^2+((K16-Scaler!C11)/Scaler!D11-Centroids!K5)^2)),2,3)))) | M16: =IF(A16="","",VLOOKUP(L16,{0,"Performance Athletes";1,"Casual Walkers";2,"Sneakerheads";3,"Weekend Warriors"},2,FALSE())) | N16: =IF(A16="","","Scored")
L17: =IF(A17="","",IF(SQRT(((B17-Scaler!C2)/Scaler!D2-Centroids!B2)^2+((C17-Scaler!C3)/Scaler!D3-Centroids!C2)^2+((D17-Scaler!C4)/Scaler!D4-Centroids!D2)^2+((E17-Scaler!C5)/Scaler!D5-Centroids!E2)^2+((F17-Scaler!C6)/Scaler!D6-Centroids!F2)^2+((G17-Scaler!C7)/Scaler!D7-Centroids!G2)^2+((H17-Scaler!C8)/Scaler!D8-Centroids!H2)^2+((I17-Scaler!C9)/Scaler!D9-Centroids!I2)^2+((J17-Scaler!C10)/Scaler!D10-Centroids!J2)^2+((K17-Scaler!C11)/Scaler!D11-Centroids!K2)^2)<=MIN(SQRT(((B17-Scaler!C2)/Scaler!D2-Centroids!B3)^2+((C17-Scaler!C3)/Scaler!D3-Centroids!C3)^2+((D17-Scaler!C4)/Scaler!D4-Centroids!D3)^2+((E17-Scaler!C5)/Scaler!D5-Centroids!E3)^2+((F17-Scaler!C6)/Scaler!D6-Centroids!F3)^2+((G17-Scaler!C7)/Scaler!D7-Centroids!G3)^2+((H17-Scaler!C8)/Scaler!D8-Centroids!H3)^2+((I17-Scaler!C9)/Scaler!D9-Centroids!I3)^2+((J17-Scaler!C10)/Scaler!D10-Centroids!J3)^2+((K17-Scaler!C11)/Scaler!D11-Centroids!K3)^2),SQRT(((B17-Scaler!C2)/Scaler!D2-Centroids!B4)^2+((C17-Scaler!C3)/Scaler!D3-Centroids!C4)^2+((D17-Scaler!C4)/Scaler!D4-Centroids!D4)^2+((E17-Scaler!C5)/Scaler!D5-Centroids!E4)^2+((F17-Scaler!C6)/Scaler!D6-Centroids!F4)^2+((G17-Scaler!C7)/Scaler!D7-Centroids!G4)^2+((H17-Scaler!C8)/Scaler!D8-Centroids!H4)^2+((I17-Scaler!C9)/Scaler!D9-Centroids!I4)^2+((J17-Scaler!C10)/Scaler!D10-Centroids!J4)^2+((K17-Scaler!C11)/Scaler!D11-Centroids!K4)^2),SQRT(((B17-Scaler!C2)/Scaler!D2-Centroids!B5)^2+((C17-Scaler!C3)/Scaler!D3-Centroids!C5)^2+((D17-Scaler!C4)/Scaler!D4-Centroids!D5)^2+((E17-Scaler!C5)/Scaler!D5-Centroids!E5)^2+((F17-Scaler!C6)/Scaler!D6-Centroids!F5)^2+((G17-Scaler!C7)/Scaler!D7-Centroids!G5)^2+((H17-Scaler!C8)/Scaler!D8-Centroids!H5)^2+((I17-Scaler!C9)/Scaler!D9-Centroids!I5)^2+((J17-Scaler!C10)/Scaler!D10-Centroids!J5)^2+((K17-Scaler!C11)/Scaler!D11-Centroids!K5)^2)),0,IF(SQRT(((B17-Scaler!C2)/Scaler!D2-Centroids!B3)^2+((C17-Scaler!C3)/Scaler!D3-Centroids!C3)^2+((D17-Scaler!C4)/Scaler!D4-Centroids!D3)^2+((E17-Scaler!C5)/Scaler!D5-Centroids!E3)^2+((F17-Scaler!C6)/Scaler!D6-Centroids!F3)^2+((G17-Scaler!C7)/Scaler!D7-Centroids!G3)^2+((H17-Scaler!C8)/Scaler!D8-Centroids!H3)^2+((I17-Scaler!C9)/Scaler!D9-Centroids!I3)^2+((J17-Scaler!C10)/Scaler!D10-Centroids!J3)^2+((K17-Scaler!C11)/Scaler!D11-Centroids!K3)^2)<=MIN(SQRT(((B17-Scaler!C2)/Scaler!D2-Centroids!B2)^2+((C17-Scaler!C3)/Scaler!D3-Centroids!C2)^2+((D17-Scaler!C4)/Scaler!D4-Centroids!D2)^2+((E17-Scaler!C5)/Scaler!D5-Centroids!E2)^2+((F17-Scaler!C6)/Scaler!D6-Centroids!F2)^2+((G17-Scaler!C7)/Scaler!D7-Centroids!G2)^2+((H17-Scaler!C8)/Scaler!D8-Centroids!H2)^2+((I17-Scaler!C9)/Scaler!D9-Centroids!I2)^2+((J17-Scaler!C10)/Scaler!D10-Centroids!J2)^2+((K17-Scaler!C11)/Scaler!D11-Centroids!K2)^2),SQRT(((B17-Scaler!C2)/Scaler!D2-Centroids!B4)^2+((C17-Scaler!C3)/Scaler!D3-Centroids!C4)^2+((D17-Scaler!C4)/Scaler!D4-Centroids!D4)^2+((E17-Scaler!C5)/Scaler!D5-Centroids!E4)^2+((F17-Scaler!C6)/Scaler!D6-Centroids!F4)^2+((G17-Scaler!C7)/Scaler!D7-Centroids!G4)^2+((H17-Scaler!C8)/Scaler!D8-Centroids!H4)^2+((I17-Scaler!C9)/Scaler!D9-Centroids!I4)^2+((J17-Scaler!C10)/Scaler!D10-Centroids!J4)^2+((K17-Scaler!C11)/Scaler!D11-Centroids!K4)^2),SQRT(((B17-Scaler!C2)/Scaler!D2-Centroids!B5)^2+((C17-Scaler!C3)/Scaler!D3-Centroids!C5)^2+((D17-Scaler!C4)/Scaler!D4-Centroids!D5)^2+((E17-Scaler!C5)/Scaler!D5-Centroids!E5)^2+((F17-Scaler!C6)/Scaler!D6-Centroids!F5)^2+((G17-Scaler!C7)/Scaler!D7-Centroids!G5)^2+((H17-Scaler!C8)/Scaler!D8-Centroids!H5)^2+((I17-Scaler!C9)/Scaler!D9-Centroids!I5)^2+((J17-Scaler!C10)/Scaler!D10-Centroids!J5)^2+((K17-Scaler!C11)/Scaler!D11-Centroids!K5)^2)),1,IF(SQRT(((B17-Scaler!C2)/Scaler!D2-Centroids!B4)^2+((C17-Scaler!C3)/Scaler!D3-Centroids!C4)^2+((D17-Scaler!C4)/Scaler!D4-Centroids!D4)^2+((E17-Scaler!C5)/Scaler!D5-Centroids!E4)^2+((F17-Scaler!C6)/Scaler!D6-Centroids!F4)^2+((G17-Scaler!C7)/Scaler!D7-Centroids!G4)^2+((H17-Scaler!C8)/Scaler!D8-Centroids!H4)^2+((I17-Scaler!C9)/Scaler!D9-Centroids!I4)^2+((J17-Scaler!C10)/Scaler!D10-Centroids!J4)^2+((K17-Scaler!C11)/Scaler!D11-Centroids!K4)^2)<=MIN(SQRT(((B17-Scaler!C2)/Scaler!D2-Centroids!B2)^2+((C17-Scaler!C3)/Scaler!D3-Centroids!C2)^2+((D17-Scaler!C4)/Scaler!D4-Centroids!D2)^2+((E17-Scaler!C5)/Scaler!D5-Centroids!E2)^2+((F17-Scaler!C6)/Scaler!D6-Centroids!F2)^2+((G17-Scaler!C7)/Scaler!D7-Centroids!G2)^2+((H17-Scaler!C8)/Scaler!D8-Centroids!H2)^2+((I17-Scaler!C9)/Scaler!D9-Centroids!I2)^2+((J17-Scaler!C10)/Scaler!D10-Centroids!J2)^2+((K17-Scaler!C11)/Scaler!D11-Centroids!K2)^2),SQRT(((B17-Scaler!C2)/Scaler!D2-Centroids!B3)^2+((C17-Scaler!C3)/Scaler!D3-Centroids!C3)^2+((D17-Scaler!C4)/Scaler!D4-Centroids!D3)^2+((E17-Scaler!C5)/Scaler!D5-Centroids!E3)^2+((F17-Scaler!C6)/Scaler!D6-Centroids!F3)^2+((G17-Scaler!C7)/Scaler!D7-Centroids!G3)^2+((H17-Scaler!C8)/Scaler!D8-Centroids!H3)^2+((I17-Scaler!C9)/Scaler!D9-Centroids!I3)^2+((J17-Scaler!C10)/Scaler!D10-Centroids!J3)^2+((K17-Scaler!C11)/Scaler!D11-Centroids!K3)^2),SQRT(((B17-Scaler!C2)/Scaler!D2-Centroids!B5)^2+((C17-Scaler!C3)/Scaler!D3-Centroids!C5)^2+((D17-Scaler!C4)/Scaler!D4-Centroids!D5)^2+((E17-Scaler!C5)/Scaler!D5-Centroids!E5)^2+((F17-Scaler!C6)/Scaler!D6-Centroids!F5)^2+((G17-Scaler!C7)/Scaler!D7-Centroids!G5)^2+((H17-Scaler!C8)/Scaler!D8-Centroids!H5)^2+((I17-Scaler!C9)/Scaler!D9-Centroids!I5)^2+((J17-Scaler!C10)/Scaler!D10-Centroids!J5)^2+((K17-Scaler!C11)/Scaler!D11-Centroids!K5)^2)),2,3)))) | M17: =IF(A17="","",VLOOKUP(L17,{0,"Performance Athletes";1,"Casual Walkers";2,"Sneakerheads";3,"Weekend Warriors"},2,FALSE())) | N17: =IF(A17="","","Scored")
L18: =IF(A18="","",IF(SQRT(((B18-Scaler!C2)/Scaler!D2-Centroids!B2)^2+((C18-Scaler!C3)/Scaler!D3-Centroids!C2)^2+((D18-Scaler!C4)/Scaler!D4-Centroids!D2)^2+((E18-Scaler!C5)/Scaler!D5-Centroids!E2)^2+((F18-Scaler!C6)/Scaler!D6-Centroids!F2)^2+((G18-Scaler!C7)/Scaler!D7-Centroids!G2)^2+((H18-Scaler!C8)/Scaler!D8-Centroids!H2)^2+((I18-Scaler!C9)/Scaler!D9-Centroids!I2)^2+((J18-Scaler!C10)/Scaler!D10-Centroids!J2)^2+((K18-Scaler!C11)/Scaler!D11-Centroids!K2)^2)<=MIN(SQRT(((B18-Scaler!C2)/Scaler!D2-Centroids!B3)^2+((C18-Scaler!C3)/Scaler!D3-Centroids!C3)^2+((D18-Scaler!C4)/Scaler!D4-Centroids!D3)^2+((E18-Scaler!C5)/Scaler!D5-Centroids!E3)^2+((F18-Scaler!C6)/Scaler!D6-Centroids!F3)^2+((G18-Scaler!C7)/Scaler!D7-Centroids!G3)^2+((H18-Scaler!C8)/Scaler!D8-Centroids!H3)^2+((I18-Scaler!C9)/Scaler!D9-Centroids!I3)^2+((J18-Scaler!C10)/Scaler!D10-Centroids!J3)^2+((K18-Scaler!C11)/Scaler!D11-Centroids!K3)^2),SQRT(((B18-Scaler!C2)/Scaler!D2-Centroids!B4)^2+((C18-Scaler!C3)/Scaler!D3-Centroids!C4)^2+((D18-Scaler!C4)/Scaler!D4-Centroids!D4)^2+((E18-Scaler!C5)/Scaler!D5-Centroids!E4)^2+((F18-Scaler!C6)/Scaler!D6-Centroids!F4)^2+((G18-Scaler!C7)/Scaler!D7-Centroids!G4)^2+((H18-Scaler!C8)/Scaler!D8-Centroids!H4)^2+((I18-Scaler!C9)/Scaler!D9-Centroids!I4)^2+((J18-Scaler!C10)/Scaler!D10-Centroids!J4)^2+((K18-Scaler!C11)/Scaler!D11-Centroids!K4)^2),SQRT(((B18-Scaler!C2)/Scaler!D2-Centroids!B5)^2+((C18-Scaler!C3)/Scaler!D3-Centroids!C5)^2+((D18-Scaler!C4)/Scaler!D4-Centroids!D5)^2+((E18-Scaler!C5)/Scaler!D5-Centroids!E5)^2+((F18-Scaler!C6)/Scaler!D6-Centroids!F5)^2+((G18-Scaler!C7)/Scaler!D7-Centroids!G5)^2+((H18-Scaler!C8)/Scaler!D8-Centroids!H5)^2+((I18-Scaler!C9)/Scaler!D9-Centroids!I5)^2+((J18-Scaler!C10)/Scaler!D10-Centroids!J5)^2+((K18-Scaler!C11)/Scaler!D11-Centroids!K5)^2)),0,IF(SQRT(((B18-Scaler!C2)/Scaler!D2-Centroids!B3)^2+((C18-Scaler!C3)/Scaler!D3-Centroids!C3)^2+((D18-Scaler!C4)/Scaler!D4-Centroids!D3)^2+((E18-Scaler!C5)/Scaler!D5-Centroids!E3)^2+((F18-Scaler!C6)/Scaler!D6-Centroids!F3)^2+((G18-Scaler!C7)/Scaler!D7-Centroids!G3)^2+((H18-Scaler!C8)/Scaler!D8-Centroids!H3)^2+((I18-Scaler!C9)/Scaler!D9-Centroids!I3)^2+((J18-Scaler!C10)/Scaler!D10-Centroids!J3)^2+((K18-Scaler!C11)/Scaler!D11-Centroids!K3)^2)<=MIN(SQRT(((B18-Scaler!C2)/Scaler!D2-Centroids!B2)^2+((C18-Scaler!C3)/Scaler!D3-Centroids!C2)^2+((D18-Scaler!C4)/Scaler!D4-Centroids!D2)^2+((E18-Scaler!C5)/Scaler!D5-Centroids!E2)^2+((F18-Scaler!C6)/Scaler!D6-Centroids!F2)^2+((G18-Scaler!C7)/Scaler!D7-Centroids!G2)^2+((H18-Scaler!C8)/Scaler!D8-Centroids!H2)^2+((I18-Scaler!C9)/Scaler!D9-Centroids!I2)^2+((J18-Scaler!C10)/Scaler!D10-Centroids!J2)^2+((K18-Scaler!C11)/Scaler!D11-Centroids!K2)^2),SQRT(((B18-Scaler!C2)/Scaler!D2-Centroids!B4)^2+((C18-Scaler!C3)/Scaler!D3-Centroids!C4)^2+((D18-Scaler!C4)/Scaler!D4-Centroids!D4)^2+((E18-Scaler!C5)/Scaler!D5-Centroids!E4)^2+((F18-Scaler!C6)/Scaler!D6-Centroids!F4)^2+((G18-Scaler!C7)/Scaler!D7-Centroids!G4)^2+((H18-Scaler!C8)/Scaler!D8-Centroids!H4)^2+((I18-Scaler!C9)/Scaler!D9-Centroids!I4)^2+((J18-Scaler!C10)/Scaler!D10-Centroids!J4)^2+((K18-Scaler!C11)/Scaler!D11-Centroids!K4)^2),SQRT(((B18-Scaler!C2)/Scaler!D2-Centroids!B5)^2+((C18-Scaler!C3)/Scaler!D3-Centroids!C5)^2+((D18-Scaler!C4)/Scaler!D4-Centroids!D5)^2+((E18-Scaler!C5)/Scaler!D5-Centroids!E5)^2+((F18-Scaler!C6)/Scaler!D6-Centroids!F5)^2+((G18-Scaler!C7)/Scaler!D7-Centroids!G5)^2+((H18-Scaler!C8)/Scaler!D8-Centroids!H5)^2+((I18-Scaler!C9)/Scaler!D9-Centroids!I5)^2+((J18-Scaler!C10)/Scaler!D10-Centroids!J5)^2+((K18-Scaler!C11)/Scaler!D11-Centroids!K5)^2)),1,IF(SQRT(((B18-Scaler!C2)/Scaler!D2-Centroids!B4)^2+((C18-Scaler!C3)/Scaler!D3-Centroids!C4)^2+((D18-Scaler!C4)/Scaler!D4-Centroids!D4)^2+((E18-Scaler!C5)/Scaler!D5-Centroids!E4)^2+((F18-Scaler!C6)/Scaler!D6-Centroids!F4)^2+((G18-Scaler!C7)/Scaler!D7-Centroids!G4)^2+((H18-Scaler!C8)/Scaler!D8-Centroids!H4)^2+((I18-Scaler!C9)/Scaler!D9-Centroids!I4)^2+((J18-Scaler!C10)/Scaler!D10-Centroids!J4)^2+((K18-Scaler!C11)/Scaler!D11-Centroids!K4)^2)<=MIN(SQRT(((B18-Scaler!C2)/Scaler!D2-Centroids!B2)^2+((C18-Scaler!C3)/Scaler!D3-Centroids!C2)^2+((D18-Scaler!C4)/Scaler!D4-Centroids!D2)^2+((E18-Scaler!C5)/Scaler!D5-Centroids!E2)^2+((F18-Scaler!C6)/Scaler!D6-Centroids!F2)^2+((G18-Scaler!C7)/Scaler!D7-Centroids!G2)^2+((H18-Scaler!C8)/Scaler!D8-Centroids!H2)^2+((I18-Scaler!C9)/Scaler!D9-Centroids!I2)^2+((J18-Scaler!C10)/Scaler!D10-Centroids!J2)^2+((K18-Scaler!C11)/Scaler!D11-Centroids!K2)^2),SQRT(((B18-Scaler!C2)/Scaler!D2-Centroids!B3)^2+((C18-Scaler!C3)/Scaler!D3-Centroids!C3)^2+((D18-Scaler!C4)/Scaler!D4-Centroids!D3)^2+((E18-Scaler!C5)/Scaler!D5-Centroids!E3)^2+((F18-Scaler!C6)/Scaler!D6-Centroids!F3)^2+((G18-Scaler!C7)/Scaler!D7-Centroids!G3)^2+((H18-Scaler!C8)/Scaler!D8-Centroids!H3)^2+((I18-Scaler!C9)/Scaler!D9-Centroids!I3)^2+((J18-Scaler!C10)/Scaler!D10-Centroids!J3)^2+((K18-Scaler!C11)/Scaler!D11-Centroids!K3)^2),SQRT(((B18-Scaler!C2)/Scaler!D2-Centroids!B5)^2+((C18-Scaler!C3)/Scaler!D3-Centroids!C5)^2+((D18-Scaler!C4)/Scaler!D4-Centroids!D5)^2+((E18-Scaler!C5)/Scaler!D5-Centroids!E5)^2+((F18-Scaler!C6)/Scaler!D6-Centroids!F5)^2+((G18-Scaler!C7)/Scaler!D7-Centroids!G5)^2+((H18-Scaler!C8)/Scaler!D8-Centroids!H5)^2+((I18-Scaler!C9)/Scaler!D9-Centroids!I5)^2+((J18-Scaler!C10)/Scaler!D10-Centroids!J5)^2+((K18-Scaler!C11)/Scaler!D11-Centroids!K5)^2)),2,3)))) | M18: =IF(A18="","",VLOOKUP(L18,{0,"Performance Athletes";1,"Casual Walkers";2,"Sneakerheads";3,"Weekend Warriors"},2,FALSE())) | N18: =IF(A18="","","Scored")
L19: =IF(A19="","",IF(SQRT(((B19-Scaler!C2)/Scaler!D2-Centroids!B2)^2+((C19-Scaler!C3)/Scaler!D3-Centroids!C2)^2+((D19-Scaler!C4)/Scaler!D4-Centroids!D2)^2+((E19-Scaler!C5)/Scaler!D5-Centroids!E2)^2+((F19-Scaler!C6)/Scaler!D6-Centroids!F2)^2+((G19-Scaler!C7)/Scaler!D7-Centroids!G2)^2+((H19-Scaler!C8)/Scaler!D8-Centroids!H2)^2+((I19-Scaler!C9)/Scaler!D9-Centroids!I2)^2+((J19-Scaler!C10)/Scaler!D10-Centroids!J2)^2+((K19-Scaler!C11)/Scaler!D11-Centroids!K2)^2)<=MIN(SQRT(((B19-Scaler!C2)/Scaler!D2-Centroids!B3)^2+((C19-Scaler!C3)/Scaler!D3-Centroids!C3)^2+((D19-Scaler!C4)/Scaler!D4-Centroids!D3)^2+((E19-Scaler!C5)/Scaler!D5-Centroids!E3)^2+((F19-Scaler!C6)/Scaler!D6-Centroids!F3)^2+((G19-Scaler!C7)/Scaler!D7-Centroids!G3)^2+((H19-Scaler!C8)/Scaler!D8-Centroids!H3)^2+((I19-Scaler!C9)/Scaler!D9-Centroids!I3)^2+((J19-Scaler!C10)/Scaler!D10-Centroids!J3)^2+((K19-Scaler!C11)/Scaler!D11-Centroids!K3)^2),SQRT(((B19-Scaler!C2)/Scaler!D2-Centroids!B4)^2+((C19-Scaler!C3)/Scaler!D3-Centroids!C4)^2+((D19-Scaler!C4)/Scaler!D4-Centroids!D4)^2+((E19-Scaler!C5)/Scaler!D5-Centroids!E4)^2+((F19-Scaler!C6)/Scaler!D6-Centroids!F4)^2+((G19-Scaler!C7)/Scaler!D7-Centroids!G4)^2+((H19-Scaler!C8)/Scaler!D8-Centroids!H4)^2+((I19-Scaler!C9)/Scaler!D9-Centroids!I4)^2+((J19-Scaler!C10)/Scaler!D10-Centroids!J4)^2+((K19-Scaler!C11)/Scaler!D11-Centroids!K4)^2),SQRT(((B19-Scaler!C2)/Scaler!D2-Centroids!B5)^2+((C19-Scaler!C3)/Scaler!D3-Centroids!C5)^2+((D19-Scaler!C4)/Scaler!D4-Centroids!D5)^2+((E19-Scaler!C5)/Scaler!D5-Centroids!E5)^2+((F19-Scaler!C6)/Scaler!D6-Centroids!F5)^2+((G19-Scaler!C7)/Scaler!D7-Centroids!G5)^2+((H19-Scaler!C8)/Scaler!D8-Centroids!H5)^2+((I19-Scaler!C9)/Scaler!D9-Centroids!I5)^2+((J19-Scaler!C10)/Scaler!D10-Centroids!J5)^2+((K19-Scaler!C11)/Scaler!D11-Centroids!K5)^2)),0,IF(SQRT(((B19-Scaler!C2)/Scaler!D2-Centroids!B3)^2+((C19-Scaler!C3)/Scaler!D3-Centroids!C3)^2+((D19-Scaler!C4)/Scaler!D4-Centroids!D3)^2+((E19-Scaler!C5)/Scaler!D5-Centroids!E3)^2+((F19-Scaler!C6)/Scaler!D6-Centroids!F3)^2+((G19-Scaler!C7)/Scaler!D7-Centroids!G3)^2+((H19-Scaler!C8)/Scaler!D8-Centroids!H3)^2+((I19-Scaler!C9)/Scaler!D9-Centroids!I3)^2+((J19-Scaler!C10)/Scaler!D10-Centroids!J3)^2+((K19-Scaler!C11)/Scaler!D11-Centroids!K3)^2)<=MIN(SQRT(((B19-Scaler!C2)/Scaler!D2-Centroids!B2)^2+((C19-Scaler!C3)/Scaler!D3-Centroids!C2)^2+((D19-Scaler!C4)/Scaler!D4-Centroids!D2)^2+((E19-Scaler!C5)/Scaler!D5-Centroids!E2)^2+((F19-Scaler!C6)/Scaler!D6-Centroids!F2)^2+((G19-Scaler!C7)/Scaler!D7-Centroids!G2)^2+((H19-Scaler!C8)/Scaler!D8-Centroids!H2)^2+((I19-Scaler!C9)/Scaler!D9-Centroids!I2)^2+((J19-Scaler!C10)/Scaler!D10-Centroids!J2)^2+((K19-Scaler!C11)/Scaler!D11-Centroids!K2)^2),SQRT(((B19-Scaler!C2)/Scaler!D2-Centroids!B4)^2+((C19-Scaler!C3)/Scaler!D3-Centroids!C4)^2+((D19-Scaler!C4)/Scaler!D4-Centroids!D4)^2+((E19-Scaler!C5)/Scaler!D5-Centroids!E4)^2+((F19-Scaler!C6)/Scaler!D6-Centroids!F4)^2+((G19-Scaler!C7)/Scaler!D7-Centroids!G4)^2+((H19-Scaler!C8)/Scaler!D8-Centroids!H4)^2+((I19-Scaler!C9)/Scaler!D9-Centroids!I4)^2+((J19-Scaler!C10)/Scaler!D10-Centroids!J4)^2+((K19-Scaler!C11)/Scaler!D11-Centroids!K4)^2),SQRT(((B19-Scaler!C2)/Scaler!D2-Centroids!B5)^2+((C19-Scaler!C3)/Scaler!D3-Centroids!C5)^2+((D19-Scaler!C4)/Scaler!D4-Centroids!D5)^2+((E19-Scaler!C5)/Scaler!D5-Centroids!E5)^2+((F19-Scaler!C6)/Scaler!D6-Centroids!F5)^2+((G19-Scaler!C7)/Scaler!D7-Centroids!G5)^2+((H19-Scaler!C8)/Scaler!D8-Centroids!H5)^2+((I19-Scaler!C9)/Scaler!D9-Centroids!I5)^2+((J19-Scaler!C10)/Scaler!D10-Centroids!J5)^2+((K19-Scaler!C11)/Scaler!D11-Centroids!K5)^2)),1,IF(SQRT(((B19-Scaler!C2)/Scaler!D2-Centroids!B4)^2+((C19-Scaler!C3)/Scaler!D3-Centroids!C4)^2+((D19-Scaler!C4)/Scaler!D4-Centroids!D4)^2+((E19-Scaler!C5)/Scaler!D5-Centroids!E4)^2+((F19-Scaler!C6)/Scaler!D6-Centroids!F4)^2+((G19-Scaler!C7)/Scaler!D7-Centroids!G4)^2+((H19-Scaler!C8)/Scaler!D8-Centroids!H4)^2+((I19-Scaler!C9)/Scaler!D9-Centroids!I4)^2+((J19-Scaler!C10)/Scaler!D10-Centroids!J4)^2+((K19-Scaler!C11)/Scaler!D11-Centroids!K4)^2)<=MIN(SQRT(((B19-Scaler!C2)/Scaler!D2-Centroids!B2)^2+((C19-Scaler!C3)/Scaler!D3-Centroids!C2)^2+((D19-Scaler!C4)/Scaler!D4-Centroids!D2)^2+((E19-Scaler!C5)/Scaler!D5-Centroids!E2)^2+((F19-Scaler!C6)/Scaler!D6-Centroids!F2)^2+((G19-Scaler!C7)/Scaler!D7-Centroids!G2)^2+((H19-Scaler!C8)/Scaler!D8-Centroids!H2)^2+((I19-Scaler!C9)/Scaler!D9-Centroids!I2)^2+((J19-Scaler!C10)/Scaler!D10-Centroids!J2)^2+((K19-Scaler!C11)/Scaler!D11-Centroids!K2)^2),SQRT(((B19-Scaler!C2)/Scaler!D2-Centroids!B3)^2+((C19-Scaler!C3)/Scaler!D3-Centroids!C3)^2+((D19-Scaler!C4)/Scaler!D4-Centroids!D3)^2+((E19-Scaler!C5)/Scaler!D5-Centroids!E3)^2+((F19-Scaler!C6)/Scaler!D6-Centroids!F3)^2+((G19-Scaler!C7)/Scaler!D7-Centroids!G3)^2+((H19-Scaler!C8)/Scaler!D8-Centroids!H3)^2+((I19-Scaler!C9)/Scaler!D9-Centroids!I3)^2+((J19-Scaler!C10)/Scaler!D10-Centroids!J3)^2+((K19-Scaler!C11)/Scaler!D11-Centroids!K3)^2),SQRT(((B19-Scaler!C2)/Scaler!D2-Centroids!B5)^2+((C19-Scaler!C3)/Scaler!D3-Centroids!C5)^2+((D19-Scaler!C4)/Scaler!D4-Centroids!D5)^2+((E19-Scaler!C5)/Scaler!D5-Centroids!E5)^2+((F19-Scaler!C6)/Scaler!D6-Centroids!F5)^2+((G19-Scaler!C7)/Scaler!D7-Centroids!G5)^2+((H19-Scaler!C8)/Scaler!D8-Centroids!H5)^2+((I19-Scaler!C9)/Scaler!D9-Centroids!I5)^2+((J19-Scaler!C10)/Scaler!D10-Centroids!J5)^2+((K19-Scaler!C11)/Scaler!D11-Centroids!K5)^2)),2,3)))) | M19: =IF(A19="","",VLOOKUP(L19,{0,"Performance Athletes";1,"Casual Walkers";2,"Sneakerheads";3,"Weekend Warriors"},2,FALSE())) | N19: =IF(A19="","","Scored")
L20: =IF(A20="","",IF(SQRT(((B20-Scaler!C2)/Scaler!D2-Centroids!B2)^2+((C20-Scaler!C3)/Scaler!D3-Centroids!C2)^2+((D20-Scaler!C4)/Scaler!D4-Centroids!D2)^2+((E20-Scaler!C5)/Scaler!D5-Centroids!E2)^2+((F20-Scaler!C6)/Scaler!D6-Centroids!F2)^2+((G20-Scaler!C7)/Scaler!D7-Centroids!G2)^2+((H20-Scaler!C8)/Scaler!D8-Centroids!H2)^2+((I20-Scaler!C9)/Scaler!D9-Centroids!I2)^2+((J20-Scaler!C10)/Scaler!D10-Centroids!J2)^2+((K20-Scaler!C11)/Scaler!D11-Centroids!K2)^2)<=MIN(SQRT(((B20-Scaler!C2)/Scaler!D2-Centroids!B3)^2+((C20-Scaler!C3)/Scaler!D3-Centroids!C3)^2+((D20-Scaler!C4)/Scaler!D4-Centroids!D3)^2+((E20-Scaler!C5)/Scaler!D5-Centroids!E3)^2+((F20-Scaler!C6)/Scaler!D6-Centroids!F3)^2+((G20-Scaler!C7)/Scaler!D7-Centroids!G3)^2+((H20-Scaler!C8)/Scaler!D8-Centroids!H3)^2+((I20-Scaler!C9)/Scaler!D9-Centroids!I3)^2+((J20-Scaler!C10)/Scaler!D10-Centroids!J3)^2+((K20-Scaler!C11)/Scaler!D11-Centroids!K3)^2),SQRT(((B20-Scaler!C2)/Scaler!D2-Centroids!B4)^2+((C20-Scaler!C3)/Scaler!D3-Centroids!C4)^2+((D20-Scaler!C4)/Scaler!D4-Centroids!D4)^2+((E20-Scaler!C5)/Scaler!D5-Centroids!E4)^2+((F20-Scaler!C6)/Scaler!D6-Centroids!F4)^2+((G20-Scaler!C7)/Scaler!D7-Centroids!G4)^2+((H20-Scaler!C8)/Scaler!D8-Centroids!H4)^2+((I20-Scaler!C9)/Scaler!D9-Centroids!I4)^2+((J20-Scaler!C10)/Scaler!D10-Centroids!J4)^2+((K20-Scaler!C11)/Scaler!D11-Centroids!K4)^2),SQRT(((B20-Scaler!C2)/Scaler!D2-Centroids!B5)^2+((C20-Scaler!C3)/Scaler!D3-Centroids!C5)^2+((D20-Scaler!C4)/Scaler!D4-Centroids!D5)^2+((E20-Scaler!C5)/Scaler!D5-Centroids!E5)^2+((F20-Scaler!C6)/Scaler!D6-Centroids!F5)^2+((G20-Scaler!C7)/Scaler!D7-Centroids!G5)^2+((H20-Scaler!C8)/Scaler!D8-Centroids!H5)^2+((I20-Scaler!C9)/Scaler!D9-Centroids!I5)^2+((J20-Scaler!C10)/Scaler!D10-Centroids!J5)^2+((K20-Scaler!C11)/Scaler!D11-Centroids!K5)^2)),0,IF(SQRT(((B20-Scaler!C2)/Scaler!D2-Centroids!B3)^2+((C20-Scaler!C3)/Scaler!D3-Centroids!C3)^2+((D20-Scaler!C4)/Scaler!D4-Centroids!D3)^2+((E20-Scaler!C5)/Scaler!D5-Centroids!E3)^2+((F20-Scaler!C6)/Scaler!D6-Centroids!F3)^2+((G20-Scaler!C7)/Scaler!D7-Centroids!G3)^2+((H20-Scaler!C8)/Scaler!D8-Centroids!H3)^2+((I20-Scaler!C9)/Scaler!D9-Centroids!I3)^2+((J20-Scaler!C10)/Scaler!D10-Centroids!J3)^2+((K20-Scaler!C11)/Scaler!D11-Centroids!K3)^2)<=MIN(SQRT(((B20-Scaler!C2)/Scaler!D2-Centroids!B2)^2+((C20-Scaler!C3)/Scaler!D3-Centroids!C2)^2+((D20-Scaler!C4)/Scaler!D4-Centroids!D2)^2+((E20-Scaler!C5)/Scaler!D5-Centroids!E2)^2+((F20-Scaler!C6)/Scaler!D6-Centroids!F2)^2+((G20-Scaler!C7)/Scaler!D7-Centroids!G2)^2+((H20-Scaler!C8)/Scaler!D8-Centroids!H2)^2+((I20-Scaler!C9)/Scaler!D9-Centroids!I2)^2+((J20-Scaler!C10)/Scaler!D10-Centroids!J2)^2+((K20-Scaler!C11)/Scaler!D11-Centroids!K2)^2),SQRT(((B20-Scaler!C2)/Scaler!D2-Centroids!B4)^2+((C20-Scaler!C3)/Scaler!D3-Centroids!C4)^2+((D20-Scaler!C4)/Scaler!D4-Centroids!D4)^2+((E20-Scaler!C5)/Scaler!D5-Centroids!E4)^2+((F20-Scaler!C6)/Scaler!D6-Centroids!F4)^2+((G20-Scaler!C7)/Scaler!D7-Centroids!G4)^2+((H20-Scaler!C8)/Scaler!D8-Centroids!H4)^2+((I20-Scaler!C9)/Scaler!D9-Centroids!I4)^2+((J20-Scaler!C10)/Scaler!D10-Centroids!J4)^2+((K20-Scaler!C11)/Scaler!D11-Centroids!K4)^2),SQRT(((B20-Scaler!C2)/Scaler!D2-Centroids!B5)^2+((C20-Scaler!C3)/Scaler!D3-Centroids!C5)^2+((D20-Scaler!C4)/Scaler!D4-Centroids!D5)^2+((E20-Scaler!C5)/Scaler!D5-Centroids!E5)^2+((F20-Scaler!C6)/Scaler!D6-Centroids!F5)^2+((G20-Scaler!C7)/Scaler!D7-Centroids!G5)^2+((H20-Scaler!C8)/Scaler!D8-Centroids!H5)^2+((I20-Scaler!C9)/Scaler!D9-Centroids!I5)^2+((J20-Scaler!C10)/Scaler!D10-Centroids!J5)^2+((K20-Scaler!C11)/Scaler!D11-Centroids!K5)^2)),1,IF(SQRT(((B20-Scaler!C2)/Scaler!D2-Centroids!B4)^2+((C20-Scaler!C3)/Scaler!D3-Centroids!C4)^2+((D20-Scaler!C4)/Scaler!D4-Centroids!D4)^2+((E20-Scaler!C5)/Scaler!D5-Centroids!E4)^2+((F20-Scaler!C6)/Scaler!D6-Centroids!F4)^2+((G20-Scaler!C7)/Scaler!D7-Centroids!G4)^2+((H20-Scaler!C8)/Scaler!D8-Centroids!H4)^2+((I20-Scaler!C9)/Scaler!D9-Centroids!I4)^2+((J20-Scaler!C10)/Scaler!D10-Centroids!J4)^2+((K20-Scaler!C11)/Scaler!D11-Centroids!K4)^2)<=MIN(SQRT(((B20-Scaler!C2)/Scaler!D2-Centroids!B2)^2+((C20-Scaler!C3)/Scaler!D3-Centroids!C2)^2+((D20-Scaler!C4)/Scaler!D4-Centroids!D2)^2+((E20-Scaler!C5)/Scaler!D5-Centroids!E2)^2+((F20-Scaler!C6)/Scaler!D6-Centroids!F2)^2+((G20-Scaler!C7)/Scaler!D7-Centroids!G2)^2+((H20-Scaler!C8)/Scaler!D8-Centroids!H2)^2+((I20-Scaler!C9)/Scaler!D9-Centroids!I2)^2+((J20-Scaler!C10)/Scaler!D10-Centroids!J2)^2+((K20-Scaler!C11)/Scaler!D11-Centroids!K2)^2),SQRT(((B20-Scaler!C2)/Scaler!D2-Centroids!B3)^2+((C20-Scaler!C3)/Scaler!D3-Centroids!C3)^2+((D20-Scaler!C4)/Scaler!D4-Centroids!D3)^2+((E20-Scaler!C5)/Scaler!D5-Centroids!E3)^2+((F20-Scaler!C6)/Scaler!D6-Centroids!F3)^2+((G20-Scaler!C7)/Scaler!D7-Centroids!G3)^2+((H20-Scaler!C8)/Scaler!D8-Centroids!H3)^2+((I20-Scaler!C9)/Scaler!D9-Centroids!I3)^2+((J20-Scaler!C10)/Scaler!D10-Centroids!J3)^2+((K20-Scaler!C11)/Scaler!D11-Centroids!K3)^2),SQRT(((B20-Scaler!C2)/Scaler!D2-Centroids!B5)^2+((C20-Scaler!C3)/Scaler!D3-Centroids!C5)^2+((D20-Scaler!C4)/Scaler!D4-Centroids!D5)^2+((E20-Scaler!C5)/Scaler!D5-Centroids!E5)^2+((F20-Scaler!C6)/Scaler!D6-Centroids!F5)^2+((G20-Scaler!C7)/Scaler!D7-Centroids!G5)^2+((H20-Scaler!C8)/Scaler!D8-Centroids!H5)^2+((I20-Scaler!C9)/Scaler!D9-Centroids!I5)^2+((J20-Scaler!C10)/Scaler!D10-Centroids!J5)^2+((K20-Scaler!C11)/Scaler!D11-Centroids!K5)^2)),2,3)))) | M20: =IF(A20="","",VLOOKUP(L20,{0,"Performance Athletes";1,"Casual Walkers";2,"Sneakerheads";3,"Weekend Warriors"},2,FALSE())) | N20: =IF(A20="","","Scored")
L21: =IF(A21="","",IF(SQRT(((B21-Scaler!C2)/Scaler!D2-Centroids!B2)^2+((C21-Scaler!C3)/Scaler!D3-Centroids!C2)^2+((D21-Scaler!C4)/Scaler!D4-Centroids!D2)^2+((E21-Scaler!C5)/Scaler!D5-Centroids!E2)^2+((F21-Scaler!C6)/Scaler!D6-Centroids!F2)^2+((G21-Scaler!C7)/Scaler!D7-Centroids!G2)^2+((H21-Scaler!C8)/Scaler!D8-Centroids!H2)^2+((I21-Scaler!C9)/Scaler!D9-Centroids!I2)^2+((J21-Scaler!C10)/Scaler!D10-Centroids!J2)^2+((K21-Scaler!C11)/Scaler!D11-Centroids!K2)^2)<=MIN(SQRT(((B21-Scaler!C2)/Scaler!D2-Centroids!B3)^2+((C21-Scaler!C3)/Scaler!D3-Centroids!C3)^2+((D21-Scaler!C4)/Scaler!D4-Centroids!D3)^2+((E21-Scaler!C5)/Scaler!D5-Centroids!E3)^2+((F21-Scaler!C6)/Scaler!D6-Centroids!F3)^2+((G21-Scaler!C7)/Scaler!D7-Centroids!G3)^2+((H21-Scaler!C8)/Scaler!D8-Centroids!H3)^2+((I21-Scaler!C9)/Scaler!D9-Centroids!I3)^2+((J21-Scaler!C10)/Scaler!D10-Centroids!J3)^2+((K21-Scaler!C11)/Scaler!D11-Centroids!K3)^2),SQRT(((B21-Scaler!C2)/Scaler!D2-Centroids!B4)^2+((C21-Scaler!C3)/Scaler!D3-Centroids!C4)^2+((D21-Scaler!C4)/Scaler!D4-Centroids!D4)^2+((E21-Scaler!C5)/Scaler!D5-Centroids!E4)^2+((F21-Scaler!C6)/Scaler!D6-Centroids!F4)^2+((G21-Scaler!C7)/Scaler!D7-Centroids!G4)^2+((H21-Scaler!C8)/Scaler!D8-Centroids!H4)^2+((I21-Scaler!C9)/Scaler!D9-Centroids!I4)^2+((J21-Scaler!C10)/Scaler!D10-Centroids!J4)^2+((K21-Scaler!C11)/Scaler!D11-Centroids!K4)^2),SQRT(((B21-Scaler!C2)/Scaler!D2-Centroids!B5)^2+((C21-Scaler!C3)/Scaler!D3-Centroids!C5)^2+((D21-Scaler!C4)/Scaler!D4-Centroids!D5)^2+((E21-Scaler!C5)/Scaler!D5-Centroids!E5)^2+((F21-Scaler!C6)/Scaler!D6-Centroids!F5)^2+((G21-Scaler!C7)/Scaler!D7-Centroids!G5)^2+((H21-Scaler!C8)/Scaler!D8-Centroids!H5)^2+((I21-Scaler!C9)/Scaler!D9-Centroids!I5)^2+((J21-Scaler!C10)/Scaler!D10-Centroids!J5)^2+((K21-Scaler!C11)/Scaler!D11-Centroids!K5)^2)),0,IF(SQRT(((B21-Scaler!C2)/Scaler!D2-Centroids!B3)^2+((C21-Scaler!C3)/Scaler!D3-Centroids!C3)^2+((D21-Scaler!C4)/Scaler!D4-Centroids!D3)^2+((E21-Scaler!C5)/Scaler!D5-Centroids!E3)^2+((F21-Scaler!C6)/Scaler!D6-Centroids!F3)^2+((G21-Scaler!C7)/Scaler!D7-Centroids!G3)^2+((H21-Scaler!C8)/Scaler!D8-Centroids!H3)^2+((I21-Scaler!C9)/Scaler!D9-Centroids!I3)^2+((J21-Scaler!C10)/Scaler!D10-Centroids!J3)^2+((K21-Scaler!C11)/Scaler!D11-Centroids!K3)^2)<=MIN(SQRT(((B21-Scaler!C2)/Scaler!D2-Centroids!B2)^2+((C21-Scaler!C3)/Scaler!D3-Centroids!C2)^2+((D21-Scaler!C4)/Scaler!D4-Centroids!D2)^2+((E21-Scaler!C5)/Scaler!D5-Centroids!E2)^2+((F21-Scaler!C6)/Scaler!D6-Centroids!F2)^2+((G21-Scaler!C7)/Scaler!D7-Centroids!G2)^2+((H21-Scaler!C8)/Scaler!D8-Centroids!H2)^2+((I21-Scaler!C9)/Scaler!D9-Centroids!I2)^2+((J21-Scaler!C10)/Scaler!D10-Centroids!J2)^2+((K21-Scaler!C11)/Scaler!D11-Centroids!K2)^2),SQRT(((B21-Scaler!C2)/Scaler!D2-Centroids!B4)^2+((C21-Scaler!C3)/Scaler!D3-Centroids!C4)^2+((D21-Scaler!C4)/Scaler!D4-Centroids!D4)^2+((E21-Scaler!C5)/Scaler!D5-Centroids!E4)^2+((F21-Scaler!C6)/Scaler!D6-Centroids!F4)^2+((G21-Scaler!C7)/Scaler!D7-Centroids!G4)^2+((H21-Scaler!C8)/Scaler!D8-Centroids!H4)^2+((I21-Scaler!C9)/Scaler!D9-Centroids!I4)^2+((J21-Scaler!C10)/Scaler!D10-Centroids!J4)^2+((K21-Scaler!C11)/Scaler!D11-Centroids!K4)^2),SQRT(((B21-Scaler!C2)/Scaler!D2-Centroids!B5)^2+((C21-Scaler!C3)/Scaler!D3-Centroids!C5)^2+((D21-Scaler!C4)/Scaler!D4-Centroids!D5)^2+((E21-Scaler!C5)/Scaler!D5-Centroids!E5)^2+((F21-Scaler!C6)/Scaler!D6-Centroids!F5)^2+((G21-Scaler!C7)/Scaler!D7-Centroids!G5)^2+((H21-Scaler!C8)/Scaler!D8-Centroids!H5)^2+((I21-Scaler!C9)/Scaler!D9-Centroids!I5)^2+((J21-Scaler!C10)/Scaler!D10-Centroids!J5)^2+((K21-Scaler!C11)/Scaler!D11-Centroids!K5)^2)),1,IF(SQRT(((B21-Scaler!C2)/Scaler!D2-Centroids!B4)^2+((C21-Scaler!C3)/Scaler!D3-Centroids!C4)^2+((D21-Scaler!C4)/Scaler!D4-Centroids!D4)^2+((E21-Scaler!C5)/Scaler!D5-Centroids!E4)^2+((F21-Scaler!C6)/Scaler!D6-Centroids!F4)^2+((G21-Scaler!C7)/Scaler!D7-Centroids!G4)^2+((H21-Scaler!C8)/Scaler!D8-Centroids!H4)^2+((I21-Scaler!C9)/Scaler!D9-Centroids!I4)^2+((J21-Scaler!C10)/Scaler!D10-Centroids!J4)^2+((K21-Scaler!C11)/Scaler!D11-Centroids!K4)^2)<=MIN(SQRT(((B21-Scaler!C2)/Scaler!D2-Centroids!B2)^2+((C21-Scaler!C3)/Scaler!D3-Centroids!C2)^2+((D21-Scaler!C4)/Scaler!D4-Centroids!D2)^2+((E21-Scaler!C5)/Scaler!D5-Centroids!E2)^2+((F21-Scaler!C6)/Scaler!D6-Centroids!F2)^2+((G21-Scaler!C7)/Scaler!D7-Centroids!G2)^2+((H21-Scaler!C8)/Scaler!D8-Centroids!H2)^2+((I21-Scaler!C9)/Scaler!D9-Centroids!I2)^2+((J21-Scaler!C10)/Scaler!D10-Centroids!J2)^2+((K21-Scaler!C11)/Scaler!D11-Centroids!K2)^2),SQRT(((B21-Scaler!C2)/Scaler!D2-Centroids!B3)^2+((C21-Scaler!C3)/Scaler!D3-Centroids!C3)^2+((D21-Scaler!C4)/Scaler!D4-Centroids!D3)^2+((E21-Scaler!C5)/Scaler!D5-Centroids!E3)^2+((F21-Scaler!C6)/Scaler!D6-Centroids!F3)^2+((G21-Scaler!C7)/Scaler!D7-Centroids!G3)^2+((H21-Scaler!C8)/Scaler!D8-Centroids!H3)^2+((I21-Scaler!C9)/Scaler!D9-Centroids!I3)^2+((J21-Scaler!C10)/Scaler!D10-Centroids!J3)^2+((K21-Scaler!C11)/Scaler!D11-Centroids!K3)^2),SQRT(((B21-Scaler!C2)/Scaler!D2-Centroids!B5)^2+((C21-Scaler!C3)/Scaler!D3-Centroids!C5)^2+((D21-Scaler!C4)/Scaler!D4-Centroids!D5)^2+((E21-Scaler!C5)/Scaler!D5-Centroids!E5)^2+((F21-Scaler!C6)/Scaler!D6-Centroids!F5)^2+((G21-Scaler!C7)/Scaler!D7-Centroids!G5)^2+((H21-Scaler!C8)/Scaler!D8-Centroids!H5)^2+((I21-Scaler!C9)/Scaler!D9-Centroids!I5)^2+((J21-Scaler!C10)/Scaler!D10-Centroids!J5)^2+((K21-Scaler!C11)/Scaler!D11-Centroids!K5)^2)),2,3)))) | M21: =IF(A21="","",VLOOKUP(L21,{0,"Performance Athletes";1,"Casual Walkers";2,"Sneakerheads";3,"Weekend Warriors"},2,FALSE())) | N21: =IF(A21="","","Scored")
L22: =IF(A22="","",IF(SQRT(((B22-Scaler!C2)/Scaler!D2-Centroids!B2)^2+((C22-Scaler!C3)/Scaler!D3-Centroids!C2)^2+((D22-Scaler!C4)/Scaler!D4-Centroids!D2)^2+((E22-Scaler!C5)/Scaler!D5-Centroids!E2)^2+((F22-Scaler!C6)/Scaler!D6-Centroids!F2)^2+((G22-Scaler!C7)/Scaler!D7-Centroids!G2)^2+((H22-Scaler!C8)/Scaler!D8-Centroids!H2)^2+((I22-Scaler!C9)/Scaler!D9-Centroids!I2)^2+((J22-Scaler!C10)/Scaler!D10-Centroids!J2)^2+((K22-Scaler!C11)/Scaler!D11-Centroids!K2)^2)<=MIN(SQRT(((B22-Scaler!C2)/Scaler!D2-Centroids!B3)^2+((C22-Scaler!C3)/Scaler!D3-Centroids!C3)^2+((D22-Scaler!C4)/Scaler!D4-Centroids!D3)^2+((E22-Scaler!C5)/Scaler!D5-Centroids!E3)^2+((F22-Scaler!C6)/Scaler!D6-Centroids!F3)^2+((G22-Scaler!C7)/Scaler!D7-Centroids!G3)^2+((H22-Scaler!C8)/Scaler!D8-Centroids!H3)^2+((I22-Scaler!C9)/Scaler!D9-Centroids!I3)^2+((J22-Scaler!C10)/Scaler!D10-Centroids!J3)^2+((K22-Scaler!C11)/Scaler!D11-Centroids!K3)^2),SQRT(((B22-Scaler!C2)/Scaler!D2-Centroids!B4)^2+((C22-Scaler!C3)/Scaler!D3-Centroids!C4)^2+((D22-Scaler!C4)/Scaler!D4-Centroids!D4)^2+((E22-Scaler!C5)/Scaler!D5-Centroids!E4)^2+((F22-Scaler!C6)/Scaler!D6-Centroids!F4)^2+((G22-Scaler!C7)/Scaler!D7-Centroids!G4)^2+((H22-Scaler!C8)/Scaler!D8-Centroids!H4)^2+((I22-Scaler!C9)/Scaler!D9-Centroids!I4)^2+((J22-Scaler!C10)/Scaler!D10-Centroids!J4)^2+((K22-Scaler!C11)/Scaler!D11-Centroids!K4)^2),SQRT(((B22-Scaler!C2)/Scaler!D2-Centroids!B5)^2+((C22-Scaler!C3)/Scaler!D3-Centroids!C5)^2+((D22-Scaler!C4)/Scaler!D4-Centroids!D5)^2+((E22-Scaler!C5)/Scaler!D5-Centroids!E5)^2+((F22-Scaler!C6)/Scaler!D6-Centroids!F5)^2+((G22-Scaler!C7)/Scaler!D7-Centroids!G5)^2+((H22-Scaler!C8)/Scaler!D8-Centroids!H5)^2+((I22-Scaler!C9)/Scaler!D9-Centroids!I5)^2+((J22-Scaler!C10)/Scaler!D10-Centroids!J5)^2+((K22-Scaler!C11)/Scaler!D11-Centroids!K5)^2)),0,IF(SQRT(((B22-Scaler!C2)/Scaler!D2-Centroids!B3)^2+((C22-Scaler!C3)/Scaler!D3-Centroids!C3)^2+((D22-Scaler!C4)/Scaler!D4-Centroids!D3)^2+((E22-Scaler!C5)/Scaler!D5-Centroids!E3)^2+((F22-Scaler!C6)/Scaler!D6-Centroids!F3)^2+((G22-Scaler!C7)/Scaler!D7-Centroids!G3)^2+((H22-Scaler!C8)/Scaler!D8-Centroids!H3)^2+((I22-Scaler!C9)/Scaler!D9-Centroids!I3)^2+((J22-Scaler!C10)/Scaler!D10-Centroids!J3)^2+((K22-Scaler!C11)/Scaler!D11-Centroids!K3)^2)<=MIN(SQRT(((B22-Scaler!C2)/Scaler!D2-Centroids!B2)^2+((C22-Scaler!C3)/Scaler!D3-Centroids!C2)^2+((D22-Scaler!C4)/Scaler!D4-Centroids!D2)^2+((E22-Scaler!C5)/Scaler!D5-Centroids!E2)^2+((F22-Scaler!C6)/Scaler!D6-Centroids!F2)^2+((G22-Scaler!C7)/Scaler!D7-Centroids!G2)^2+((H22-Scaler!C8)/Scaler!D8-Centroids!H2)^2+((I22-Scaler!C9)/Scaler!D9-Centroids!I2)^2+((J22-Scaler!C10)/Scaler!D10-Centroids!J2)^2+((K22-Scaler!C11)/Scaler!D11-Centroids!K2)^2),SQRT(((B22-Scaler!C2)/Scaler!D2-Centroids!B4)^2+((C22-Scaler!C3)/Scaler!D3-Centroids!C4)^2+((D22-Scaler!C4)/Scaler!D4-Centroids!D4)^2+((E22-Scaler!C5)/Scaler!D5-Centroids!E4)^2+((F22-Scaler!C6)/Scaler!D6-Centroids!F4)^2+((G22-Scaler!C7)/Scaler!D7-Centroids!G4)^2+((H22-Scaler!C8)/Scaler!D8-Centroids!H4)^2+((I22-Scaler!C9)/Scaler!D9-Centroids!I4)^2+((J22-Scaler!C10)/Scaler!D10-Centroids!J4)^2+((K22-Scaler!C11)/Scaler!D11-Centroids!K4)^2),SQRT(((B22-Scaler!C2)/Scaler!D2-Centroids!B5)^2+((C22-Scaler!C3)/Scaler!D3-Centroids!C5)^2+((D22-Scaler!C4)/Scaler!D4-Centroids!D5)^2+((E22-Scaler!C5)/Scaler!D5-Centroids!E5)^2+((F22-Scaler!C6)/Scaler!D6-Centroids!F5)^2+((G22-Scaler!C7)/Scaler!D7-Centroids!G5)^2+((H22-Scaler!C8)/Scaler!D8-Centroids!H5)^2+((I22-Scaler!C9)/Scaler!D9-Centroids!I5)^2+((J22-Scaler!C10)/Scaler!D10-Centroids!J5)^2+((K22-Scaler!C11)/Scaler!D11-Centroids!K5)^2)),1,IF(SQRT(((B22-Scaler!C2)/Scaler!D2-Centroids!B4)^2+((C22-Scaler!C3)/Scaler!D3-Centroids!C4)^2+((D22-Scaler!C4)/Scaler!D4-Centroids!D4)^2+((E22-Scaler!C5)/Scaler!D5-Centroids!E4)^2+((F22-Scaler!C6)/Scaler!D6-Centroids!F4)^2+((G22-Scaler!C7)/Scaler!D7-Centroids!G4)^2+((H22-Scaler!C8)/Scaler!D8-Centroids!H4)^2+((I22-Scaler!C9)/Scaler!D9-Centroids!I4)^2+((J22-Scaler!C10)/Scaler!D10-Centroids!J4)^2+((K22-Scaler!C11)/Scaler!D11-Centroids!K4)^2)<=MIN(SQRT(((B22-Scaler!C2)/Scaler!D2-Centroids!B2)^2+((C22-Scaler!C3)/Scaler!D3-Centroids!C2)^2+((D22-Scaler!C4)/Scaler!D4-Centroids!D2)^2+((E22-Scaler!C5)/Scaler!D5-Centroids!E2)^2+((F22-Scaler!C6)/Scaler!D6-Centroids!F2)^2+((G22-Scaler!C7)/Scaler!D7-Centroids!G2)^2+((H22-Scaler!C8)/Scaler!D8-Centroids!H2)^2+((I22-Scaler!C9)/Scaler!D9-Centroids!I2)^2+((J22-Scaler!C10)/Scaler!D10-Centroids!J2)^2+((K22-Scaler!C11)/Scaler!D11-Centroids!K2)^2),SQRT(((B22-Scaler!C2)/Scaler!D2-Centroids!B3)^2+((C22-Scaler!C3)/Scaler!D3-Centroids!C3)^2+((D22-Scaler!C4)/Scaler!D4-Centroids!D3)^2+((E22-Scaler!C5)/Scaler!D5-Centroids!E3)^2+((F22-Scaler!C6)/Scaler!D6-Centroids!F3)^2+((G22-Scaler!C7)/Scaler!D7-Centroids!G3)^2+((H22-Scaler!C8)/Scaler!D8-Centroids!H3)^2+((I22-Scaler!C9)/Scaler!D9-Centroids!I3)^2+((J22-Scaler!C10)/Scaler!D10-Centroids!J3)^2+((K22-Scaler!C11)/Scaler!D11-Centroids!K3)^2),SQRT(((B22-Scaler!C2)/Scaler!D2-Centroids!B5)^2+((C22-Scaler!C3)/Scaler!D3-Centroids!C5)^2+((D22-Scaler!C4)/Scaler!D4-Centroids!D5)^2+((E22-Scaler!C5)/Scaler!D5-Centroids!E5)^2+((F22-Scaler!C6)/Scaler!D6-Centroids!F5)^2+((G22-Scaler!C7)/Scaler!D7-Centroids!G5)^2+((H22-Scaler!C8)/Scaler!D8-Centroids!H5)^2+((I22-Scaler!C9)/Scaler!D9-Centroids!I5)^2+((J22-Scaler!C10)/Scaler!D10-Centroids!J5)^2+((K22-Scaler!C11)/Scaler!D11-Centroids!K5)^2)),2,3)))) | M22: =IF(A22="","",VLOOKUP(L22,{0,"Performance Athletes";1,"Casual Walkers";2,"Sneakerheads";3,"Weekend Warriors"},2,FALSE())) | N22: =IF(A22="","","Scored")
L23: =IF(A23="","",IF(SQRT(((B23-Scaler!C2)/Scaler!D2-Centroids!B2)^2+((C23-Scaler!C3)/Scaler!D3-Centroids!C2)^2+((D23-Scaler!C4)/Scaler!D4-Centroids!D2)^2+((E23-Scaler!C5)/Scaler!D5-Centroids!E2)^2+((F23-Scaler!C6)/Scaler!D6-Centroids!F2)^2+((G23-Scaler!C7)/Scaler!D7-Centroids!G2)^2+((H23-Scaler!C8)/Scaler!D8-Centroids!H2)^2+((I23-Scaler!C9)/Scaler!D9-Centroids!I2)^2+((J23-Scaler!C10)/Scaler!D10-Centroids!J2)^2+((K23-Scaler!C11)/Scaler!D11-Centroids!K2)^2)<=MIN(SQRT(((B23-Scaler!C2)/Scaler!D2-Centroids!B3)^2+((C23-Scaler!C3)/Scaler!D3-Centroids!C3)^2+((D23-Scaler!C4)/Scaler!D4-Centroids!D3)^2+((E23-Scaler!C5)/Scaler!D5-Centroids!E3)^2+((F23-Scaler!C6)/Scaler!D6-Centroids!F3)^2+((G23-Scaler!C7)/Scaler!D7-Centroids!G3)^2+((H23-Scaler!C8)/Scaler!D8-Centroids!H3)^2+((I23-Scaler!C9)/Scaler!D9-Centroids!I3)^2+((J23-Scaler!C10)/Scaler!D10-Centroids!J3)^2+((K23-Scaler!C11)/Scaler!D11-Centroids!K3)^2),SQRT(((B23-Scaler!C2)/Scaler!D2-Centroids!B4)^2+((C23-Scaler!C3)/Scaler!D3-Centroids!C4)^2+((D23-Scaler!C4)/Scaler!D4-Centroids!D4)^2+((E23-Scaler!C5)/Scaler!D5-Centroids!E4)^2+((F23-Scaler!C6)/Scaler!D6-Centroids!F4)^2+((G23-Scaler!C7)/Scaler!D7-Centroids!G4)^2+((H23-Scaler!C8)/Scaler!D8-Centroids!H4)^2+((I23-Scaler!C9)/Scaler!D9-Centroids!I4)^2+((J23-Scaler!C10)/Scaler!D10-Centroids!J4)^2+((K23-Scaler!C11)/Scaler!D11-Centroids!K4)^2),SQRT(((B23-Scaler!C2)/Scaler!D2-Centroids!B5)^2+((C23-Scaler!C3)/Scaler!D3-Centroids!C5)^2+((D23-Scaler!C4)/Scaler!D4-Centroids!D5)^2+((E23-Scaler!C5)/Scaler!D5-Centroids!E5)^2+((F23-Scaler!C6)/Scaler!D6-Centroids!F5)^2+((G23-Scaler!C7)/Scaler!D7-Centroids!G5)^2+((H23-Scaler!C8)/Scaler!D8-Centroids!H5)^2+((I23-Scaler!C9)/Scaler!D9-Centroids!I5)^2+((J23-Scaler!C10)/Scaler!D10-Centroids!J5)^2+((K23-Scaler!C11)/Scaler!D11-Centroids!K5)^2)),0,IF(SQRT(((B23-Scaler!C2)/Scaler!D2-Centroids!B3)^2+((C23-Scaler!C3)/Scaler!D3-Centroids!C3)^2+((D23-Scaler!C4)/Scaler!D4-Centroids!D3)^2+((E23-Scaler!C5)/Scaler!D5-Centroids!E3)^2+((F23-Scaler!C6)/Scaler!D6-Centroids!F3)^2+((G23-Scaler!C7)/Scaler!D7-Centroids!G3)^2+((H23-Scaler!C8)/Scaler!D8-Centroids!H3)^2+((I23-Scaler!C9)/Scaler!D9-Centroids!I3)^2+((J23-Scaler!C10)/Scaler!D10-Centroids!J3)^2+((K23-Scaler!C11)/Scaler!D11-Centroids!K3)^2)<=MIN(SQRT(((B23-Scaler!C2)/Scaler!D2-Centroids!B2)^2+((C23-Scaler!C3)/Scaler!D3-Centroids!C2)^2+((D23-Scaler!C4)/Scaler!D4-Centroids!D2)^2+((E23-Scaler!C5)/Scaler!D5-Centroids!E2)^2+((F23-Scaler!C6)/Scaler!D6-Centroids!F2)^2+((G23-Scaler!C7)/Scaler!D7-Centroids!G2)^2+((H23-Scaler!C8)/Scaler!D8-Centroids!H2)^2+((I23-Scaler!C9)/Scaler!D9-Centroids!I2)^2+((J23-Scaler!C10)/Scaler!D10-Centroids!J2)^2+((K23-Scaler!C11)/Scaler!D11-Centroids!K2)^2),SQRT(((B23-Scaler!C2)/Scaler!D2-Centroids!B4)^2+((C23-Scaler!C3)/Scaler!D3-Centroids!C4)^2+((D23-Scaler!C4)/Scaler!D4-Centroids!D4)^2+((E23-Scaler!C5)/Scaler!D5-Centroids!E4)^2+((F23-Scaler!C6)/Scaler!D6-Centroids!F4)^2+((G23-Scaler!C7)/Scaler!D7-Centroids!G4)^2+((H23-Scaler!C8)/Scaler!D8-Centroids!H4)^2+((I23-Scaler!C9)/Scaler!D9-Centroids!I4)^2+((J23-Scaler!C10)/Scaler!D10-Centroids!J4)^2+((K23-Scaler!C11)/Scaler!D11-Centroids!K4)^2),SQRT(((B23-Scaler!C2)/Scaler!D2-Centroids!B5)^2+((C23-Scaler!C3)/Scaler!D3-Centroids!C5)^2+((D23-Scaler!C4)/Scaler!D4-Centroids!D5)^2+((E23-Scaler!C5)/Scaler!D5-Centroids!E5)^2+((F23-Scaler!C6)/Scaler!D6-Centroids!F5)^2+((G23-Scaler!C7)/Scaler!D7-Centroids!G5)^2+((H23-Scaler!C8)/Scaler!D8-Centroids!H5)^2+((I23-Scaler!C9)/Scaler!D9-Centroids!I5)^2+((J23-Scaler!C10)/Scaler!D10-Centroids!J5)^2+((K23-Scaler!C11)/Scaler!D11-Centroids!K5)^2)),1,IF(SQRT(((B23-Scaler!C2)/Scaler!D2-Centroids!B4)^2+((C23-Scaler!C3)/Scaler!D3-Centroids!C4)^2+((D23-Scaler!C4)/Scaler!D4-Centroids!D4)^2+((E23-Scaler!C5)/Scaler!D5-Centroids!E4)^2+((F23-Scaler!C6)/Scaler!D6-Centroids!F4)^2+((G23-Scaler!C7)/Scaler!D7-Centroids!G4)^2+((H23-Scaler!C8)/Scaler!D8-Centroids!H4)^2+((I23-Scaler!C9)/Scaler!D9-Centroids!I4)^2+((J23-Scaler!C10)/Scaler!D10-Centroids!J4)^2+((K23-Scaler!C11)/Scaler!D11-Centroids!K4)^2)<=MIN(SQRT(((B23-Scaler!C2)/Scaler!D2-Centroids!B2)^2+((C23-Scaler!C3)/Scaler!D3-Centroids!C2)^2+((D23-Scaler!C4)/Scaler!D4-Centroids!D2)^2+((E23-Scaler!C5)/Scaler!D5-Centroids!E2)^2+((F23-Scaler!C6)/Scaler!D6-Centroids!F2)^2+((G23-Scaler!C7)/Scaler!D7-Centroids!G2)^2+((H23-Scaler!C8)/Scaler!D8-Centroids!H2)^2+((I23-Scaler!C9)/Scaler!D9-Centroids!I2)^2+((J23-Scaler!C10)/Scaler!D10-Centroids!J2)^2+((K23-Scaler!C11)/Scaler!D11-Centroids!K2)^2),SQRT(((B23-Scaler!C2)/Scaler!D2-Centroids!B3)^2+((C23-Scaler!C3)/Scaler!D3-Centroids!C3)^2+((D23-Scaler!C4)/Scaler!D4-Centroids!D3)^2+((E23-Scaler!C5)/Scaler!D5-Centroids!E3)^2+((F23-Scaler!C6)/Scaler!D6-Centroids!F3)^2+((G23-Scaler!C7)/Scaler!D7-Centroids!G3)^2+((H23-Scaler!C8)/Scaler!D8-Centroids!H3)^2+((I23-Scaler!C9)/Scaler!D9-Centroids!I3)^2+((J23-Scaler!C10)/Scaler!D10-Centroids!J3)^2+((K23-Scaler!C11)/Scaler!D11-Centroids!K3)^2),SQRT(((B23-Scaler!C2)/Scaler!D2-Centroids!B5)^2+((C23-Scaler!C3)/Scaler!D3-Centroids!C5)^2+((D23-Scaler!C4)/Scaler!D4-Centroids!D5)^2+((E23-Scaler!C5)/Scaler!D5-Centroids!E5)^2+((F23-Scaler!C6)/Scaler!D6-Centroids!F5)^2+((G23-Scaler!C7)/Scaler!D7-Centroids!G5)^2+((H23-Scaler!C8)/Scaler!D8-Centroids!H5)^2+((I23-Scaler!C9)/Scaler!D9-Centroids!I5)^2+((J23-Scaler!C10)/Scaler!D10-Centroids!J5)^2+((K23-Scaler!C11)/Scaler!D11-Centroids!K5)^2)),2,3)))) | M23: =IF(A23="","",VLOOKUP(L23,{0,"Performance Athletes";1,"Casual Walkers";2,"Sneakerheads";3,"Weekend Warriors"},2,FALSE())) | N23: =IF(A23="","","Scored")
L24: =IF(A24="","",IF(SQRT(((B24-Scaler!C2)/Scaler!D2-Centroids!B2)^2+((C24-Scaler!C3)/Scaler!D3-Centroids!C2)^2+((D24-Scaler!C4)/Scaler!D4-Centroids!D2)^2+((E24-Scaler!C5)/Scaler!D5-Centroids!E2)^2+((F24-Scaler!C6)/Scaler!D6-Centroids!F2)^2+((G24-Scaler!C7)/Scaler!D7-Centroids!G2)^2+((H24-Scaler!C8)/Scaler!D8-Centroids!H2)^2+((I24-Scaler!C9)/Scaler!D9-Centroids!I2)^2+((J24-Scaler!C10)/Scaler!D10-Centroids!J2)^2+((K24-Scaler!C11)/Scaler!D11-Centroids!K2)^2)<=MIN(SQRT(((B24-Scaler!C2)/Scaler!D2-Centroids!B3)^2+((C24-Scaler!C3)/Scaler!D3-Centroids!C3)^2+((D24-Scaler!C4)/Scaler!D4-Centroids!D3)^2+((E24-Scaler!C5)/Scaler!D5-Centroids!E3)^2+((F24-Scaler!C6)/Scaler!D6-Centroids!F3)^2+((G24-Scaler!C7)/Scaler!D7-Centroids!G3)^2+((H24-Scaler!C8)/Scaler!D8-Centroids!H3)^2+((I24-Scaler!C9)/Scaler!D9-Centroids!I3)^2+((J24-Scaler!C10)/Scaler!D10-Centroids!J3)^2+((K24-Scaler!C11)/Scaler!D11-Centroids!K3)^2),SQRT(((B24-Scaler!C2)/Scaler!D2-Centroids!B4)^2+((C24-Scaler!C3)/Scaler!D3-Centroids!C4)^2+((D24-Scaler!C4)/Scaler!D4-Centroids!D4)^2+((E24-Scaler!C5)/Scaler!D5-Centroids!E4)^2+((F24-Scaler!C6)/Scaler!D6-Centroids!F4)^2+((G24-Scaler!C7)/Scaler!D7-Centroids!G4)^2+((H24-Scaler!C8)/Scaler!D8-Centroids!H4)^2+((I24-Scaler!C9)/Scaler!D9-Centroids!I4)^2+((J24-Scaler!C10)/Scaler!D10-Centroids!J4)^2+((K24-Scaler!C11)/Scaler!D11-Centroids!K4)^2),SQRT(((B24-Scaler!C2)/Scaler!D2-Centroids!B5)^2+((C24-Scaler!C3)/Scaler!D3-Centroids!C5)^2+((D24-Scaler!C4)/Scaler!D4-Centroids!D5)^2+((E24-Scaler!C5)/Scaler!D5-Centroids!E5)^2+((F24-Scaler!C6)/Scaler!D6-Centroids!F5)^2+((G24-Scaler!C7)/Scaler!D7-Centroids!G5)^2+((H24-Scaler!C8)/Scaler!D8-Centroids!H5)^2+((I24-Scaler!C9)/Scaler!D9-Centroids!I5)^2+((J24-Scaler!C10)/Scaler!D10-Centroids!J5)^2+((K24-Scaler!C11)/Scaler!D11-Centroids!K5)^2)),0,IF(SQRT(((B24-Scaler!C2)/Scaler!D2-Centroids!B3)^2+((C24-Scaler!C3)/Scaler!D3-Centroids!C3)^2+((D24-Scaler!C4)/Scaler!D4-Centroids!D3)^2+((E24-Scaler!C5)/Scaler!D5-Centroids!E3)^2+((F24-Scaler!C6)/Scaler!D6-Centroids!F3)^2+((G24-Scaler!C7)/Scaler!D7-Centroids!G3)^2+((H24-Scaler!C8)/Scaler!D8-Centroids!H3)^2+((I24-Scaler!C9)/Scaler!D9-Centroids!I3)^2+((J24-Scaler!C10)/Scaler!D10-Centroids!J3)^2+((K24-Scaler!C11)/Scaler!D11-Centroids!K3)^2)<=MIN(SQRT(((B24-Scaler!C2)/Scaler!D2-Centroids!B2)^2+((C24-Scaler!C3)/Scaler!D3-Centroids!C2)^2+((D24-Scaler!C4)/Scaler!D4-Centroids!D2)^2+((E24-Scaler!C5)/Scaler!D5-Centroids!E2)^2+((F24-Scaler!C6)/Scaler!D6-Centroids!F2)^2+((G24-Scaler!C7)/Scaler!D7-Centroids!G2)^2+((H24-Scaler!C8)/Scaler!D8-Centroids!H2)^2+((I24-Scaler!C9)/Scaler!D9-Centroids!I2)^2+((J24-Scaler!C10)/Scaler!D10-Centroids!J2)^2+((K24-Scaler!C11)/Scaler!D11-Centroids!K2)^2),SQRT(((B24-Scaler!C2)/Scaler!D2-Centroids!B4)^2+((C24-Scaler!C3)/Scaler!D3-Centroids!C4)^2+((D24-Scaler!C4)/Scaler!D4-Centroids!D4)^2+((E24-Scaler!C5)/Scaler!D5-Centroids!E4)^2+((F24-Scaler!C6)/Scaler!D6-Centroids!F4)^2+((G24-Scaler!C7)/Scaler!D7-Centroids!G4)^2+((H24-Scaler!C8)/Scaler!D8-Centroids!H4)^2+((I24-Scaler!C9)/Scaler!D9-Centroids!I4)^2+((J24-Scaler!C10)/Scaler!D10-Centroids!J4)^2+((K24-Scaler!C11)/Scaler!D11-Centroids!K4)^2),SQRT(((B24-Scaler!C2)/Scaler!D2-Centroids!B5)^2+((C24-Scaler!C3)/Scaler!D3-Centroids!C5)^2+((D24-Scaler!C4)/Scaler!D4-Centroids!D5)^2+((E24-Scaler!C5)/Scaler!D5-Centroids!E5)^2+((F24-Scaler!C6)/Scaler!D6-Centroids!F5)^2+((G24-Scaler!C7)/Scaler!D7-Centroids!G5)^2+((H24-Scaler!C8)/Scaler!D8-Centroids!H5)^2+((I24-Scaler!C9)/Scaler!D9-Centroids!I5)^2+((J24-Scaler!C10)/Scaler!D10-Centroids!J5)^2+((K24-Scaler!C11)/Scaler!D11-Centroids!K5)^2)),1,IF(SQRT(((B24-Scaler!C2)/Scaler!D2-Centroids!B4)^2+((C24-Scaler!C3)/Scaler!D3-Centroids!C4)^2+((D24-Scaler!C4)/Scaler!D4-Centroids!D4)^2+((E24-Scaler!C5)/Scaler!D5-Centroids!E4)^2+((F24-Scaler!C6)/Scaler!D6-Centroids!F4)^2+((G24-Scaler!C7)/Scaler!D7-Centroids!G4)^2+((H24-Scaler!C8)/Scaler!D8-Centroids!H4)^2+((I24-Scaler!C9)/Scaler!D9-Centroids!I4)^2+((J24-Scaler!C10)/Scaler!D10-Centroids!J4)^2+((K24-Scaler!C11)/Scaler!D11-Centroids!K4)^2)<=MIN(SQRT(((B24-Scaler!C2)/Scaler!D2-Centroids!B2)^2+((C24-Scaler!C3)/Scaler!D3-Centroids!C2)^2+((D24-Scaler!C4)/Scaler!D4-Centroids!D2)^2+((E24-Scaler!C5)/Scaler!D5-Centroids!E2)^2+((F24-Scaler!C6)/Scaler!D6-Centroids!F2)^2+((G24-Scaler!C7)/Scaler!D7-Centroids!G2)^2+((H24-Scaler!C8)/Scaler!D8-Centroids!H2)^2+((I24-Scaler!C9)/Scaler!D9-Centroids!I2)^2+((J24-Scaler!C10)/Scaler!D10-Centroids!J2)^2+((K24-Scaler!C11)/Scaler!D11-Centroids!K2)^2),SQRT(((B24-Scaler!C2)/Scaler!D2-Centroids!B3)^2+((C24-Scaler!C3)/Scaler!D3-Centroids!C3)^2+((D24-Scaler!C4)/Scaler!D4-Centroids!D3)^2+((E24-Scaler!C5)/Scaler!D5-Centroids!E3)^2+((F24-Scaler!C6)/Scaler!D6-Centroids!F3)^2+((G24-Scaler!C7)/Scaler!D7-Centroids!G3)^2+((H24-Scaler!C8)/Scaler!D8-Centroids!H3)^2+((I24-Scaler!C9)/Scaler!D9-Centroids!I3)^2+((J24-Scaler!C10)/Scaler!D10-Centroids!J3)^2+((K24-Scaler!C11)/Scaler!D11-Centroids!K3)^2),SQRT(((B24-Scaler!C2)/Scaler!D2-Centroids!B5)^2+((C24-Scaler!C3)/Scaler!D3-Centroids!C5)^2+((D24-Scaler!C4)/Scaler!D4-Centroids!D5)^2+((E24-Scaler!C5)/Scaler!D5-Centroids!E5)^2+((F24-Scaler!C6)/Scaler!D6-Centroids!F5)^2+((G24-Scaler!C7)/Scaler!D7-Centroids!G5)^2+((H24-Scaler!C8)/Scaler!D8-Centroids!H5)^2+((I24-Scaler!C9)/Scaler!D9-Centroids!I5)^2+((J24-Scaler!C10)/Scaler!D10-Centroids!J5)^2+((K24-Scaler!C11)/Scaler!D11-Centroids!K5)^2)),2,3)))) | M24: =IF(A24="","",VLOOKUP(L24,{0,"Performance Athletes";1,"Casual Walkers";2,"Sneakerheads";3,"Weekend Warriors"},2,FALSE())) | N24: =IF(A24="","","Scored")
L25: =IF(A25="","",IF(SQRT(((B25-Scaler!C2)/Scaler!D2-Centroids!B2)^2+((C25-Scaler!C3)/Scaler!D3-Centroids!C2)^2+((D25-Scaler!C4)/Scaler!D4-Centroids!D2)^2+((E25-Scaler!C5)/Scaler!D5-Centroids!E2)^2+((F25-Scaler!C6)/Scaler!D6-Centroids!F2)^2+((G25-Scaler!C7)/Scaler!D7-Centroids!G2)^2+((H25-Scaler!C8)/Scaler!D8-Centroids!H2)^2+((I25-Scaler!C9)/Scaler!D9-Centroids!I2)^2+((J25-Scaler!C10)/Scaler!D10-Centroids!J2)^2+((K25-Scaler!C11)/Scaler!D11-Centroids!K2)^2)<=MIN(SQRT(((B25-Scaler!C2)/Scaler!D2-Centroids!B3)^2+((C25-Scaler!C3)/Scaler!D3-Centroids!C3)^2+((D25-Scaler!C4)/Scaler!D4-Centroids!D3)^2+((E25-Scaler!C5)/Scaler!D5-Centroids!E3)^2+((F25-Scaler!C6)/Scaler!D6-Centroids!F3)^2+((G25-Scaler!C7)/Scaler!D7-Centroids!G3)^2+((H25-Scaler!C8)/Scaler!D8-Centroids!H3)^2+((I25-Scaler!C9)/Scaler!D9-Centroids!I3)^2+((J25-Scaler!C10)/Scaler!D10-Centroids!J3)^2+((K25-Scaler!C11)/Scaler!D11-Centroids!K3)^2),SQRT(((B25-Scaler!C2)/Scaler!D2-Centroids!B4)^2+((C25-Scaler!C3)/Scaler!D3-Centroids!C4)^2+((D25-Scaler!C4)/Scaler!D4-Centroids!D4)^2+((E25-Scaler!C5)/Scaler!D5-Centroids!E4)^2+((F25-Scaler!C6)/Scaler!D6-Centroids!F4)^2+((G25-Scaler!C7)/Scaler!D7-Centroids!G4)^2+((H25-Scaler!C8)/Scaler!D8-Centroids!H4)^2+((I25-Scaler!C9)/Scaler!D9-Centroids!I4)^2+((J25-Scaler!C10)/Scaler!D10-Centroids!J4)^2+((K25-Scaler!C11)/Scaler!D11-Centroids!K4)^2),SQRT(((B25-Scaler!C2)/Scaler!D2-Centroids!B5)^2+((C25-Scaler!C3)/Scaler!D3-Centroids!C5)^2+((D25-Scaler!C4)/Scaler!D4-Centroids!D5)^2+((E25-Scaler!C5)/Scaler!D5-Centroids!E5)^2+((F25-Scaler!C6)/Scaler!D6-Centroids!F5)^2+((G25-Scaler!C7)/Scaler!D7-Centroids!G5)^2+((H25-Scaler!C8)/Scaler!D8-Centroids!H5)^2+((I25-Scaler!C9)/Scaler!D9-Centroids!I5)^2+((J25-Scaler!C10)/Scaler!D10-Centroids!J5)^2+((K25-Scaler!C11)/Scaler!D11-Centroids!K5)^2)),0,IF(SQRT(((B25-Scaler!C2)/Scaler!D2-Centroids!B3)^2+((C25-Scaler!C3)/Scaler!D3-Centroids!C3)^2+((D25-Scaler!C4)/Scaler!D4-Centroids!D3)^2+((E25-Scaler!C5)/Scaler!D5-Centroids!E3)^2+((F25-Scaler!C6)/Scaler!D6-Centroids!F3)^2+((G25-Scaler!C7)/Scaler!D7-Centroids!G3)^2+((H25-Scaler!C8)/Scaler!D8-Centroids!H3)^2+((I25-Scaler!C9)/Scaler!D9-Centroids!I3)^2+((J25-Scaler!C10)/Scaler!D10-Centroids!J3)^2+((K25-Scaler!C11)/Scaler!D11-Centroids!K3)^2)<=MIN(SQRT(((B25-Scaler!C2)/Scaler!D2-Centroids!B2)^2+((C25-Scaler!C3)/Scaler!D3-Centroids!C2)^2+((D25-Scaler!C4)/Scaler!D4-Centroids!D2)^2+((E25-Scaler!C5)/Scaler!D5-Centroids!E2)^2+((F25-Scaler!C6)/Scaler!D6-Centroids!F2)^2+((G25-Scaler!C7)/Scaler!D7-Centroids!G2)^2+((H25-Scaler!C8)/Scaler!D8-Centroids!H2)^2+((I25-Scaler!C9)/Scaler!D9-Centroids!I2)^2+((J25-Scaler!C10)/Scaler!D10-Centroids!J2)^2+((K25-Scaler!C11)/Scaler!D11-Centroids!K2)^2),SQRT(((B25-Scaler!C2)/Scaler!D2-Centroids!B4)^2+((C25-Scaler!C3)/Scaler!D3-Centroids!C4)^2+((D25-Scaler!C4)/Scaler!D4-Centroids!D4)^2+((E25-Scaler!C5)/Scaler!D5-Centroids!E4)^2+((F25-Scaler!C6)/Scaler!D6-Centroids!F4)^2+((G25-Scaler!C7)/Scaler!D7-Centroids!G4)^2+((H25-Scaler!C8)/Scaler!D8-Centroids!H4)^2+((I25-Scaler!C9)/Scaler!D9-Centroids!I4)^2+((J25-Scaler!C10)/Scaler!D10-Centroids!J4)^2+((K25-Scaler!C11)/Scaler!D11-Centroids!K4)^2),SQRT(((B25-Scaler!C2)/Scaler!D2-Centroids!B5)^2+((C25-Scaler!C3)/Scaler!D3-Centroids!C5)^2+((D25-Scaler!C4)/Scaler!D4-Centroids!D5)^2+((E25-Scaler!C5)/Scaler!D5-Centroids!E5)^2+((F25-Scaler!C6)/Scaler!D6-Centroids!F5)^2+((G25-Scaler!C7)/Scaler!D7-Centroids!G5)^2+((H25-Scaler!C8)/Scaler!D8-Centroids!H5)^2+((I25-Scaler!C9)/Scaler!D9-Centroids!I5)^2+((J25-Scaler!C10)/Scaler!D10-Centroids!J5)^2+((K25-Scaler!C11)/Scaler!D11-Centroids!K5)^2)),1,IF(SQRT(((B25-Scaler!C2)/Scaler!D2-Centroids!B4)^2+((C25-Scaler!C3)/Scaler!D3-Centroids!C4)^2+((D25-Scaler!C4)/Scaler!D4-Centroids!D4)^2+((E25-Scaler!C5)/Scaler!D5-Centroids!E4)^2+((F25-Scaler!C6)/Scaler!D6-Centroids!F4)^2+((G25-Scaler!C7)/Scaler!D7-Centroids!G4)^2+((H25-Scaler!C8)/Scaler!D8-Centroids!H4)^2+((I25-Scaler!C9)/Scaler!D9-Centroids!I4)^2+((J25-Scaler!C10)/Scaler!D10-Centroids!J4)^2+((K25-Scaler!C11)/Scaler!D11-Centroids!K4)^2)<=MIN(SQRT(((B25-Scaler!C2)/Scaler!D2-Centroids!B2)^2+((C25-Scaler!C3)/Scaler!D3-Centroids!C2)^2+((D25-Scaler!C4)/Scaler!D4-Centroids!D2)^2+((E25-Scaler!C5)/Scaler!D5-Centroids!E2)^2+((F25-Scaler!C6)/Scaler!D6-Centroids!F2)^2+((G25-Scaler!C7)/Scaler!D7-Centroids!G2)^2+((H25-Scaler!C8)/Scaler!D8-Centroids!H2)^2+((I25-Scaler!C9)/Scaler!D9-Centroids!I2)^2+((J25-Scaler!C10)/Scaler!D10-Centroids!J2)^2+((K25-Scaler!C11)/Scaler!D11-Centroids!K2)^2),SQRT(((B25-Scaler!C2)/Scaler!D2-Centroids!B3)^2+((C25-Scaler!C3)/Scaler!D3-Centroids!C3)^2+((D25-Scaler!C4)/Scaler!D4-Centroids!D3)^2+((E25-Scaler!C5)/Scaler!D5-Centroids!E3)^2+((F25-Scaler!C6)/Scaler!D6-Centroids!F3)^2+((G25-Scaler!C7)/Scaler!D7-Centroids!G3)^2+((H25-Scaler!C8)/Scaler!D8-Centroids!H3)^2+((I25-Scaler!C9)/Scaler!D9-Centroids!I3)^2+((J25-Scaler!C10)/Scaler!D10-Centroids!J3)^2+((K25-Scaler!C11)/Scaler!D11-Centroids!K3)^2),SQRT(((B25-Scaler!C2)/Scaler!D2-Centroids!B5)^2+((C25-Scaler!C3)/Scaler!D3-Centroids!C5)^2+((D25-Scaler!C4)/Scaler!D4-Centroids!D5)^2+((E25-Scaler!C5)/Scaler!D5-Centroids!E5)^2+((F25-Scaler!C6)/Scaler!D6-Centroids!F5)^2+((G25-Scaler!C7)/Scaler!D7-Centroids!G5)^2+((H25-Scaler!C8)/Scaler!D8-Centroids!H5)^2+((I25-Scaler!C9)/Scaler!D9-Centroids!I5)^2+((J25-Scaler!C10)/Scaler!D10-Centroids!J5)^2+((K25-Scaler!C11)/Scaler!D11-Centroids!K5)^2)),2,3)))) | M25: =IF(A25="","",VLOOKUP(L25,{0,"Performance Athletes";1,"Casual Walkers";2,"Sneakerheads";3,"Weekend Warriors"},2,FALSE())) | N25: =IF(A25="","","Scored")
L26: =IF(A26="","",IF(SQRT(((B26-Scaler!C2)/Scaler!D2-Centroids!B2)^2+((C26-Scaler!C3)/Scaler!D3-Centroids!C2)^2+((D26-Scaler!C4)/Scaler!D4-Centroids!D2)^2+((E26-Scaler!C5)/Scaler!D5-Centroids!E2)^2+((F26-Scaler!C6)/Scaler!D6-Centroids!F2)^2+((G26-Scaler!C7)/Scaler!D7-Centroids!G2)^2+((H26-Scaler!C8)/Scaler!D8-Centroids!H2)^2+((I26-Scaler!C9)/Scaler!D9-Centroids!I2)^2+((J26-Scaler!C10)/Scaler!D10-Centroids!J2)^2+((K26-Scaler!C11)/Scaler!D11-Centroids!K2)^2)<=MIN(SQRT(((B26-Scaler!C2)/Scaler!D2-Centroids!B3)^2+((C26-Scaler!C3)/Scaler!D3-Centroids!C3)^2+((D26-Scaler!C4)/Scaler!D4-Centroids!D3)^2+((E26-Scaler!C5)/Scaler!D5-Centroids!E3)^2+((F26-Scaler!C6)/Scaler!D6-Centroids!F3)^2+((G26-Scaler!C7)/Scaler!D7-Centroids!G3)^2+((H26-Scaler!C8)/Scaler!D8-Centroids!H3)^2+((I26-Scaler!C9)/Scaler!D9-Centroids!I3)^2+((J26-Scaler!C10)/Scaler!D10-Centroids!J3)^2+((K26-Scaler!C11)/Scaler!D11-Centroids!K3)^2),SQRT(((B26-Scaler!C2)/Scaler!D2-Centroids!B4)^2+((C26-Scaler!C3)/Scaler!D3-Centroids!C4)^2+((D26-Scaler!C4)/Scaler!D4-Centroids!D4)^2+((E26-Scaler!C5)/Scaler!D5-Centroids!E4)^2+((F26-Scaler!C6)/Scaler!D6-Centroids!F4)^2+((G26-Scaler!C7)/Scaler!D7-Centroids!G4)^2+((H26-Scaler!C8)/Scaler!D8-Centroids!H4)^2+((I26-Scaler!C9)/Scaler!D9-Centroids!I4)^2+((J26-Scaler!C10)/Scaler!D10-Centroids!J4)^2+((K26-Scaler!C11)/Scaler!D11-Centroids!K4)^2),SQRT(((B26-Scaler!C2)/Scaler!D2-Centroids!B5)^2+((C26-Scaler!C3)/Scaler!D3-Centroids!C5)^2+((D26-Scaler!C4)/Scaler!D4-Centroids!D5)^2+((E26-Scaler!C5)/Scaler!D5-Centroids!E5)^2+((F26-Scaler!C6)/Scaler!D6-Centroids!F5)^2+((G26-Scaler!C7)/Scaler!D7-Centroids!G5)^2+((H26-Scaler!C8)/Scaler!D8-Centroids!H5)^2+((I26-Scaler!C9)/Scaler!D9-Centroids!I5)^2+((J26-Scaler!C10)/Scaler!D10-Centroids!J5)^2+((K26-Scaler!C11)/Scaler!D11-Centroids!K5)^2)),0,IF(SQRT(((B26-Scaler!C2)/Scaler!D2-Centroids!B3)^2+((C26-Scaler!C3)/Scaler!D3-Centroids!C3)^2+((D26-Scaler!C4)/Scaler!D4-Centroids!D3)^2+((E26-Scaler!C5)/Scaler!D5-Centroids!E3)^2+((F26-Scaler!C6)/Scaler!D6-Centroids!F3)^2+((G26-Scaler!C7)/Scaler!D7-Centroids!G3)^2+((H26-Scaler!C8)/Scaler!D8-Centroids!H3)^2+((I26-Scaler!C9)/Scaler!D9-Centroids!I3)^2+((J26-Scaler!C10)/Scaler!D10-Centroids!J3)^2+((K26-Scaler!C11)/Scaler!D11-Centroids!K3)^2)<=MIN(SQRT(((B26-Scaler!C2)/Scaler!D2-Centroids!B2)^2+((C26-Scaler!C3)/Scaler!D3-Centroids!C2)^2+((D26-Scaler!C4)/Scaler!D4-Centroids!D2)^2+((E26-Scaler!C5)/Scaler!D5-Centroids!E2)^2+((F26-Scaler!C6)/Scaler!D6-Centroids!F2)^2+((G26-Scaler!C7)/Scaler!D7-Centroids!G2)^2+((H26-Scaler!C8)/Scaler!D8-Centroids!H2)^2+((I26-Scaler!C9)/Scaler!D9-Centroids!I2)^2+((J26-Scaler!C10)/Scaler!D10-Centroids!J2)^2+((K26-Scaler!C11)/Scaler!D11-Centroids!K2)^2),SQRT(((B26-Scaler!C2)/Scaler!D2-Centroids!B4)^2+((C26-Scaler!C3)/Scaler!D3-Centroids!C4)^2+((D26-Scaler!C4)/Scaler!D4-Centroids!D4)^2+((E26-Scaler!C5)/Scaler!D5-Centroids!E4)^2+((F26-Scaler!C6)/Scaler!D6-Centroids!F4)^2+((G26-Scaler!C7)/Scaler!D7-Centroids!G4)^2+((H26-Scaler!C8)/Scaler!D8-Centroids!H4)^2+((I26-Scaler!C9)/Scaler!D9-Centroids!I4)^2+((J26-Scaler!C10)/Scaler!D10-Centroids!J4)^2+((K26-Scaler!C11)/Scaler!D11-Centroids!K4)^2),SQRT(((B26-Scaler!C2)/Scaler!D2-Centroids!B5)^2+((C26-Scaler!C3)/Scaler!D3-Centroids!C5)^2+((D26-Scaler!C4)/Scaler!D4-Centroids!D5)^2+((E26-Scaler!C5)/Scaler!D5-Centroids!E5)^2+((F26-Scaler!C6)/Scaler!D6-Centroids!F5)^2+((G26-Scaler!C7)/Scaler!D7-Centroids!G5)^2+((H26-Scaler!C8)/Scaler!D8-Centroids!H5)^2+((I26-Scaler!C9)/Scaler!D9-Centroids!I5)^2+((J26-Scaler!C10)/Scaler!D10-Centroids!J5)^2+((K26-Scaler!C11)/Scaler!D11-Centroids!K5)^2)),1,IF(SQRT(((B26-Scaler!C2)/Scaler!D2-Centroids!B4)^2+((C26-Scaler!C3)/Scaler!D3-Centroids!C4)^2+((D26-Scaler!C4)/Scaler!D4-Centroids!D4)^2+((E26-Scaler!C5)/Scaler!D5-Centroids!E4)^2+((F26-Scaler!C6)/Scaler!D6-Centroids!F4)^2+((G26-Scaler!C7)/Scaler!D7-Centroids!G4)^2+((H26-Scaler!C8)/Scaler!D8-Centroids!H4)^2+((I26-Scaler!C9)/Scaler!D9-Centroids!I4)^2+((J26-Scaler!C10)/Scaler!D10-Centroids!J4)^2+((K26-Scaler!C11)/Scaler!D11-Centroids!K4)^2)<=MIN(SQRT(((B26-Scaler!C2)/Scaler!D2-Centroids!B2)^2+((C26-Scaler!C3)/Scaler!D3-Centroids!C2)^2+((D26-Scaler!C4)/Scaler!D4-Centroids!D2)^2+((E26-Scaler!C5)/Scaler!D5-Centroids!E2)^2+((F26-Scaler!C6)/Scaler!D6-Centroids!F2)^2+((G26-Scaler!C7)/Scaler!D7-Centroids!G2)^2+((H26-Scaler!C8)/Scaler!D8-Centroids!H2)^2+((I26-Scaler!C9)/Scaler!D9-Centroids!I2)^2+((J26-Scaler!C10)/Scaler!D10-Centroids!J2)^2+((K26-Scaler!C11)/Scaler!D11-Centroids!K2)^2),SQRT(((B26-Scaler!C2)/Scaler!D2-Centroids!B3)^2+((C26-Scaler!C3)/Scaler!D3-Centroids!C3)^2+((D26-Scaler!C4)/Scaler!D4-Centroids!D3)^2+((E26-Scaler!C5)/Scaler!D5-Centroids!E3)^2+((F26-Scaler!C6)/Scaler!D6-Centroids!F3)^2+((G26-Scaler!C7)/Scaler!D7-Centroids!G3)^2+((H26-Scaler!C8)/Scaler!D8-Centroids!H3)^2+((I26-Scaler!C9)/Scaler!D9-Centroids!I3)^2+((J26-Scaler!C10)/Scaler!D10-Centroids!J3)^2+((K26-Scaler!C11)/Scaler!D11-Centroids!K3)^2),SQRT(((B26-Scaler!C2)/Scaler!D2-Centroids!B5)^2+((C26-Scaler!C3)/Scaler!D3-Centroids!C5)^2+((D26-Scaler!C4)/Scaler!D4-Centroids!D5)^2+((E26-Scaler!C5)/Scaler!D5-Centroids!E5)^2+((F26-Scaler!C6)/Scaler!D6-Centroids!F5)^2+((G26-Scaler!C7)/Scaler!D7-Centroids!G5)^2+((H26-Scaler!C8)/Scaler!D8-Centroids!H5)^2+((I26-Scaler!C9)/Scaler!D9-Centroids!I5)^2+((J26-Scaler!C10)/Scaler!D10-Centroids!J5)^2+((K26-Scaler!C11)/Scaler!D11-Centroids!K5)^2)),2,3)))) | M26: =IF(A26="","",VLOOKUP(L26,{0,"Performance Athletes";1,"Casual Walkers";2,"Sneakerheads";3,"Weekend Warriors"},2,FALSE())) | N26: =IF(A26="","","Scored")
L27: =IF(A27="","",IF(SQRT(((B27-Scaler!C2)/Scaler!D2-Centroids!B2)^2+((C27-Scaler!C3)/Scaler!D3-Centroids!C2)^2+((D27-Scaler!C4)/Scaler!D4-Centroids!D2)^2+((E27-Scaler!C5)/Scaler!D5-Centroids!E2)^2+((F27-Scaler!C6)/Scaler!D6-Centroids!F2)^2+((G27-Scaler!C7)/Scaler!D7-Centroids!G2)^2+((H27-Scaler!C8)/Scaler!D8-Centroids!H2)^2+((I27-Scaler!C9)/Scaler!D9-Centroids!I2)^2+((J27-Scaler!C10)/Scaler!D10-Centroids!J2)^2+((K27-Scaler!C11)/Scaler!D11-Centroids!K2)^2)<=MIN(SQRT(((B27-Scaler!C2)/Scaler!D2-Centroids!B3)^2+((C27-Scaler!C3)/Scaler!D3-Centroids!C3)^2+((D27-Scaler!C4)/Scaler!D4-Centroids!D3)^2+((E27-Scaler!C5)/Scaler!D5-Centroids!E3)^2+((F27-Scaler!C6)/Scaler!D6-Centroids!F3)^2+((G27-Scaler!C7)/Scaler!D7-Centroids!G3)^2+((H27-Scaler!C8)/Scaler!D8-Centroids!H3)^2+((I27-Scaler!C9)/Scaler!D9-Centroids!I3)^2+((J27-Scaler!C10)/Scaler!D10-Centroids!J3)^2+((K27-Scaler!C11)/Scaler!D11-Centroids!K3)^2),SQRT(((B27-Scaler!C2)/Scaler!D2-Centroids!B4)^2+((C27-Scaler!C3)/Scaler!D3-Centroids!C4)^2+((D27-Scaler!C4)/Scaler!D4-Centroids!D4)^2+((E27-Scaler!C5)/Scaler!D5-Centroids!E4)^2+((F27-Scaler!C6)/Scaler!D6-Centroids!F4)^2+((G27-Scaler!C7)/Scaler!D7-Centroids!G4)^2+((H27-Scaler!C8)/Scaler!D8-Centroids!H4)^2+((I27-Scaler!C9)/Scaler!D9-Centroids!I4)^2+((J27-Scaler!C10)/Scaler!D10-Centroids!J4)^2+((K27-Scaler!C11)/Scaler!D11-Centroids!K4)^2),SQRT(((B27-Scaler!C2)/Scaler!D2-Centroids!B5)^2+((C27-Scaler!C3)/Scaler!D3-Centroids!C5)^2+((D27-Scaler!C4)/Scaler!D4-Centroids!D5)^2+((E27-Scaler!C5)/Scaler!D5-Centroids!E5)^2+((F27-Scaler!C6)/Scaler!D6-Centroids!F5)^2+((G27-Scaler!C7)/Scaler!D7-Centroids!G5)^2+((H27-Scaler!C8)/Scaler!D8-Centroids!H5)^2+((I27-Scaler!C9)/Scaler!D9-Centroids!I5)^2+((J27-Scaler!C10)/Scaler!D10-Centroids!J5)^2+((K27-Scaler!C11)/Scaler!D11-Centroids!K5)^2)),0,IF(SQRT(((B27-Scaler!C2)/Scaler!D2-Centroids!B3)^2+((C27-Scaler!C3)/Scaler!D3-Centroids!C3)^2+((D27-Scaler!C4)/Scaler!D4-Centroids!D3)^2+((E27-Scaler!C5)/Scaler!D5-Centroids!E3)^2+((F27-Scaler!C6)/Scaler!D6-Centroids!F3)^2+((G27-Scaler!C7)/Scaler!D7-Centroids!G3)^2+((H27-Scaler!C8)/Scaler!D8-Centroids!H3)^2+((I27-Scaler!C9)/Scaler!D9-Centroids!I3)^2+((J27-Scaler!C10)/Scaler!D10-Centroids!J3)^2+((K27-Scaler!C11)/Scaler!D11-Centroids!K3)^2)<=MIN(SQRT(((B27-Scaler!C2)/Scaler!D2-Centroids!B2)^2+((C27-Scaler!C3)/Scaler!D3-Centroids!C2)^2+((D27-Scaler!C4)/Scaler!D4-Centroids!D2)^2+((E27-Scaler!C5)/Scaler!D5-Centroids!E2)^2+((F27-Scaler!C6)/Scaler!D6-Centroids!F2)^2+((G27-Scaler!C7)/Scaler!D7-Centroids!G2)^2+((H27-Scaler!C8)/Scaler!D8-Centroids!H2)^2+((I27-Scaler!C9)/Scaler!D9-Centroids!I2)^2+((J27-Scaler!C10)/Scaler!D10-Centroids!J2)^2+((K27-Scaler!C11)/Scaler!D11-Centroids!K2)^2),SQRT(((B27-Scaler!C2)/Scaler!D2-Centroids!B4)^2+((C27-Scaler!C3)/Scaler!D3-Centroids!C4)^2+((D27-Scaler!C4)/Scaler!D4-Centroids!D4)^2+((E27-Scaler!C5)/Scaler!D5-Centroids!E4)^2+((F27-Scaler!C6)/Scaler!D6-Centroids!F4)^2+((G27-Scaler!C7)/Scaler!D7-Centroids!G4)^2+((H27-Scaler!C8)/Scaler!D8-Centroids!H4)^2+((I27-Scaler!C9)/Scaler!D9-Centroids!I4)^2+((J27-Scaler!C10)/Scaler!D10-Centroids!J4)^2+((K27-Scaler!C11)/Scaler!D11-Centroids!K4)^2),SQRT(((B27-Scaler!C2)/Scaler!D2-Centroids!B5)^2+((C27-Scaler!C3)/Scaler!D3-Centroids!C5)^2+((D27-Scaler!C4)/Scaler!D4-Centroids!D5)^2+((E27-Scaler!C5)/Scaler!D5-Centroids!E5)^2+((F27-Scaler!C6)/Scaler!D6-Centroids!F5)^2+((G27-Scaler!C7)/Scaler!D7-Centroids!G5)^2+((H27-Scaler!C8)/Scaler!D8-Centroids!H5)^2+((I27-Scaler!C9)/Scaler!D9-Centroids!I5)^2+((J27-Scaler!C10)/Scaler!D10-Centroids!J5)^2+((K27-Scaler!C11)/Scaler!D11-Centroids!K5)^2)),1,IF(SQRT(((B27-Scaler!C2)/Scaler!D2-Centroids!B4)^2+((C27-Scaler!C3)/Scaler!D3-Centroids!C4)^2+((D27-Scaler!C4)/Scaler!D4-Centroids!D4)^2+((E27-Scaler!C5)/Scaler!D5-Centroids!E4)^2+((F27-Scaler!C6)/Scaler!D6-Centroids!F4)^2+((G27-Scaler!C7)/Scaler!D7-Centroids!G4)^2+((H27-Scaler!C8)/Scaler!D8-Centroids!H4)^2+((I27-Scaler!C9)/Scaler!D9-Centroids!I4)^2+((J27-Scaler!C10)/Scaler!D10-Centroids!J4)^2+((K27-Scaler!C11)/Scaler!D11-Centroids!K4)^2)<=MIN(SQRT(((B27-Scaler!C2)/Scaler!D2-Centroids!B2)^2+((C27-Scaler!C3)/Scaler!D3-Centroids!C2)^2+((D27-Scaler!C4)/Scaler!D4-Centroids!D2)^2+((E27-Scaler!C5)/Scaler!D5-Centroids!E2)^2+((F27-Scaler!C6)/Scaler!D6-Centroids!F2)^2+((G27-Scaler!C7)/Scaler!D7-Centroids!G2)^2+((H27-Scaler!C8)/Scaler!D8-Centroids!H2)^2+((I27-Scaler!C9)/Scaler!D9-Centroids!I2)^2+((J27-Scaler!C10)/Scaler!D10-Centroids!J2)^2+((K27-Scaler!C11)/Scaler!D11-Centroids!K2)^2),SQRT(((B27-Scaler!C2)/Scaler!D2-Centroids!B3)^2+((C27-Scaler!C3)/Scaler!D3-Centroids!C3)^2+((D27-Scaler!C4)/Scaler!D4-Centroids!D3)^2+((E27-Scaler!C5)/Scaler!D5-Centroids!E3)^2+((F27-Scaler!C6)/Scaler!D6-Centroids!F3)^2+((G27-Scaler!C7)/Scaler!D7-Centroids!G3)^2+((H27-Scaler!C8)/Scaler!D8-Centroids!H3)^2+((I27-Scaler!C9)/Scaler!D9-Centroids!I3)^2+((J27-Scaler!C10)/Scaler!D10-Centroids!J3)^2+((K27-Scaler!C11)/Scaler!D11-Centroids!K3)^2),SQRT(((B27-Scaler!C2)/Scaler!D2-Centroids!B5)^2+((C27-Scaler!C3)/Scaler!D3-Centroids!C5)^2+((D27-Scaler!C4)/Scaler!D4-Centroids!D5)^2+((E27-Scaler!C5)/Scaler!D5-Centroids!E5)^2+((F27-Scaler!C6)/Scaler!D6-Centroids!F5)^2+((G27-Scaler!C7)/Scaler!D7-Centroids!G5)^2+((H27-Scaler!C8)/Scaler!D8-Centroids!H5)^2+((I27-Scaler!C9)/Scaler!D9-Centroids!I5)^2+((J27-Scaler!C10)/Scaler!D10-Centroids!J5)^2+((K27-Scaler!C11)/Scaler!D11-Centroids!K5)^2)),2,3)))) | M27: =IF(A27="","",VLOOKUP(L27,{0,"Performance Athletes";1,"Casual Walkers";2,"Sneakerheads";3,"Weekend Warriors"},2,FALSE())) | N27: =IF(A27="","","Scored")
L28: =IF(A28="","",IF(SQRT(((B28-Scaler!C2)/Scaler!D2-Centroids!B2)^2+((C28-Scaler!C3)/Scaler!D3-Centroids!C2)^2+((D28-Scaler!C4)/Scaler!D4-Centroids!D2)^2+((E28-Scaler!C5)/Scaler!D5-Centroids!E2)^2+((F28-Scaler!C6)/Scaler!D6-Centroids!F2)^2+((G28-Scaler!C7)/Scaler!D7-Centroids!G2)^2+((H28-Scaler!C8)/Scaler!D8-Centroids!H2)^2+((I28-Scaler!C9)/Scaler!D9-Centroids!I2)^2+((J28-Scaler!C10)/Scaler!D10-Centroids!J2)^2+((K28-Scaler!C11)/Scaler!D11-Centroids!K2)^2)<=MIN(SQRT(((B28-Scaler!C2)/Scaler!D2-Centroids!B3)^2+((C28-Scaler!C3)/Scaler!D3-Centroids!C3)^2+((D28-Scaler!C4)/Scaler!D4-Centroids!D3)^2+((E28-Scaler!C5)/Scaler!D5-Centroids!E3)^2+((F28-Scaler!C6)/Scaler!D6-Centroids!F3)^2+((G28-Scaler!C7)/Scaler!D7-Centroids!G3)^2+((H28-Scaler!C8)/Scaler!D8-Centroids!H3)^2+((I28-Scaler!C9)/Scaler!D9-Centroids!I3)^2+((J28-Scaler!C10)/Scaler!D10-Centroids!J3)^2+((K28-Scaler!C11)/Scaler!D11-Centroids!K3)^2),SQRT(((B28-Scaler!C2)/Scaler!D2-Centroids!B4)^2+((C28-Scaler!C3)/Scaler!D3-Centroids!C4)^2+((D28-Scaler!C4)/Scaler!D4-Centroids!D4)^2+((E28-Scaler!C5)/Scaler!D5-Centroids!E4)^2+((F28-Scaler!C6)/Scaler!D6-Centroids!F4)^2+((G28-Scaler!C7)/Scaler!D7-Centroids!G4)^2+((H28-Scaler!C8)/Scaler!D8-Centroids!H4)^2+((I28-Scaler!C9)/Scaler!D9-Centroids!I4)^2+((J28-Scaler!C10)/Scaler!D10-Centroids!J4)^2+((K28-Scaler!C11)/Scaler!D11-Centroids!K4)^2),SQRT(((B28-Scaler!C2)/Scaler!D2-Centroids!B5)^2+((C28-Scaler!C3)/Scaler!D3-Centroids!C5)^2+((D28-Scaler!C4)/Scaler!D4-Centroids!D5)^2+((E28-Scaler!C5)/Scaler!D5-Centroids!E5)^2+((F28-Scaler!C6)/Scaler!D6-Centroids!F5)^2+((G28-Scaler!C7)/Scaler!D7-Centroids!G5)^2+((H28-Scaler!C8)/Scaler!D8-Centroids!H5)^2+((I28-Scaler!C9)/Scaler!D9-Centroids!I5)^2+((J28-Scaler!C10)/Scaler!D10-Centroids!J5)^2+((K28-Scaler!C11)/Scaler!D11-Centroids!K5)^2)),0,IF(SQRT(((B28-Scaler!C2)/Scaler!D2-Centroids!B3)^2+((C28-Scaler!C3)/Scaler!D3-Centroids!C3)^2+((D28-Scaler!C4)/Scaler!D4-Centroids!D3)^2+((E28-Scaler!C5)/Scaler!D5-Centroids!E3)^2+((F28-Scaler!C6)/Scaler!D6-Centroids!F3)^2+((G28-Scaler!C7)/Scaler!D7-Centroids!G3)^2+((H28-Scaler!C8)/Scaler!D8-Centroids!H3)^2+((I28-Scaler!C9)/Scaler!D9-Centroids!I3)^2+((J28-Scaler!C10)/Scaler!D10-Centroids!J3)^2+((K28-Scaler!C11)/Scaler!D11-Centroids!K3)^2)<=MIN(SQRT(((B28-Scaler!C2)/Scaler!D2-Centroids!B2)^2+((C28-Scaler!C3)/Scaler!D3-Centroids!C2)^2+((D28-Scaler!C4)/Scaler!D4-Centroids!D2)^2+((E28-Scaler!C5)/Scaler!D5-Centroids!E2)^2+((F28-Scaler!C6)/Scaler!D6-Centroids!F2)^2+((G28-Scaler!C7)/Scaler!D7-Centroids!G2)^2+((H28-Scaler!C8)/Scaler!D8-Centroids!H2)^2+((I28-Scaler!C9)/Scaler!D9-Centroids!I2)^2+((J28-Scaler!C10)/Scaler!D10-Centroids!J2)^2+((K28-Scaler!C11)/Scaler!D11-Centroids!K2)^2),SQRT(((B28-Scaler!C2)/Scaler!D2-Centroids!B4)^2+((C28-Scaler!C3)/Scaler!D3-Centroids!C4)^2+((D28-Scaler!C4)/Scaler!D4-Centroids!D4)^2+((E28-Scaler!C5)/Scaler!D5-Centroids!E4)^2+((F28-Scaler!C6)/Scaler!D6-Centroids!F4)^2+((G28-Scaler!C7)/Scaler!D7-Centroids!G4)^2+((H28-Scaler!C8)/Scaler!D8-Centroids!H4)^2+((I28-Scaler!C9)/Scaler!D9-Centroids!I4)^2+((J28-Scaler!C10)/Scaler!D10-Centroids!J4)^2+((K28-Scaler!C11)/Scaler!D11-Centroids!K4)^2),SQRT(((B28-Scaler!C2)/Scaler!D2-Centroids!B5)^2+((C28-Scaler!C3)/Scaler!D3-Centroids!C5)^2+((D28-Scaler!C4)/Scaler!D4-Centroids!D5)^2+((E28-Scaler!C5)/Scaler!D5-Centroids!E5)^2+((F28-Scaler!C6)/Scaler!D6-Centroids!F5)^2+((G28-Scaler!C7)/Scaler!D7-Centroids!G5)^2+((H28-Scaler!C8)/Scaler!D8-Centroids!H5)^2+((I28-Scaler!C9)/Scaler!D9-Centroids!I5)^2+((J28-Scaler!C10)/Scaler!D10-Centroids!J5)^2+((K28-Scaler!C11)/Scaler!D11-Centroids!K5)^2)),1,IF(SQRT(((B28-Scaler!C2)/Scaler!D2-Centroids!B4)^2+((C28-Scaler!C3)/Scaler!D3-Centroids!C4)^2+((D28-Scaler!C4)/Scaler!D4-Centroids!D4)^2+((E28-Scaler!C5)/Scaler!D5-Centroids!E4)^2+((F28-Scaler!C6)/Scaler!D6-Centroids!F4)^2+((G28-Scaler!C7)/Scaler!D7-Centroids!G4)^2+((H28-Scaler!C8)/Scaler!D8-Centroids!H4)^2+((I28-Scaler!C9)/Scaler!D9-Centroids!I4)^2+((J28-Scaler!C10)/Scaler!D10-Centroids!J4)^2+((K28-Scaler!C11)/Scaler!D11-Centroids!K4)^2)<=MIN(SQRT(((B28-Scaler!C2)/Scaler!D2-Centroids!B2)^2+((C28-Scaler!C3)/Scaler!D3-Centroids!C2)^2+((D28-Scaler!C4)/Scaler!D4-Centroids!D2)^2+((E28-Scaler!C5)/Scaler!D5-Centroids!E2)^2+((F28-Scaler!C6)/Scaler!D6-Centroids!F2)^2+((G28-Scaler!C7)/Scaler!D7-Centroids!G2)^2+((H28-Scaler!C8)/Scaler!D8-Centroids!H2)^2+((I28-Scaler!C9)/Scaler!D9-Centroids!I2)^2+((J28-Scaler!C10)/Scaler!D10-Centroids!J2)^2+((K28-Scaler!C11)/Scaler!D11-Centroids!K2)^2),SQRT(((B28-Scaler!C2)/Scaler!D2-Centroids!B3)^2+((C28-Scaler!C3)/Scaler!D3-Centroids!C3)^2+((D28-Scaler!C4)/Scaler!D4-Centroids!D3)^2+((E28-Scaler!C5)/Scaler!D5-Centroids!E3)^2+((F28-Scaler!C6)/Scaler!D6-Centroids!F3)^2+((G28-Scaler!C7)/Scaler!D7-Centroids!G3)^2+((H28-Scaler!C8)/Scaler!D8-Centroids!H3)^2+((I28-Scaler!C9)/Scaler!D9-Centroids!I3)^2+((J28-Scaler!C10)/Scaler!D10-Centroids!J3)^2+((K28-Scaler!C11)/Scaler!D11-Centroids!K3)^2),SQRT(((B28-Scaler!C2)/Scaler!D2-Centroids!B5)^2+((C28-Scaler!C3)/Scaler!D3-Centroids!C5)^2+((D28-Scaler!C4)/Scaler!D4-Centroids!D5)^2+((E28-Scaler!C5)/Scaler!D5-Centroids!E5)^2+((F28-Scaler!C6)/Scaler!D6-Centroids!F5)^2+((G28-Scaler!C7)/Scaler!D7-Centroids!G5)^2+((H28-Scaler!C8)/Scaler!D8-Centroids!H5)^2+((I28-Scaler!C9)/Scaler!D9-Centroids!I5)^2+((J28-Scaler!C10)/Scaler!D10-Centroids!J5)^2+((K28-Scaler!C11)/Scaler!D11-Centroids!K5)^2)),2,3)))) | M28: =IF(A28="","",VLOOKUP(L28,{0,"Performance Athletes";1,"Casual Walkers";2,"Sneakerheads";3,"Weekend Warriors"},2,FALSE())) | N28: =IF(A28="","","Scored")
L29: =IF(A29="","",IF(SQRT(((B29-Scaler!C2)/Scaler!D2-Centroids!B2)^2+((C29-Scaler!C3)/Scaler!D3-Centroids!C2)^2+((D29-Scaler!C4)/Scaler!D4-Centroids!D2)^2+((E29-Scaler!C5)/Scaler!D5-Centroids!E2)^2+((F29-Scaler!C6)/Scaler!D6-Centroids!F2)^2+((G29-Scaler!C7)/Scaler!D7-Centroids!G2)^2+((H29-Scaler!C8)/Scaler!D8-Centroids!H2)^2+((I29-Scaler!C9)/Scaler!D9-Centroids!I2)^2+((J29-Scaler!C10)/Scaler!D10-Centroids!J2)^2+((K29-Scaler!C11)/Scaler!D11-Centroids!K2)^2)<=MIN(SQRT(((B29-Scaler!C2)/Scaler!D2-Centroids!B3)^2+((C29-Scaler!C3)/Scaler!D3-Centroids!C3)^2+((D29-Scaler!C4)/Scaler!D4-Centroids!D3)^2+((E29-Scaler!C5)/Scaler!D5-Centroids!E3)^2+((F29-Scaler!C6)/Scaler!D6-Centroids!F3)^2+((G29-Scaler!C7)/Scaler!D7-Centroids!G3)^2+((H29-Scaler!C8)/Scaler!D8-Centroids!H3)^2+((I29-Scaler!C9)/Scaler!D9-Centroids!I3)^2+((J29-Scaler!C10)/Scaler!D10-Centroids!J3)^2+((K29-Scaler!C11)/Scaler!D11-Centroids!K3)^2),SQRT(((B29-Scaler!C2)/Scaler!D2-Centroids!B4)^2+((C29-Scaler!C3)/Scaler!D3-Centroids!C4)^2+((D29-Scaler!C4)/Scaler!D4-Centroids!D4)^2+((E29-Scaler!C5)/Scaler!D5-Centroids!E4)^2+((F29-Scaler!C6)/Scaler!D6-Centroids!F4)^2+((G29-Scaler!C7)/Scaler!D7-Centroids!G4)^2+((H29-Scaler!C8)/Scaler!D8-Centroids!H4)^2+((I29-Scaler!C9)/Scaler!D9-Centroids!I4)^2+((J29-Scaler!C10)/Scaler!D10-Centroids!J4)^2+((K29-Scaler!C11)/Scaler!D11-Centroids!K4)^2),SQRT(((B29-Scaler!C2)/Scaler!D2-Centroids!B5)^2+((C29-Scaler!C3)/Scaler!D3-Centroids!C5)^2+((D29-Scaler!C4)/Scaler!D4-Centroids!D5)^2+((E29-Scaler!C5)/Scaler!D5-Centroids!E5)^2+((F29-Scaler!C6)/Scaler!D6-Centroids!F5)^2+((G29-Scaler!C7)/Scaler!D7-Centroids!G5)^2+((H29-Scaler!C8)/Scaler!D8-Centroids!H5)^2+((I29-Scaler!C9)/Scaler!D9-Centroids!I5)^2+((J29-Scaler!C10)/Scaler!D10-Centroids!J5)^2+((K29-Scaler!C11)/Scaler!D11-Centroids!K5)^2)),0,IF(SQRT(((B29-Scaler!C2)/Scaler!D2-Centroids!B3)^2+((C29-Scaler!C3)/Scaler!D3-Centroids!C3)^2+((D29-Scaler!C4)/Scaler!D4-Centroids!D3)^2+((E29-Scaler!C5)/Scaler!D5-Centroids!E3)^2+((F29-Scaler!C6)/Scaler!D6-Centroids!F3)^2+((G29-Scaler!C7)/Scaler!D7-Centroids!G3)^2+((H29-Scaler!C8)/Scaler!D8-Centroids!H3)^2+((I29-Scaler!C9)/Scaler!D9-Centroids!I3)^2+((J29-Scaler!C10)/Scaler!D10-Centroids!J3)^2+((K29-Scaler!C11)/Scaler!D11-Centroids!K3)^2)<=MIN(SQRT(((B29-Scaler!C2)/Scaler!D2-Centroids!B2)^2+((C29-Scaler!C3)/Scaler!D3-Centroids!C2)^2+((D29-Scaler!C4)/Scaler!D4-Centroids!D2)^2+((E29-Scaler!C5)/Scaler!D5-Centroids!E2)^2+((F29-Scaler!C6)/Scaler!D6-Centroids!F2)^2+((G29-Scaler!C7)/Scaler!D7-Centroids!G2)^2+((H29-Scaler!C8)/Scaler!D8-Centroids!H2)^2+((I29-Scaler!C9)/Scaler!D9-Centroids!I2)^2+((J29-Scaler!C10)/Scaler!D10-Centroids!J2)^2+((K29-Scaler!C11)/Scaler!D11-Centroids!K2)^2),SQRT(((B29-Scaler!C2)/Scaler!D2-Centroids!B4)^2+((C29-Scaler!C3)/Scaler!D3-Centroids!C4)^2+((D29-Scaler!C4)/Scaler!D4-Centroids!D4)^2+((E29-Scaler!C5)/Scaler!D5-Centroids!E4)^2+((F29-Scaler!C6)/Scaler!D6-Centroids!F4)^2+((G29-Scaler!C7)/Scaler!D7-Centroids!G4)^2+((H29-Scaler!C8)/Scaler!D8-Centroids!H4)^2+((I29-Scaler!C9)/Scaler!D9-Centroids!I4)^2+((J29-Scaler!C10)/Scaler!D10-Centroids!J4)^2+((K29-Scaler!C11)/Scaler!D11-Centroids!K4)^2),SQRT(((B29-Scaler!C2)/Scaler!D2-Centroids!B5)^2+((C29-Scaler!C3)/Scaler!D3-Centroids!C5)^2+((D29-Scaler!C4)/Scaler!D4-Centroids!D5)^2+((E29-Scaler!C5)/Scaler!D5-Centroids!E5)^2+((F29-Scaler!C6)/Scaler!D6-Centroids!F5)^2+((G29-Scaler!C7)/Scaler!D7-Centroids!G5)^2+((H29-Scaler!C8)/Scaler!D8-Centroids!H5)^2+((I29-Scaler!C9)/Scaler!D9-Centroids!I5)^2+((J29-Scaler!C10)/Scaler!D10-Centroids!J5)^2+((K29-Scaler!C11)/Scaler!D11-Centroids!K5)^2)),1,IF(SQRT(((B29-Scaler!C2)/Scaler!D2-Centroids!B4)^2+((C29-Scaler!C3)/Scaler!D3-Centroids!C4)^2+((D29-Scaler!C4)/Scaler!D4-Centroids!D4)^2+((E29-Scaler!C5)/Scaler!D5-Centroids!E4)^2+((F29-Scaler!C6)/Scaler!D6-Centroids!F4)^2+((G29-Scaler!C7)/Scaler!D7-Centroids!G4)^2+((H29-Scaler!C8)/Scaler!D8-Centroids!H4)^2+((I29-Scaler!C9)/Scaler!D9-Centroids!I4)^2+((J29-Scaler!C10)/Scaler!D10-Centroids!J4)^2+((K29-Scaler!C11)/Scaler!D11-Centroids!K4)^2)<=MIN(SQRT(((B29-Scaler!C2)/Scaler!D2-Centroids!B2)^2+((C29-Scaler!C3)/Scaler!D3-Centroids!C2)^2+((D29-Scaler!C4)/Scaler!D4-Centroids!D2)^2+((E29-Scaler!C5)/Scaler!D5-Centroids!E2)^2+((F29-Scaler!C6)/Scaler!D6-Centroids!F2)^2+((G29-Scaler!C7)/Scaler!D7-Centroids!G2)^2+((H29-Scaler!C8)/Scaler!D8-Centroids!H2)^2+((I29-Scaler!C9)/Scaler!D9-Centroids!I2)^2+((J29-Scaler!C10)/Scaler!D10-Centroids!J2)^2+((K29-Scaler!C11)/Scaler!D11-Centroids!K2)^2),SQRT(((B29-Scaler!C2)/Scaler!D2-Centroids!B3)^2+((C29-Scaler!C3)/Scaler!D3-Centroids!C3)^2+((D29-Scaler!C4)/Scaler!D4-Centroids!D3)^2+((E29-Scaler!C5)/Scaler!D5-Centroids!E3)^2+((F29-Scaler!C6)/Scaler!D6-Centroids!F3)^2+((G29-Scaler!C7)/Scaler!D7-Centroids!G3)^2+((H29-Scaler!C8)/Scaler!D8-Centroids!H3)^2+((I29-Scaler!C9)/Scaler!D9-Centroids!I3)^2+((J29-Scaler!C10)/Scaler!D10-Centroids!J3)^2+((K29-Scaler!C11)/Scaler!D11-Centroids!K3)^2),SQRT(((B29-Scaler!C2)/Scaler!D2-Centroids!B5)^2+((C29-Scaler!C3)/Scaler!D3-Centroids!C5)^2+((D29-Scaler!C4)/Scaler!D4-Centroids!D5)^2+((E29-Scaler!C5)/Scaler!D5-Centroids!E5)^2+((F29-Scaler!C6)/Scaler!D6-Centroids!F5)^2+((G29-Scaler!C7)/Scaler!D7-Centroids!G5)^2+((H29-Scaler!C8)/Scaler!D8-Centroids!H5)^2+((I29-Scaler!C9)/Scaler!D9-Centroids!I5)^2+((J29-Scaler!C10)/Scaler!D10-Centroids!J5)^2+((K29-Scaler!C11)/Scaler!D11-Centroids!K5)^2)),2,3)))) | M29: =IF(A29="","",VLOOKUP(L29,{0,"Performance Athletes";1,"Casual Walkers";2,"Sneakerheads";3,"Weekend Warriors"},2,FALSE())) | N29: =IF(A29="","","Scored")
L30: =IF(A30="","",IF(SQRT(((B30-Scaler!C2)/Scaler!D2-Centroids!B2)^2+((C30-Scaler!C3)/Scaler!D3-Centroids!C2)^2+((D30-Scaler!C4)/Scaler!D4-Centroids!D2)^2+((E30-Scaler!C5)/Scaler!D5-Centroids!E2)^2+((F30-Scaler!C6)/Scaler!D6-Centroids!F2)^2+((G30-Scaler!C7)/Scaler!D7-Centroids!G2)^2+((H30-Scaler!C8)/Scaler!D8-Centroids!H2)^2+((I30-Scaler!C9)/Scaler!D9-Centroids!I2)^2+((J30-Scaler!C10)/Scaler!D10-Centroids!J2)^2+((K30-Scaler!C11)/Scaler!D11-Centroids!K2)^2)<=MIN(SQRT(((B30-Scaler!C2)/Scaler!D2-Centroids!B3)^2+((C30-Scaler!C3)/Scaler!D3-Centroids!C3)^2+((D30-Scaler!C4)/Scaler!D4-Centroids!D3)^2+((E30-Scaler!C5)/Scaler!D5-Centroids!E3)^2+((F30-Scaler!C6)/Scaler!D6-Centroids!F3)^2+((G30-Scaler!C7)/Scaler!D7-Centroids!G3)^2+((H30-Scaler!C8)/Scaler!D8-Centroids!H3)^2+((I30-Scaler!C9)/Scaler!D9-Centroids!I3)^2+((J30-Scaler!C10)/Scaler!D10-Centroids!J3)^2+((K30-Scaler!C11)/Scaler!D11-Centroids!K3)^2),SQRT(((B30-Scaler!C2)/Scaler!D2-Centroids!B4)^2+((C30-Scaler!C3)/Scaler!D3-Centroids!C4)^2+((D30-Scaler!C4)/Scaler!D4-Centroids!D4)^2+((E30-Scaler!C5)/Scaler!D5-Centroids!E4)^2+((F30-Scaler!C6)/Scaler!D6-Centroids!F4)^2+((G30-Scaler!C7)/Scaler!D7-Centroids!G4)^2+((H30-Scaler!C8)/Scaler!D8-Centroids!H4)^2+((I30-Scaler!C9)/Scaler!D9-Centroids!I4)^2+((J30-Scaler!C10)/Scaler!D10-Centroids!J4)^2+((K30-Scaler!C11)/Scaler!D11-Centroids!K4)^2),SQRT(((B30-Scaler!C2)/Scaler!D2-Centroids!B5)^2+((C30-Scaler!C3)/Scaler!D3-Centroids!C5)^2+((D30-Scaler!C4)/Scaler!D4-Centroids!D5)^2+((E30-Scaler!C5)/Scaler!D5-Centroids!E5)^2+((F30-Scaler!C6)/Scaler!D6-Centroids!F5)^2+((G30-Scaler!C7)/Scaler!D7-Centroids!G5)^2+((H30-Scaler!C8)/Scaler!D8-Centroids!H5)^2+((I30-Scaler!C9)/Scaler!D9-Centroids!I5)^2+((J30-Scaler!C10)/Scaler!D10-Centroids!J5)^2+((K30-Scaler!C11)/Scaler!D11-Centroids!K5)^2)),0,IF(SQRT(((B30-Scaler!C2)/Scaler!D2-Centroids!B3)^2+((C30-Scaler!C3)/Scaler!D3-Centroids!C3)^2+((D30-Scaler!C4)/Scaler!D4-Centroids!D3)^2+((E30-Scaler!C5)/Scaler!D5-Centroids!E3)^2+((F30-Scaler!C6)/Scaler!D6-Centroids!F3)^2+((G30-Scaler!C7)/Scaler!D7-Centroids!G3)^2+((H30-Scaler!C8)/Scaler!D8-Centroids!H3)^2+((I30-Scaler!C9)/Scaler!D9-Centroids!I3)^2+((J30-Scaler!C10)/Scaler!D10-Centroids!J3)^2+((K30-Scaler!C11)/Scaler!D11-Centroids!K3)^2)<=MIN(SQRT(((B30-Scaler!C2)/Scaler!D2-Centroids!B2)^2+((C30-Scaler!C3)/Scaler!D3-Centroids!C2)^2+((D30-Scaler!C4)/Scaler!D4-Centroids!D2)^2+((E30-Scaler!C5)/Scaler!D5-Centroids!E2)^2+((F30-Scaler!C6)/Scaler!D6-Centroids!F2)^2+((G30-Scaler!C7)/Scaler!D7-Centroids!G2)^2+((H30-Scaler!C8)/Scaler!D8-Centroids!H2)^2+((I30-Scaler!C9)/Scaler!D9-Centroids!I2)^2+((J30-Scaler!C10)/Scaler!D10-Centroids!J2)^2+((K30-Scaler!C11)/Scaler!D11-Centroids!K2)^2),SQRT(((B30-Scaler!C2)/Scaler!D2-Centroids!B4)^2+((C30-Scaler!C3)/Scaler!D3-Centroids!C4)^2+((D30-Scaler!C4)/Scaler!D4-Centroids!D4)^2+((E30-Scaler!C5)/Scaler!D5-Centroids!E4)^2+((F30-Scaler!C6)/Scaler!D6-Centroids!F4)^2+((G30-Scaler!C7)/Scaler!D7-Centroids!G4)^2+((H30-Scaler!C8)/Scaler!D8-Centroids!H4)^2+((I30-Scaler!C9)/Scaler!D9-Centroids!I4)^2+((J30-Scaler!C10)/Scaler!D10-Centroids!J4)^2+((K30-Scaler!C11)/Scaler!D11-Centroids!K4)^2),SQRT(((B30-Scaler!C2)/Scaler!D2-Centroids!B5)^2+((C30-Scaler!C3)/Scaler!D3-Centroids!C5)^2+((D30-Scaler!C4)/Scaler!D4-Centroids!D5)^2+((E30-Scaler!C5)/Scaler!D5-Centroids!E5)^2+((F30-Scaler!C6)/Scaler!D6-Centroids!F5)^2+((G30-Scaler!C7)/Scaler!D7-Centroids!G5)^2+((H30-Scaler!C8)/Scaler!D8-Centroids!H5)^2+((I30-Scaler!C9)/Scaler!D9-Centroids!I5)^2+((J30-Scaler!C10)/Scaler!D10-Centroids!J5)^2+((K30-Scaler!C11)/Scaler!D11-Centroids!K5)^2)),1,IF(SQRT(((B30-Scaler!C2)/Scaler!D2-Centroids!B4)^2+((C30-Scaler!C3)/Scaler!D3-Centroids!C4)^2+((D30-Scaler!C4)/Scaler!D4-Centroids!D4)^2+((E30-Scaler!C5)/Scaler!D5-Centroids!E4)^2+((F30-Scaler!C6)/Scaler!D6-Centroids!F4)^2+((G30-Scaler!C7)/Scaler!D7-Centroids!G4)^2+((H30-Scaler!C8)/Scaler!D8-Centroids!H4)^2+((I30-Scaler!C9)/Scaler!D9-Centroids!I4)^2+((J30-Scaler!C10)/Scaler!D10-Centroids!J4)^2+((K30-Scaler!C11)/Scaler!D11-Centroids!K4)^2)<=MIN(SQRT(((B30-Scaler!C2)/Scaler!D2-Centroids!B2)^2+((C30-Scaler!C3)/Scaler!D3-Centroids!C2)^2+((D30-Scaler!C4)/Scaler!D4-Centroids!D2)^2+((E30-Scaler!C5)/Scaler!D5-Centroids!E2)^2+((F30-Scaler!C6)/Scaler!D6-Centroids!F2)^2+((G30-Scaler!C7)/Scaler!D7-Centroids!G2)^2+((H30-Scaler!C8)/Scaler!D8-Centroids!H2)^2+((I30-Scaler!C9)/Scaler!D9-Centroids!I2)^2+((J30-Scaler!C10)/Scaler!D10-Centroids!J2)^2+((K30-Scaler!C11)/Scaler!D11-Centroids!K2)^2),SQRT(((B30-Scaler!C2)/Scaler!D2-Centroids!B3)^2+((C30-Scaler!C3)/Scaler!D3-Centroids!C3)^2+((D30-Scaler!C4)/Scaler!D4-Centroids!D3)^2+((E30-Scaler!C5)/Scaler!D5-Centroids!E3)^2+((F30-Scaler!C6)/Scaler!D6-Centroids!F3)^2+((G30-Scaler!C7)/Scaler!D7-Centroids!G3)^2+((H30-Scaler!C8)/Scaler!D8-Centroids!H3)^2+((I30-Scaler!C9)/Scaler!D9-Centroids!I3)^2+((J30-Scaler!C10)/Scaler!D10-Centroids!J3)^2+((K30-Scaler!C11)/Scaler!D11-Centroids!K3)^2),SQRT(((B30-Scaler!C2)/Scaler!D2-Centroids!B5)^2+((C30-Scaler!C3)/Scaler!D3-Centroids!C5)^2+((D30-Scaler!C4)/Scaler!D4-Centroids!D5)^2+((E30-Scaler!C5)/Scaler!D5-Centroids!E5)^2+((F30-Scaler!C6)/Scaler!D6-Centroids!F5)^2+((G30-Scaler!C7)/Scaler!D7-Centroids!G5)^2+((H30-Scaler!C8)/Scaler!D8-Centroids!H5)^2+((I30-Scaler!C9)/Scaler!D9-Centroids!I5)^2+((J30-Scaler!C10)/Scaler!D10-Centroids!J5)^2+((K30-Scaler!C11)/Scaler!D11-Centroids!K5)^2)),2,3)))) | M30: =IF(A30="","",VLOOKUP(L30,{0,"Performance Athletes";1,"Casual Walkers";2,"Sneakerheads";3,"Weekend Warriors"},2,FALSE())) | N30: =IF(A30="","","Scored")
L31: =IF(A31="","",IF(SQRT(((B31-Scaler!C2)/Scaler!D2-Centroids!B2)^2+((C31-Scaler!C3)/Scaler!D3-Centroids!C2)^2+((D31-Scaler!C4)/Scaler!D4-Centroids!D2)^2+((E31-Scaler!C5)/Scaler!D5-Centroids!E2)^2+((F31-Scaler!C6)/Scaler!D6-Centroids!F2)^2+((G31-Scaler!C7)/Scaler!D7-Centroids!G2)^2+((H31-Scaler!C8)/Scaler!D8-Centroids!H2)^2+((I31-Scaler!C9)/Scaler!D9-Centroids!I2)^2+((J31-Scaler!C10)/Scaler!D10-Centroids!J2)^2+((K31-Scaler!C11)/Scaler!D11-Centroids!K2)^2)<=MIN(SQRT(((B31-Scaler!C2)/Scaler!D2-Centroids!B3)^2+((C31-Scaler!C3)/Scaler!D3-Centroids!C3)^2+((D31-Scaler!C4)/Scaler!D4-Centroids!D3)^2+((E31-Scaler!C5)/Scaler!D5-Centroids!E3)^2+((F31-Scaler!C6)/Scaler!D6-Centroids!F3)^2+((G31-Scaler!C7)/Scaler!D7-Centroids!G3)^2+((H31-Scaler!C8)/Scaler!D8-Centroids!H3)^2+((I31-Scaler!C9)/Scaler!D9-Centroids!I3)^2+((J31-Scaler!C10)/Scaler!D10-Centroids!J3)^2+((K31-Scaler!C11)/Scaler!D11-Centroids!K3)^2),SQRT(((B31-Scaler!C2)/Scaler!D2-Centroids!B4)^2+((C31-Scaler!C3)/Scaler!D3-Centroids!C4)^2+((D31-Scaler!C4)/Scaler!D4-Centroids!D4)^2+((E31-Scaler!C5)/Scaler!D5-Centroids!E4)^2+((F31-Scaler!C6)/Scaler!D6-Centroids!F4)^2+((G31-Scaler!C7)/Scaler!D7-Centroids!G4)^2+((H31-Scaler!C8)/Scaler!D8-Centroids!H4)^2+((I31-Scaler!C9)/Scaler!D9-Centroids!I4)^2+((J31-Scaler!C10)/Scaler!D10-Centroids!J4)^2+((K31-Scaler!C11)/Scaler!D11-Centroids!K4)^2),SQRT(((B31-Scaler!C2)/Scaler!D2-Centroids!B5)^2+((C31-Scaler!C3)/Scaler!D3-Centroids!C5)^2+((D31-Scaler!C4)/Scaler!D4-Centroids!D5)^2+((E31-Scaler!C5)/Scaler!D5-Centroids!E5)^2+((F31-Scaler!C6)/Scaler!D6-Centroids!F5)^2+((G31-Scaler!C7)/Scaler!D7-Centroids!G5)^2+((H31-Scaler!C8)/Scaler!D8-Centroids!H5)^2+((I31-Scaler!C9)/Scaler!D9-Centroids!I5)^2+((J31-Scaler!C10)/Scaler!D10-Centroids!J5)^2+((K31-Scaler!C11)/Scaler!D11-Centroids!K5)^2)),0,IF(SQRT(((B31-Scaler!C2)/Scaler!D2-Centroids!B3)^2+((C31-Scaler!C3)/Scaler!D3-Centroids!C3)^2+((D31-Scaler!C4)/Scaler!D4-Centroids!D3)^2+((E31-Scaler!C5)/Scaler!D5-Centroids!E3)^2+((F31-Scaler!C6)/Scaler!D6-Centroids!F3)^2+((G31-Scaler!C7)/Scaler!D7-Centroids!G3)^2+((H31-Scaler!C8)/Scaler!D8-Centroids!H3)^2+((I31-Scaler!C9)/Scaler!D9-Centroids!I3)^2+((J31-Scaler!C10)/Scaler!D10-Centroids!J3)^2+((K31-Scaler!C11)/Scaler!D11-Centroids!K3)^2)<=MIN(SQRT(((B31-Scaler!C2)/Scaler!D2-Centroids!B2)^2+((C31-Scaler!C3)/Scaler!D3-Centroids!C2)^2+((D31-Scaler!C4)/Scaler!D4-Centroids!D2)^2+((E31-Scaler!C5)/Scaler!D5-Centroids!E2)^2+((F31-Scaler!C6)/Scaler!D6-Centroids!F2)^2+((G31-Scaler!C7)/Scaler!D7-Centroids!G2)^2+((H31-Scaler!C8)/Scaler!D8-Centroids!H2)^2+((I31-Scaler!C9)/Scaler!D9-Centroids!I2)^2+((J31-Scaler!C10)/Scaler!D10-Centroids!J2)^2+((K31-Scaler!C11)/Scaler!D11-Centroids!K2)^2),SQRT(((B31-Scaler!C2)/Scaler!D2-Centroids!B4)^2+((C31-Scaler!C3)/Scaler!D3-Centroids!C4)^2+((D31-Scaler!C4)/Scaler!D4-Centroids!D4)^2+((E31-Scaler!C5)/Scaler!D5-Centroids!E4)^2+((F31-Scaler!C6)/Scaler!D6-Centroids!F4)^2+((G31-Scaler!C7)/Scaler!D7-Centroids!G4)^2+((H31-Scaler!C8)/Scaler!D8-Centroids!H4)^2+((I31-Scaler!C9)/Scaler!D9-Centroids!I4)^2+((J31-Scaler!C10)/Scaler!D10-Centroids!J4)^2+((K31-Scaler!C11)/Scaler!D11-Centroids!K4)^2),SQRT(((B31-Scaler!C2)/Scaler!D2-Centroids!B5)^2+((C31-Scaler!C3)/Scaler!D3-Centroids!C5)^2+((D31-Scaler!C4)/Scaler!D4-Centroids!D5)^2+((E31-Scaler!C5)/Scaler!D5-Centroids!E5)^2+((F31-Scaler!C6)/Scaler!D6-Centroids!F5)^2+((G31-Scaler!C7)/Scaler!D7-Centroids!G5)^2+((H31-Scaler!C8)/Scaler!D8-Centroids!H5)^2+((I31-Scaler!C9)/Scaler!D9-Centroids!I5)^2+((J31-Scaler!C10)/Scaler!D10-Centroids!J5)^2+((K31-Scaler!C11)/Scaler!D11-Centroids!K5)^2)),1,IF(SQRT(((B31-Scaler!C2)/Scaler!D2-Centroids!B4)^2+((C31-Scaler!C3)/Scaler!D3-Centroids!C4)^2+((D31-Scaler!C4)/Scaler!D4-Centroids!D4)^2+((E31-Scaler!C5)/Scaler!D5-Centroids!E4)^2+((F31-Scaler!C6)/Scaler!D6-Centroids!F4)^2+((G31-Scaler!C7)/Scaler!D7-Centroids!G4)^2+((H31-Scaler!C8)/Scaler!D8-Centroids!H4)^2+((I31-Scaler!C9)/Scaler!D9-Centroids!I4)^2+((J31-Scaler!C10)/Scaler!D10-Centroids!J4)^2+((K31-Scaler!C11)/Scaler!D11-Centroids!K4)^2)<=MIN(SQRT(((B31-Scaler!C2)/Scaler!D2-Centroids!B2)^2+((C31-Scaler!C3)/Scaler!D3-Centroids!C2)^2+((D31-Scaler!C4)/Scaler!D4-Centroids!D2)^2+((E31-Scaler!C5)/Scaler!D5-Centroids!E2)^2+((F31-Scaler!C6)/Scaler!D6-Centroids!F2)^2+((G31-Scaler!C7)/Scaler!D7-Centroids!G2)^2+((H31-Scaler!C8)/Scaler!D8-Centroids!H2)^2+((I31-Scaler!C9)/Scaler!D9-Centroids!I2)^2+((J31-Scaler!C10)/Scaler!D10-Centroids!J2)^2+((K31-Scaler!C11)/Scaler!D11-Centroids!K2)^2),SQRT(((B31-Scaler!C2)/Scaler!D2-Centroids!B3)^2+((C31-Scaler!C3)/Scaler!D3-Centroids!C3)^2+((D31-Scaler!C4)/Scaler!D4-Centroids!D3)^2+((E31-Scaler!C5)/Scaler!D5-Centroids!E3)^2+((F31-Scaler!C6)/Scaler!D6-Centroids!F3)^2+((G31-Scaler!C7)/Scaler!D7-Centroids!G3)^2+((H31-Scaler!C8)/Scaler!D8-Centroids!H3)^2+((I31-Scaler!C9)/Scaler!D9-Centroids!I3)^2+((J31-Scaler!C10)/Scaler!D10-Centroids!J3)^2+((K31-Scaler!C11)/Scaler!D11-Centroids!K3)^2),SQRT(((B31-Scaler!C2)/Scaler!D2-Centroids!B5)^2+((C31-Scaler!C3)/Scaler!D3-Centroids!C5)^2+((D31-Scaler!C4)/Scaler!D4-Centroids!D5)^2+((E31-Scaler!C5)/Scaler!D5-Centroids!E5)^2+((F31-Scaler!C6)/Scaler!D6-Centroids!F5)^2+((G31-Scaler!C7)/Scaler!D7-Centroids!G5)^2+((H31-Scaler!C8)/Scaler!D8-Centroids!H5)^2+((I31-Scaler!C9)/Scaler!D9-Centroids!I5)^2+((J31-Scaler!C10)/Scaler!D10-Centroids!J5)^2+((K31-Scaler!C11)/Scaler!D11-Centroids!K5)^2)),2,3)))) | M31: =IF(A31="","",VLOOKUP(L31,{0,"Performance Athletes";1,"Casual Walkers";2,"Sneakerheads";3,"Weekend Warriors"},2,FALSE())) | N31: =IF(A31="","","Scored")
L32: =IF(A32="","",IF(SQRT(((B32-Scaler!C2)/Scaler!D2-Centroids!B2)^2+((C32-Scaler!C3)/Scaler!D3-Centroids!C2)^2+((D32-Scaler!C4)/Scaler!D4-Centroids!D2)^2+((E32-Scaler!C5)/Scaler!D5-Centroids!E2)^2+((F32-Scaler!C6)/Scaler!D6-Centroids!F2)^2+((G32-Scaler!C7)/Scaler!D7-Centroids!G2)^2+((H32-Scaler!C8)/Scaler!D8-Centroids!H2)^2+((I32-Scaler!C9)/Scaler!D9-Centroids!I2)^2+((J32-Scaler!C10)/Scaler!D10-Centroids!J2)^2+((K32-Scaler!C11)/Scaler!D11-Centroids!K2)^2)<=MIN(SQRT(((B32-Scaler!C2)/Scaler!D2-Centroids!B3)^2+((C32-Scaler!C3)/Scaler!D3-Centroids!C3)^2+((D32-Scaler!C4)/Scaler!D4-Centroids!D3)^2+((E32-Scaler!C5)/Scaler!D5-Centroids!E3)^2+((F32-Scaler!C6)/Scaler!D6-Centroids!F3)^2+((G32-Scaler!C7)/Scaler!D7-Centroids!G3)^2+((H32-Scaler!C8)/Scaler!D8-Centroids!H3)^2+((I32-Scaler!C9)/Scaler!D9-Centroids!I3)^2+((J32-Scaler!C10)/Scaler!D10-Centroids!J3)^2+((K32-Scaler!C11)/Scaler!D11-Centroids!K3)^2),SQRT(((B32-Scaler!C2)/Scaler!D2-Centroids!B4)^2+((C32-Scaler!C3)/Scaler!D3-Centroids!C4)^2+((D32-Scaler!C4)/Scaler!D4-Centroids!D4)^2+((E32-Scaler!C5)/Scaler!D5-Centroids!E4)^2+((F32-Scaler!C6)/Scaler!D6-Centroids!F4)^2+((G32-Scaler!C7)/Scaler!D7-Centroids!G4)^2+((H32-Scaler!C8)/Scaler!D8-Centroids!H4)^2+((I32-Scaler!C9)/Scaler!D9-Centroids!I4)^2+((J32-Scaler!C10)/Scaler!D10-Centroids!J4)^2+((K32-Scaler!C11)/Scaler!D11-Centroids!K4)^2),SQRT(((B32-Scaler!C2)/Scaler!D2-Centroids!B5)^2+((C32-Scaler!C3)/Scaler!D3-Centroids!C5)^2+((D32-Scaler!C4)/Scaler!D4-Centroids!D5)^2+((E32-Scaler!C5)/Scaler!D5-Centroids!E5)^2+((F32-Scaler!C6)/Scaler!D6-Centroids!F5)^2+((G32-Scaler!C7)/Scaler!D7-Centroids!G5)^2+((H32-Scaler!C8)/Scaler!D8-Centroids!H5)^2+((I32-Scaler!C9)/Scaler!D9-Centroids!I5)^2+((J32-Scaler!C10)/Scaler!D10-Centroids!J5)^2+((K32-Scaler!C11)/Scaler!D11-Centroids!K5)^2)),0,IF(SQRT(((B32-Scaler!C2)/Scaler!D2-Centroids!B3)^2+((C32-Scaler!C3)/Scaler!D3-Centroids!C3)^2+((D32-Scaler!C4)/Scaler!D4-Centroids!D3)^2+((E32-Scaler!C5)/Scaler!D5-Centroids!E3)^2+((F32-Scaler!C6)/Scaler!D6-Centroids!F3)^2+((G32-Scaler!C7)/Scaler!D7-Centroids!G3)^2+((H32-Scaler!C8)/Scaler!D8-Centroids!H3)^2+((I32-Scaler!C9)/Scaler!D9-Centroids!I3)^2+((J32-Scaler!C10)/Scaler!D10-Centroids!J3)^2+((K32-Scaler!C11)/Scaler!D11-Centroids!K3)^2)<=MIN(SQRT(((B32-Scaler!C2)/Scaler!D2-Centroids!B2)^2+((C32-Scaler!C3)/Scaler!D3-Centroids!C2)^2+((D32-Scaler!C4)/Scaler!D4-Centroids!D2)^2+((E32-Scaler!C5)/Scaler!D5-Centroids!E2)^2+((F32-Scaler!C6)/Scaler!D6-Centroids!F2)^2+((G32-Scaler!C7)/Scaler!D7-Centroids!G2)^2+((H32-Scaler!C8)/Scaler!D8-Centroids!H2)^2+((I32-Scaler!C9)/Scaler!D9-Centroids!I2)^2+((J32-Scaler!C10)/Scaler!D10-Centroids!J2)^2+((K32-Scaler!C11)/Scaler!D11-Centroids!K2)^2),SQRT(((B32-Scaler!C2)/Scaler!D2-Centroids!B4)^2+((C32-Scaler!C3)/Scaler!D3-Centroids!C4)^2+((D32-Scaler!C4)/Scaler!D4-Centroids!D4)^2+((E32-Scaler!C5)/Scaler!D5-Centroids!E4)^2+((F32-Scaler!C6)/Scaler!D6-Centroids!F4)^2+((G32-Scaler!C7)/Scaler!D7-Centroids!G4)^2+((H32-Scaler!C8)/Scaler!D8-Centroids!H4)^2+((I32-Scaler!C9)/Scaler!D9-Centroids!I4)^2+((J32-Scaler!C10)/Scaler!D10-Centroids!J4)^2+((K32-Scaler!C11)/Scaler!D11-Centroids!K4)^2),SQRT(((B32-Scaler!C2)/Scaler!D2-Centroids!B5)^2+((C32-Scaler!C3)/Scaler!D3-Centroids!C5)^2+((D32-Scaler!C4)/Scaler!D4-Centroids!D5)^2+((E32-Scaler!C5)/Scaler!D5-Centroids!E5)^2+((F32-Scaler!C6)/Scaler!D6-Centroids!F5)^2+((G32-Scaler!C7)/Scaler!D7-Centroids!G5)^2+((H32-Scaler!C8)/Scaler!D8-Centroids!H5)^2+((I32-Scaler!C9)/Scaler!D9-Centroids!I5)^2+((J32-Scaler!C10)/Scaler!D10-Centroids!J5)^2+((K32-Scaler!C11)/Scaler!D11-Centroids!K5)^2)),1,IF(SQRT(((B32-Scaler!C2)/Scaler!D2-Centroids!B4)^2+((C32-Scaler!C3)/Scaler!D3-Centroids!C4)^2+((D32-Scaler!C4)/Scaler!D4-Centroids!D4)^2+((E32-Scaler!C5)/Scaler!D5-Centroids!E4)^2+((F32-Scaler!C6)/Scaler!D6-Centroids!F4)^2+((G32-Scaler!C7)/Scaler!D7-Centroids!G4)^2+((H32-Scaler!C8)/Scaler!D8-Centroids!H4)^2+((I32-Scaler!C9)/Scaler!D9-Centroids!I4)^2+((J32-Scaler!C10)/Scaler!D10-Centroids!J4)^2+((K32-Scaler!C11)/Scaler!D11-Centroids!K4)^2)<=MIN(SQRT(((B32-Scaler!C2)/Scaler!D2-Centroids!B2)^2+((C32-Scaler!C3)/Scaler!D3-Centroids!C2)^2+((D32-Scaler!C4)/Scaler!D4-Centroids!D2)^2+((E32-Scaler!C5)/Scaler!D5-Centroids!E2)^2+((F32-Scaler!C6)/Scaler!D6-Centroids!F2)^2+((G32-Scaler!C7)/Scaler!D7-Centroids!G2)^2+((H32-Scaler!C8)/Scaler!D8-Centroids!H2)^2+((I32-Scaler!C9)/Scaler!D9-Centroids!I2)^2+((J32-Scaler!C10)/Scaler!D10-Centroids!J2)^2+((K32-Scaler!C11)/Scaler!D11-Centroids!K2)^2),SQRT(((B32-Scaler!C2)/Scaler!D2-Centroids!B3)^2+((C32-Scaler!C3)/Scaler!D3-Centroids!C3)^2+((D32-Scaler!C4)/Scaler!D4-Centroids!D3)^2+((E32-Scaler!C5)/Scaler!D5-Centroids!E3)^2+((F32-Scaler!C6)/Scaler!D6-Centroids!F3)^2+((G32-Scaler!C7)/Scaler!D7-Centroids!G3)^2+((H32-Scaler!C8)/Scaler!D8-Centroids!H3)^2+((I32-Scaler!C9)/Scaler!D9-Centroids!I3)^2+((J32-Scaler!C10)/Scaler!D10-Centroids!J3)^2+((K32-Scaler!C11)/Scaler!D11-Centroids!K3)^2),SQRT(((B32-Scaler!C2)/Scaler!D2-Centroids!B5)^2+((C32-Scaler!C3)/Scaler!D3-Centroids!C5)^2+((D32-Scaler!C4)/Scaler!D4-Centroids!D5)^2+((E32-Scaler!C5)/Scaler!D5-Centroids!E5)^2+((F32-Scaler!C6)/Scaler!D6-Centroids!F5)^2+((G32-Scaler!C7)/Scaler!D7-Centroids!G5)^2+((H32-Scaler!C8)/Scaler!D8-Centroids!H5)^2+((I32-Scaler!C9)/Scaler!D9-Centroids!I5)^2+((J32-Scaler!C10)/Scaler!D10-Centroids!J5)^2+((K32-Scaler!C11)/Scaler!D11-Centroids!K5)^2)),2,3)))) | M32: =IF(A32="","",VLOOKUP(L32,{0,"Performance Athletes";1,"Casual Walkers";2,"Sneakerheads";3,"Weekend Warriors"},2,FALSE())) | N32: =IF(A32="","","Scored")
L33: =IF(A33="","",IF(SQRT(((B33-Scaler!C2)/Scaler!D2-Centroids!B2)^2+((C33-Scaler!C3)/Scaler!D3-Centroids!C2)^2+((D33-Scaler!C4)/Scaler!D4-Centroids!D2)^2+((E33-Scaler!C5)/Scaler!D5-Centroids!E2)^2+((F33-Scaler!C6)/Scaler!D6-Centroids!F2)^2+((G33-Scaler!C7)/Scaler!D7-Centroids!G2)^2+((H33-Scaler!C8)/Scaler!D8-Centroids!H2)^2+((I33-Scaler!C9)/Scaler!D9-Centroids!I2)^2+((J33-Scaler!C10)/Scaler!D10-Centroids!J2)^2+((K33-Scaler!C11)/Scaler!D11-Centroids!K2)^2)<=MIN(SQRT(((B33-Scaler!C2)/Scaler!D2-Centroids!B3)^2+((C33-Scaler!C3)/Scaler!D3-Centroids!C3)^2+((D33-Scaler!C4)/Scaler!D4-Centroids!D3)^2+((E33-Scaler!C5)/Scaler!D5-Centroids!E3)^2+((F33-Scaler!C6)/Scaler!D6-Centroids!F3)^2+((G33-Scaler!C7)/Scaler!D7-Centroids!G3)^2+((H33-Scaler!C8)/Scaler!D8-Centroids!H3)^2+((I33-Scaler!C9)/Scaler!D9-Centroids!I3)^2+((J33-Scaler!C10)/Scaler!D10-Centroids!J3)^2+((K33-Scaler!C11)/Scaler!D11-Centroids!K3)^2),SQRT(((B33-Scaler!C2)/Scaler!D2-Centroids!B4)^2+((C33-Scaler!C3)/Scaler!D3-Centroids!C4)^2+((D33-Scaler!C4)/Scaler!D4-Centroids!D4)^2+((E33-Scaler!C5)/Scaler!D5-Centroids!E4)^2+((F33-Scaler!C6)/Scaler!D6-Centroids!F4)^2+((G33-Scaler!C7)/Scaler!D7-Centroids!G4)^2+((H33-Scaler!C8)/Scaler!D8-Centroids!H4)^2+((I33-Scaler!C9)/Scaler!D9-Centroids!I4)^2+((J33-Scaler!C10)/Scaler!D10-Centroids!J4)^2+((K33-Scaler!C11)/Scaler!D11-Centroids!K4)^2),SQRT(((B33-Scaler!C2)/Scaler!D2-Centroids!B5)^2+((C33-Scaler!C3)/Scaler!D3-Centroids!C5)^2+((D33-Scaler!C4)/Scaler!D4-Centroids!D5)^2+((E33-Scaler!C5)/Scaler!D5-Centroids!E5)^2+((F33-Scaler!C6)/Scaler!D6-Centroids!F5)^2+((G33-Scaler!C7)/Scaler!D7-Centroids!G5)^2+((H33-Scaler!C8)/Scaler!D8-Centroids!H5)^2+((I33-Scaler!C9)/Scaler!D9-Centroids!I5)^2+((J33-Scaler!C10)/Scaler!D10-Centroids!J5)^2+((K33-Scaler!C11)/Scaler!D11-Centroids!K5)^2)),0,IF(SQRT(((B33-Scaler!C2)/Scaler!D2-Centroids!B3)^2+((C33-Scaler!C3)/Scaler!D3-Centroids!C3)^2+((D33-Scaler!C4)/Scaler!D4-Centroids!D3)^2+((E33-Scaler!C5)/Scaler!D5-Centroids!E3)^2+((F33-Scaler!C6)/Scaler!D6-Centroids!F3)^2+((G33-Scaler!C7)/Scaler!D7-Centroids!G3)^2+((H33-Scaler!C8)/Scaler!D8-Centroids!H3)^2+((I33-Scaler!C9)/Scaler!D9-Centroids!I3)^2+((J33-Scaler!C10)/Scaler!D10-Centroids!J3)^2+((K33-Scaler!C11)/Scaler!D11-Centroids!K3)^2)<=MIN(SQRT(((B33-Scaler!C2)/Scaler!D2-Centroids!B2)^2+((C33-Scaler!C3)/Scaler!D3-Centroids!C2)^2+((D33-Scaler!C4)/Scaler!D4-Centroids!D2)^2+((E33-Scaler!C5)/Scaler!D5-Centroids!E2)^2+((F33-Scaler!C6)/Scaler!D6-Centroids!F2)^2+((G33-Scaler!C7)/Scaler!D7-Centroids!G2)^2+((H33-Scaler!C8)/Scaler!D8-Centroids!H2)^2+((I33-Scaler!C9)/Scaler!D9-Centroids!I2)^2+((J33-Scaler!C10)/Scaler!D10-Centroids!J2)^2+((K33-Scaler!C11)/Scaler!D11-Centroids!K2)^2),SQRT(((B33-Scaler!C2)/Scaler!D2-Centroids!B4)^2+((C33-Scaler!C3)/Scaler!D3-Centroids!C4)^2+((D33-Scaler!C4)/Scaler!D4-Centroids!D4)^2+((E33-Scaler!C5)/Scaler!D5-Centroids!E4)^2+((F33-Scaler!C6)/Scaler!D6-Centroids!F4)^2+((G33-Scaler!C7)/Scaler!D7-Centroids!G4)^2+((H33-Scaler!C8)/Scaler!D8-Centroids!H4)^2+((I33-Scaler!C9)/Scaler!D9-Centroids!I4)^2+((J33-Scaler!C10)/Scaler!D10-Centroids!J4)^2+((K33-Scaler!C11)/Scaler!D11-Centroids!K4)^2),SQRT(((B33-Scaler!C2)/Scaler!D2-Centroids!B5)^2+((C33-Scaler!C3)/Scaler!D3-Centroids!C5)^2+((D33-Scaler!C4)/Scaler!D4-Centroids!D5)^2+((E33-Scaler!C5)/Scaler!D5-Centroids!E5)^2+((F33-Scaler!C6)/Scaler!D6-Centroids!F5)^2+((G33-Scaler!C7)/Scaler!D7-Centroids!G5)^2+((H33-Scaler!C8)/Scaler!D8-Centroids!H5)^2+((I33-Scaler!C9)/Scaler!D9-Centroids!I5)^2+((J33-Scaler!C10)/Scaler!D10-Centroids!J5)^2+((K33-Scaler!C11)/Scaler!D11-Centroids!K5)^2)),1,IF(SQRT(((B33-Scaler!C2)/Scaler!D2-Centroids!B4)^2+((C33-Scaler!C3)/Scaler!D3-Centroids!C4)^2+((D33-Scaler!C4)/Scaler!D4-Centroids!D4)^2+((E33-Scaler!C5)/Scaler!D5-Centroids!E4)^2+((F33-Scaler!C6)/Scaler!D6-Centroids!F4)^2+((G33-Scaler!C7)/Scaler!D7-Centroids!G4)^2+((H33-Scaler!C8)/Scaler!D8-Centroids!H4)^2+((I33-Scaler!C9)/Scaler!D9-Centroids!I4)^2+((J33-Scaler!C10)/Scaler!D10-Centroids!J4)^2+((K33-Scaler!C11)/Scaler!D11-Centroids!K4)^2)<=MIN(SQRT(((B33-Scaler!C2)/Scaler!D2-Centroids!B2)^2+((C33-Scaler!C3)/Scaler!D3-Centroids!C2)^2+((D33-Scaler!C4)/Scaler!D4-Centroids!D2)^2+((E33-Scaler!C5)/Scaler!D5-Centroids!E2)^2+((F33-Scaler!C6)/Scaler!D6-Centroids!F2)^2+((G33-Scaler!C7)/Scaler!D7-Centroids!G2)^2+((H33-Scaler!C8)/Scaler!D8-Centroids!H2)^2+((I33-Scaler!C9)/Scaler!D9-Centroids!I2)^2+((J33-Scaler!C10)/Scaler!D10-Centroids!J2)^2+((K33-Scaler!C11)/Scaler!D11-Centroids!K2)^2),SQRT(((B33-Scaler!C2)/Scaler!D2-Centroids!B3)^2+((C33-Scaler!C3)/Scaler!D3-Centroids!C3)^2+((D33-Scaler!C4)/Scaler!D4-Centroids!D3)^2+((E33-Scaler!C5)/Scaler!D5-Centroids!E3)^2+((F33-Scaler!C6)/Scaler!D6-Centroids!F3)^2+((G33-Scaler!C7)/Scaler!D7-Centroids!G3)^2+((H33-Scaler!C8)/Scaler!D8-Centroids!H3)^2+((I33-Scaler!C9)/Scaler!D9-Centroids!I3)^2+((J33-Scaler!C10)/Scaler!D10-Centroids!J3)^2+((K33-Scaler!C11)/Scaler!D11-Centroids!K3)^2),SQRT(((B33-Scaler!C2)/Scaler!D2-Centroids!B5)^2+((C33-Scaler!C3)/Scaler!D3-Centroids!C5)^2+((D33-Scaler!C4)/Scaler!D4-Centroids!D5)^2+((E33-Scaler!C5)/Scaler!D5-Centroids!E5)^2+((F33-Scaler!C6)/Scaler!D6-Centroids!F5)^2+((G33-Scaler!C7)/Scaler!D7-Centroids!G5)^2+((H33-Scaler!C8)/Scaler!D8-Centroids!H5)^2+((I33-Scaler!C9)/Scaler!D9-Centroids!I5)^2+((J33-Scaler!C10)/Scaler!D10-Centroids!J5)^2+((K33-Scaler!C11)/Scaler!D11-Centroids!K5)^2)),2,3)))) | M33: =IF(A33="","",VLOOKUP(L33,{0,"Performance Athletes";1,"Casual Walkers";2,"Sneakerheads";3,"Weekend Warriors"},2,FALSE())) | N33: =IF(A33="","","Scored")
L34: =IF(A34="","",IF(SQRT(((B34-Scaler!C2)/Scaler!D2-Centroids!B2)^2+((C34-Scaler!C3)/Scaler!D3-Centroids!C2)^2+((D34-Scaler!C4)/Scaler!D4-Centroids!D2)^2+((E34-Scaler!C5)/Scaler!D5-Centroids!E2)^2+((F34-Scaler!C6)/Scaler!D6-Centroids!F2)^2+((G34-Scaler!C7)/Scaler!D7-Centroids!G2)^2+((H34-Scaler!C8)/Scaler!D8-Centroids!H2)^2+((I34-Scaler!C9)/Scaler!D9-Centroids!I2)^2+((J34-Scaler!C10)/Scaler!D10-Centroids!J2)^2+((K34-Scaler!C11)/Scaler!D11-Centroids!K2)^2)<=MIN(SQRT(((B34-Scaler!C2)/Scaler!D2-Centroids!B3)^2+((C34-Scaler!C3)/Scaler!D3-Centroids!C3)^2+((D34-Scaler!C4)/Scaler!D4-Centroids!D3)^2+((E34-Scaler!C5)/Scaler!D5-Centroids!E3)^2+((F34-Scaler!C6)/Scaler!D6-Centroids!F3)^2+((G34-Scaler!C7)/Scaler!D7-Centroids!G3)^2+((H34-Scaler!C8)/Scaler!D8-Centroids!H3)^2+((I34-Scaler!C9)/Scaler!D9-Centroids!I3)^2+((J34-Scaler!C10)/Scaler!D10-Centroids!J3)^2+((K34-Scaler!C11)/Scaler!D11-Centroids!K3)^2),SQRT(((B34-Scaler!C2)/Scaler!D2-Centroids!B4)^2+((C34-Scaler!C3)/Scaler!D3-Centroids!C4)^2+((D34-Scaler!C4)/Scaler!D4-Centroids!D4)^2+((E34-Scaler!C5)/Scaler!D5-Centroids!E4)^2+((F34-Scaler!C6)/Scaler!D6-Centroids!F4)^2+((G34-Scaler!C7)/Scaler!D7-Centroids!G4)^2+((H34-Scaler!C8)/Scaler!D8-Centroids!H4)^2+((I34-Scaler!C9)/Scaler!D9-Centroids!I4)^2+((J34-Scaler!C10)/Scaler!D10-Centroids!J4)^2+((K34-Scaler!C11)/Scaler!D11-Centroids!K4)^2),SQRT(((B34-Scaler!C2)/Scaler!D2-Centroids!B5)^2+((C34-Scaler!C3)/Scaler!D3-Centroids!C5)^2+((D34-Scaler!C4)/Scaler!D4-Centroids!D5)^2+((E34-Scaler!C5)/Scaler!D5-Centroids!E5)^2+((F34-Scaler!C6)/Scaler!D6-Centroids!F5)^2+((G34-Scaler!C7)/Scaler!D7-Centroids!G5)^2+((H34-Scaler!C8)/Scaler!D8-Centroids!H5)^2+((I34-Scaler!C9)/Scaler!D9-Centroids!I5)^2+((J34-Scaler!C10)/Scaler!D10-Centroids!J5)^2+((K34-Scaler!C11)/Scaler!D11-Centroids!K5)^2)),0,IF(SQRT(((B34-Scaler!C2)/Scaler!D2-Centroids!B3)^2+((C34-Scaler!C3)/Scaler!D3-Centroids!C3)^2+((D34-Scaler!C4)/Scaler!D4-Centroids!D3)^2+((E34-Scaler!C5)/Scaler!D5-Centroids!E3)^2+((F34-Scaler!C6)/Scaler!D6-Centroids!F3)^2+((G34-Scaler!C7)/Scaler!D7-Centroids!G3)^2+((H34-Scaler!C8)/Scaler!D8-Centroids!H3)^2+((I34-Scaler!C9)/Scaler!D9-Centroids!I3)^2+((J34-Scaler!C10)/Scaler!D10-Centroids!J3)^2+((K34-Scaler!C11)/Scaler!D11-Centroids!K3)^2)<=MIN(SQRT(((B34-Scaler!C2)/Scaler!D2-Centroids!B2)^2+((C34-Scaler!C3)/Scaler!D3-Centroids!C2)^2+((D34-Scaler!C4)/Scaler!D4-Centroids!D2)^2+((E34-Scaler!C5)/Scaler!D5-Centroids!E2)^2+((F34-Scaler!C6)/Scaler!D6-Centroids!F2)^2+((G34-Scaler!C7)/Scaler!D7-Centroids!G2)^2+((H34-Scaler!C8)/Scaler!D8-Centroids!H2)^2+((I34-Scaler!C9)/Scaler!D9-Centroids!I2)^2+((J34-Scaler!C10)/Scaler!D10-Centroids!J2)^2+((K34-Scaler!C11)/Scaler!D11-Centroids!K2)^2),SQRT(((B34-Scaler!C2)/Scaler!D2-Centroids!B4)^2+((C34-Scaler!C3)/Scaler!D3-Centroids!C4)^2+((D34-Scaler!C4)/Scaler!D4-Centroids!D4)^2+((E34-Scaler!C5)/Scaler!D5-Centroids!E4)^2+((F34-Scaler!C6)/Scaler!D6-Centroids!F4)^2+((G34-Scaler!C7)/Scaler!D7-Centroids!G4)^2+((H34-Scaler!C8)/Scaler!D8-Centroids!H4)^2+((I34-Scaler!C9)/Scaler!D9-Centroids!I4)^2+((J34-Scaler!C10)/Scaler!D10-Centroids!J4)^2+((K34-Scaler!C11)/Scaler!D11-Centroids!K4)^2),SQRT(((B34-Scaler!C2)/Scaler!D2-Centroids!B5)^2+((C34-Scaler!C3)/Scaler!D3-Centroids!C5)^2+((D34-Scaler!C4)/Scaler!D4-Centroids!D5)^2+((E34-Scaler!C5)/Scaler!D5-Centroids!E5)^2+((F34-Scaler!C6)/Scaler!D6-Centroids!F5)^2+((G34-Scaler!C7)/Scaler!D7-Centroids!G5)^2+((H34-Scaler!C8)/Scaler!D8-Centroids!H5)^2+((I34-Scaler!C9)/Scaler!D9-Centroids!I5)^2+((J34-Scaler!C10)/Scaler!D10-Centroids!J5)^2+((K34-Scaler!C11)/Scaler!D11-Centroids!K5)^2)),1,IF(SQRT(((B34-Scaler!C2)/Scaler!D2-Centroids!B4)^2+((C34-Scaler!C3)/Scaler!D3-Centroids!C4)^2+((D34-Scaler!C4)/Scaler!D4-Centroids!D4)^2+((E34-Scaler!C5)/Scaler!D5-Centroids!E4)^2+((F34-Scaler!C6)/Scaler!D6-Centroids!F4)^2+((G34-Scaler!C7)/Scaler!D7-Centroids!G4)^2+((H34-Scaler!C8)/Scaler!D8-Centroids!H4)^2+((I34-Scaler!C9)/Scaler!D9-Centroids!I4)^2+((J34-Scaler!C10)/Scaler!D10-Centroids!J4)^2+((K34-Scaler!C11)/Scaler!D11-Centroids!K4)^2)<=MIN(SQRT(((B34-Scaler!C2)/Scaler!D2-Centroids!B2)^2+((C34-Scaler!C3)/Scaler!D3-Centroids!C2)^2+((D34-Scaler!C4)/Scaler!D4-Centroids!D2)^2+((E34-Scaler!C5)/Scaler!D5-Centroids!E2)^2+((F34-Scaler!C6)/Scaler!D6-Centroids!F2)^2+((G34-Scaler!C7)/Scaler!D7-Centroids!G2)^2+((H34-Scaler!C8)/Scaler!D8-Centroids!H2)^2+((I34-Scaler!C9)/Scaler!D9-Centroids!I2)^2+((J34-Scaler!C10)/Scaler!D10-Centroids!J2)^2+((K34-Scaler!C11)/Scaler!D11-Centroids!K2)^2),SQRT(((B34-Scaler!C2)/Scaler!D2-Centroids!B3)^2+((C34-Scaler!C3)/Scaler!D3-Centroids!C3)^2+((D34-Scaler!C4)/Scaler!D4-Centroids!D3)^2+((E34-Scaler!C5)/Scaler!D5-Centroids!E3)^2+((F34-Scaler!C6)/Scaler!D6-Centroids!F3)^2+((G34-Scaler!C7)/Scaler!D7-Centroids!G3)^2+((H34-Scaler!C8)/Scaler!D8-Centroids!H3)^2+((I34-Scaler!C9)/Scaler!D9-Centroids!I3)^2+((J34-Scaler!C10)/Scaler!D10-Centroids!J3)^2+((K34-Scaler!C11)/Scaler!D11-Centroids!K3)^2),SQRT(((B34-Scaler!C2)/Scaler!D2-Centroids!B5)^2+((C34-Scaler!C3)/Scaler!D3-Centroids!C5)^2+((D34-Scaler!C4)/Scaler!D4-Centroids!D5)^2+((E34-Scaler!C5)/Scaler!D5-Centroids!E5)^2+((F34-Scaler!C6)/Scaler!D6-Centroids!F5)^2+((G34-Scaler!C7)/Scaler!D7-Centroids!G5)^2+((H34-Scaler!C8)/Scaler!D8-Centroids!H5)^2+((I34-Scaler!C9)/Scaler!D9-Centroids!I5)^2+((J34-Scaler!C10)/Scaler!D10-Centroids!J5)^2+((K34-Scaler!C11)/Scaler!D11-Centroids!K5)^2)),2,3)))) | M34: =IF(A34="","",VLOOKUP(L34,{0,"Performance Athletes";1,"Casual Walkers";2,"Sneakerheads";3,"Weekend Warriors"},2,FALSE())) | N34: =IF(A34="","","Scored")
L35: =IF(A35="","",IF(SQRT(((B35-Scaler!C2)/Scaler!D2-Centroids!B2)^2+((C35-Scaler!C3)/Scaler!D3-Centroids!C2)^2+((D35-Scaler!C4)/Scaler!D4-Centroids!D2)^2+((E35-Scaler!C5)/Scaler!D5-Centroids!E2)^2+((F35-Scaler!C6)/Scaler!D6-Centroids!F2)^2+((G35-Scaler!C7)/Scaler!D7-Centroids!G2)^2+((H35-Scaler!C8)/Scaler!D8-Centroids!H2)^2+((I35-Scaler!C9)/Scaler!D9-Centroids!I2)^2+((J35-Scaler!C10)/Scaler!D10-Centroids!J2)^2+((K35-Scaler!C11)/Scaler!D11-Centroids!K2)^2)<=MIN(SQRT(((B35-Scaler!C2)/Scaler!D2-Centroids!B3)^2+((C35-Scaler!C3)/Scaler!D3-Centroids!C3)^2+((D35-Scaler!C4)/Scaler!D4-Centroids!D3)^2+((E35-Scaler!C5)/Scaler!D5-Centroids!E3)^2+((F35-Scaler!C6)/Scaler!D6-Centroids!F3)^2+((G35-Scaler!C7)/Scaler!D7-Centroids!G3)^2+((H35-Scaler!C8)/Scaler!D8-Centroids!H3)^2+((I35-Scaler!C9)/Scaler!D9-Centroids!I3)^2+((J35-Scaler!C10)/Scaler!D10-Centroids!J3)^2+((K35-Scaler!C11)/Scaler!D11-Centroids!K3)^2),SQRT(((B35-Scaler!C2)/Scaler!D2-Centroids!B4)^2+((C35-Scaler!C3)/Scaler!D3-Centroids!C4)^2+((D35-Scaler!C4)/Scaler!D4-Centroids!D4)^2+((E35-Scaler!C5)/Scaler!D5-Centroids!E4)^2+((F35-Scaler!C6)/Scaler!D6-Centroids!F4)^2+((G35-Scaler!C7)/Scaler!D7-Centroids!G4)^2+((H35-Scaler!C8)/Scaler!D8-Centroids!H4)^2+((I35-Scaler!C9)/Scaler!D9-Centroids!I4)^2+((J35-Scaler!C10)/Scaler!D10-Centroids!J4)^2+((K35-Scaler!C11)/Scaler!D11-Centroids!K4)^2),SQRT(((B35-Scaler!C2)/Scaler!D2-Centroids!B5)^2+((C35-Scaler!C3)/Scaler!D3-Centroids!C5)^2+((D35-Scaler!C4)/Scaler!D4-Centroids!D5)^2+((E35-Scaler!C5)/Scaler!D5-Centroids!E5)^2+((F35-Scaler!C6)/Scaler!D6-Centroids!F5)^2+((G35-Scaler!C7)/Scaler!D7-Centroids!G5)^2+((H35-Scaler!C8)/Scaler!D8-Centroids!H5)^2+((I35-Scaler!C9)/Scaler!D9-Centroids!I5)^2+((J35-Scaler!C10)/Scaler!D10-Centroids!J5)^2+((K35-Scaler!C11)/Scaler!D11-Centroids!K5)^2)),0,IF(SQRT(((B35-Scaler!C2)/Scaler!D2-Centroids!B3)^2+((C35-Scaler!C3)/Scaler!D3-Centroids!C3)^2+((D35-Scaler!C4)/Scaler!D4-Centroids!D3)^2+((E35-Scaler!C5)/Scaler!D5-Centroids!E3)^2+((F35-Scaler!C6)/Scaler!D6-Centroids!F3)^2+((G35-Scaler!C7)/Scaler!D7-Centroids!G3)^2+((H35-Scaler!C8)/Scaler!D8-Centroids!H3)^2+((I35-Scaler!C9)/Scaler!D9-Centroids!I3)^2+((J35-Scaler!C10)/Scaler!D10-Centroids!J3)^2+((K35-Scaler!C11)/Scaler!D11-Centroids!K3)^2)<=MIN(SQRT(((B35-Scaler!C2)/Scaler!D2-Centroids!B2)^2+((C35-Scaler!C3)/Scaler!D3-Centroids!C2)^2+((D35-Scaler!C4)/Scaler!D4-Centroids!D2)^2+((E35-Scaler!C5)/Scaler!D5-Centroids!E2)^2+((F35-Scaler!C6)/Scaler!D6-Centroids!F2)^2+((G35-Scaler!C7)/Scaler!D7-Centroids!G2)^2+((H35-Scaler!C8)/Scaler!D8-Centroids!H2)^2+((I35-Scaler!C9)/Scaler!D9-Centroids!I2)^2+((J35-Scaler!C10)/Scaler!D10-Centroids!J2)^2+((K35-Scaler!C11)/Scaler!D11-Centroids!K2)^2),SQRT(((B35-Scaler!C2)/Scaler!D2-Centroids!B4)^2+((C35-Scaler!C3)/Scaler!D3-Centroids!C4)^2+((D35-Scaler!C4)/Scaler!D4-Centroids!D4)^2+((E35-Scaler!C5)/Scaler!D5-Centroids!E4)^2+((F35-Scaler!C6)/Scaler!D6-Centroids!F4)^2+((G35-Scaler!C7)/Scaler!D7-Centroids!G4)^2+((H35-Scaler!C8)/Scaler!D8-Centroids!H4)^2+((I35-Scaler!C9)/Scaler!D9-Centroids!I4)^2+((J35-Scaler!C10)/Scaler!D10-Centroids!J4)^2+((K35-Scaler!C11)/Scaler!D11-Centroids!K4)^2),SQRT(((B35-Scaler!C2)/Scaler!D2-Centroids!B5)^2+((C35-Scaler!C3)/Scaler!D3-Centroids!C5)^2+((D35-Scaler!C4)/Scaler!D4-Centroids!D5)^2+((E35-Scaler!C5)/Scaler!D5-Centroids!E5)^2+((F35-Scaler!C6)/Scaler!D6-Centroids!F5)^2+((G35-Scaler!C7)/Scaler!D7-Centroids!G5)^2+((H35-Scaler!C8)/Scaler!D8-Centroids!H5)^2+((I35-Scaler!C9)/Scaler!D9-Centroids!I5)^2+((J35-Scaler!C10)/Scaler!D10-Centroids!J5)^2+((K35-Scaler!C11)/Scaler!D11-Centroids!K5)^2)),1,IF(SQRT(((B35-Scaler!C2)/Scaler!D2-Centroids!B4)^2+((C35-Scaler!C3)/Scaler!D3-Centroids!C4)^2+((D35-Scaler!C4)/Scaler!D4-Centroids!D4)^2+((E35-Scaler!C5)/Scaler!D5-Centroids!E4)^2+((F35-Scaler!C6)/Scaler!D6-Centroids!F4)^2+((G35-Scaler!C7)/Scaler!D7-Centroids!G4)^2+((H35-Scaler!C8)/Scaler!D8-Centroids!H4)^2+((I35-Scaler!C9)/Scaler!D9-Centroids!I4)^2+((J35-Scaler!C10)/Scaler!D10-Centroids!J4)^2+((K35-Scaler!C11)/Scaler!D11-Centroids!K4)^2)<=MIN(SQRT(((B35-Scaler!C2)/Scaler!D2-Centroids!B2)^2+((C35-Scaler!C3)/Scaler!D3-Centroids!C2)^2+((D35-Scaler!C4)/Scaler!D4-Centroids!D2)^2+((E35-Scaler!C5)/Scaler!D5-Centroids!E2)^2+((F35-Scaler!C6)/Scaler!D6-Centroids!F2)^2+((G35-Scaler!C7)/Scaler!D7-Centroids!G2)^2+((H35-Scaler!C8)/Scaler!D8-Centroids!H2)^2+((I35-Scaler!C9)/Scaler!D9-Centroids!I2)^2+((J35-Scaler!C10)/Scaler!D10-Centroids!J2)^2+((K35-Scaler!C11)/Scaler!D11-Centroids!K2)^2),SQRT(((B35-Scaler!C2)/Scaler!D2-Centroids!B3)^2+((C35-Scaler!C3)/Scaler!D3-Centroids!C3)^2+((D35-Scaler!C4)/Scaler!D4-Centroids!D3)^2+((E35-Scaler!C5)/Scaler!D5-Centroids!E3)^2+((F35-Scaler!C6)/Scaler!D6-Centroids!F3)^2+((G35-Scaler!C7)/Scaler!D7-Centroids!G3)^2+((H35-Scaler!C8)/Scaler!D8-Centroids!H3)^2+((I35-Scaler!C9)/Scaler!D9-Centroids!I3)^2+((J35-Scaler!C10)/Scaler!D10-Centroids!J3)^2+((K35-Scaler!C11)/Scaler!D11-Centroids!K3)^2),SQRT(((B35-Scaler!C2)/Scaler!D2-Centroids!B5)^2+((C35-Scaler!C3)/Scaler!D3-Centroids!C5)^2+((D35-Scaler!C4)/Scaler!D4-Centroids!D5)^2+((E35-Scaler!C5)/Scaler!D5-Centroids!E5)^2+((F35-Scaler!C6)/Scaler!D6-Centroids!F5)^2+((G35-Scaler!C7)/Scaler!D7-Centroids!G5)^2+((H35-Scaler!C8)/Scaler!D8-Centroids!H5)^2+((I35-Scaler!C9)/Scaler!D9-Centroids!I5)^2+((J35-Scaler!C10)/Scaler!D10-Centroids!J5)^2+((K35-Scaler!C11)/Scaler!D11-Centroids!K5)^2)),2,3)))) | M35: =IF(A35="","",VLOOKUP(L35,{0,"Performance Athletes";1,"Casual Walkers";2,"Sneakerheads";3,"Weekend Warriors"},2,FALSE())) | N35: =IF(A35="","","Scored")
L36: =IF(A36="","",IF(SQRT(((B36-Scaler!C2)/Scaler!D2-Centroids!B2)^2+((C36-Scaler!C3)/Scaler!D3-Centroids!C2)^2+((D36-Scaler!C4)/Scaler!D4-Centroids!D2)^2+((E36-Scaler!C5)/Scaler!D5-Centroids!E2)^2+((F36-Scaler!C6)/Scaler!D6-Centroids!F2)^2+((G36-Scaler!C7)/Scaler!D7-Centroids!G2)^2+((H36-Scaler!C8)/Scaler!D8-Centroids!H2)^2+((I36-Scaler!C9)/Scaler!D9-Centroids!I2)^2+((J36-Scaler!C10)/Scaler!D10-Centroids!J2)^2+((K36-Scaler!C11)/Scaler!D11-Centroids!K2)^2)<=MIN(SQRT(((B36-Scaler!C2)/Scaler!D2-Centroids!B3)^2+((C36-Scaler!C3)/Scaler!D3-Centroids!C3)^2+((D36-Scaler!C4)/Scaler!D4-Centroids!D3)^2+((E36-Scaler!C5)/Scaler!D5-Centroids!E3)^2+((F36-Scaler!C6)/Scaler!D6-Centroids!F3)^2+((G36-Scaler!C7)/Scaler!D7-Centroids!G3)^2+((H36-Scaler!C8)/Scaler!D8-Centroids!H3)^2+((I36-Scaler!C9)/Scaler!D9-Centroids!I3)^2+((J36-Scaler!C10)/Scaler!D10-Centroids!J3)^2+((K36-Scaler!C11)/Scaler!D11-Centroids!K3)^2),SQRT(((B36-Scaler!C2)/Scaler!D2-Centroids!B4)^2+((C36-Scaler!C3)/Scaler!D3-Centroids!C4)^2+((D36-Scaler!C4)/Scaler!D4-Centroids!D4)^2+((E36-Scaler!C5)/Scaler!D5-Centroids!E4)^2+((F36-Scaler!C6)/Scaler!D6-Centroids!F4)^2+((G36-Scaler!C7)/Scaler!D7-Centroids!G4)^2+((H36-Scaler!C8)/Scaler!D8-Centroids!H4)^2+((I36-Scaler!C9)/Scaler!D9-Centroids!I4)^2+((J36-Scaler!C10)/Scaler!D10-Centroids!J4)^2+((K36-Scaler!C11)/Scaler!D11-Centroids!K4)^2),SQRT(((B36-Scaler!C2)/Scaler!D2-Centroids!B5)^2+((C36-Scaler!C3)/Scaler!D3-Centroids!C5)^2+((D36-Scaler!C4)/Scaler!D4-Centroids!D5)^2+((E36-Scaler!C5)/Scaler!D5-Centroids!E5)^2+((F36-Scaler!C6)/Scaler!D6-Centroids!F5)^2+((G36-Scaler!C7)/Scaler!D7-Centroids!G5)^2+((H36-Scaler!C8)/Scaler!D8-Centroids!H5)^2+((I36-Scaler!C9)/Scaler!D9-Centroids!I5)^2+((J36-Scaler!C10)/Scaler!D10-Centroids!J5)^2+((K36-Scaler!C11)/Scaler!D11-Centroids!K5)^2)),0,IF(SQRT(((B36-Scaler!C2)/Scaler!D2-Centroids!B3)^2+((C36-Scaler!C3)/Scaler!D3-Centroids!C3)^2+((D36-Scaler!C4)/Scaler!D4-Centroids!D3)^2+((E36-Scaler!C5)/Scaler!D5-Centroids!E3)^2+((F36-Scaler!C6)/Scaler!D6-Centroids!F3)^2+((G36-Scaler!C7)/Scaler!D7-Centroids!G3)^2+((H36-Scaler!C8)/Scaler!D8-Centroids!H3)^2+((I36-Scaler!C9)/Scaler!D9-Centroids!I3)^2+((J36-Scaler!C10)/Scaler!D10-Centroids!J3)^2+((K36-Scaler!C11)/Scaler!D11-Centroids!K3)^2)<=MIN(SQRT(((B36-Scaler!C2)/Scaler!D2-Centroids!B2)^2+((C36-Scaler!C3)/Scaler!D3-Centroids!C2)^2+((D36-Scaler!C4)/Scaler!D4-Centroids!D2)^2+((E36-Scaler!C5)/Scaler!D5-Centroids!E2)^2+((F36-Scaler!C6)/Scaler!D6-Centroids!F2)^2+((G36-Scaler!C7)/Scaler!D7-Centroids!G2)^2+((H36-Scaler!C8)/Scaler!D8-Centroids!H2)^2+((I36-Scaler!C9)/Scaler!D9-Centroids!I2)^2+((J36-Scaler!C10)/Scaler!D10-Centroids!J2)^2+((K36-Scaler!C11)/Scaler!D11-Centroids!K2)^2),SQRT(((B36-Scaler!C2)/Scaler!D2-Centroids!B4)^2+((C36-Scaler!C3)/Scaler!D3-Centroids!C4)^2+((D36-Scaler!C4)/Scaler!D4-Centroids!D4)^2+((E36-Scaler!C5)/Scaler!D5-Centroids!E4)^2+((F36-Scaler!C6)/Scaler!D6-Centroids!F4)^2+((G36-Scaler!C7)/Scaler!D7-Centroids!G4)^2+((H36-Scaler!C8)/Scaler!D8-Centroids!H4)^2+((I36-Scaler!C9)/Scaler!D9-Centroids!I4)^2+((J36-Scaler!C10)/Scaler!D10-Centroids!J4)^2+((K36-Scaler!C11)/Scaler!D11-Centroids!K4)^2),SQRT(((B36-Scaler!C2)/Scaler!D2-Centroids!B5)^2+((C36-Scaler!C3)/Scaler!D3-Centroids!C5)^2+((D36-Scaler!C4)/Scaler!D4-Centroids!D5)^2+((E36-Scaler!C5)/Scaler!D5-Centroids!E5)^2+((F36-Scaler!C6)/Scaler!D6-Centroids!F5)^2+((G36-Scaler!C7)/Scaler!D7-Centroids!G5)^2+((H36-Scaler!C8)/Scaler!D8-Centroids!H5)^2+((I36-Scaler!C9)/Scaler!D9-Centroids!I5)^2+((J36-Scaler!C10)/Scaler!D10-Centroids!J5)^2+((K36-Scaler!C11)/Scaler!D11-Centroids!K5)^2)),1,IF(SQRT(((B36-Scaler!C2)/Scaler!D2-Centroids!B4)^2+((C36-Scaler!C3)/Scaler!D3-Centroids!C4)^2+((D36-Scaler!C4)/Scaler!D4-Centroids!D4)^2+((E36-Scaler!C5)/Scaler!D5-Centroids!E4)^2+((F36-Scaler!C6)/Scaler!D6-Centroids!F4)^2+((G36-Scaler!C7)/Scaler!D7-Centroids!G4)^2+((H36-Scaler!C8)/Scaler!D8-Centroids!H4)^2+((I36-Scaler!C9)/Scaler!D9-Centroids!I4)^2+((J36-Scaler!C10)/Scaler!D10-Centroids!J4)^2+((K36-Scaler!C11)/Scaler!D11-Centroids!K4)^2)<=MIN(SQRT(((B36-Scaler!C2)/Scaler!D2-Centroids!B2)^2+((C36-Scaler!C3)/Scaler!D3-Centroids!C2)^2+((D36-Scaler!C4)/Scaler!D4-Centroids!D2)^2+((E36-Scaler!C5)/Scaler!D5-Centroids!E2)^2+((F36-Scaler!C6)/Scaler!D6-Centroids!F2)^2+((G36-Scaler!C7)/Scaler!D7-Centroids!G2)^2+((H36-Scaler!C8)/Scaler!D8-Centroids!H2)^2+((I36-Scaler!C9)/Scaler!D9-Centroids!I2)^2+((J36-Scaler!C10)/Scaler!D10-Centroids!J2)^2+((K36-Scaler!C11)/Scaler!D11-Centroids!K2)^2),SQRT(((B36-Scaler!C2)/Scaler!D2-Centroids!B3)^2+((C36-Scaler!C3)/Scaler!D3-Centroids!C3)^2+((D36-Scaler!C4)/Scaler!D4-Centroids!D3)^2+((E36-Scaler!C5)/Scaler!D5-Centroids!E3)^2+((F36-Scaler!C6)/Scaler!D6-Centroids!F3)^2+((G36-Scaler!C7)/Scaler!D7-Centroids!G3)^2+((H36-Scaler!C8)/Scaler!D8-Centroids!H3)^2+((I36-Scaler!C9)/Scaler!D9-Centroids!I3)^2+((J36-Scaler!C10)/Scaler!D10-Centroids!J3)^2+((K36-Scaler!C11)/Scaler!D11-Centroids!K3)^2),SQRT(((B36-Scaler!C2)/Scaler!D2-Centroids!B5)^2+((C36-Scaler!C3)/Scaler!D3-Centroids!C5)^2+((D36-Scaler!C4)/Scaler!D4-Centroids!D5)^2+((E36-Scaler!C5)/Scaler!D5-Centroids!E5)^2+((F36-Scaler!C6)/Scaler!D6-Centroids!F5)^2+((G36-Scaler!C7)/Scaler!D7-Centroids!G5)^2+((H36-Scaler!C8)/Scaler!D8-Centroids!H5)^2+((I36-Scaler!C9)/Scaler!D9-Centroids!I5)^2+((J36-Scaler!C10)/Scaler!D10-Centroids!J5)^2+((K36-Scaler!C11)/Scaler!D11-Centroids!K5)^2)),2,3)))) | M36: =IF(A36="","",VLOOKUP(L36,{0,"Performance Athletes";1,"Casual Walkers";2,"Sneakerheads";3,"Weekend Warriors"},2,FALSE())) | N36: =IF(A36="","","Scored")
L37: =IF(A37="","",IF(SQRT(((B37-Scaler!C2)/Scaler!D2-Centroids!B2)^2+((C37-Scaler!C3)/Scaler!D3-Centroids!C2)^2+((D37-Scaler!C4)/Scaler!D4-Centroids!D2)^2+((E37-Scaler!C5)/Scaler!D5-Centroids!E2)^2+((F37-Scaler!C6)/Scaler!D6-Centroids!F2)^2+((G37-Scaler!C7)/Scaler!D7-Centroids!G2)^2+((H37-Scaler!C8)/Scaler!D8-Centroids!H2)^2+((I37-Scaler!C9)/Scaler!D9-Centroids!I2)^2+((J37-Scaler!C10)/Scaler!D10-Centroids!J2)^2+((K37-Scaler!C11)/Scaler!D11-Centroids!K2)^2)<=MIN(SQRT(((B37-Scaler!C2)/Scaler!D2-Centroids!B3)^2+((C37-Scaler!C3)/Scaler!D3-Centroids!C3)^2+((D37-Scaler!C4)/Scaler!D4-Centroids!D3)^2+((E37-Scaler!C5)/Scaler!D5-Centroids!E3)^2+((F37-Scaler!C6)/Scaler!D6-Centroids!F3)^2+((G37-Scaler!C7)/Scaler!D7-Centroids!G3)^2+((H37-Scaler!C8)/Scaler!D8-Centroids!H3)^2+((I37-Scaler!C9)/Scaler!D9-Centroids!I3)^2+((J37-Scaler!C10)/Scaler!D10-Centroids!J3)^2+((K37-Scaler!C11)/Scaler!D11-Centroids!K3)^2),SQRT(((B37-Scaler!C2)/Scaler!D2-Centroids!B4)^2+((C37-Scaler!C3)/Scaler!D3-Centroids!C4)^2+((D37-Scaler!C4)/Scaler!D4-Centroids!D4)^2+((E37-Scaler!C5)/Scaler!D5-Centroids!E4)^2+((F37-Scaler!C6)/Scaler!D6-Centroids!F4)^2+((G37-Scaler!C7)/Scaler!D7-Centroids!G4)^2+((H37-Scaler!C8)/Scaler!D8-Centroids!H4)^2+((I37-Scaler!C9)/Scaler!D9-Centroids!I4)^2+((J37-Scaler!C10)/Scaler!D10-Centroids!J4)^2+((K37-Scaler!C11)/Scaler!D11-Centroids!K4)^2),SQRT(((B37-Scaler!C2)/Scaler!D2-Centroids!B5)^2+((C37-Scaler!C3)/Scaler!D3-Centroids!C5)^2+((D37-Scaler!C4)/Scaler!D4-Centroids!D5)^2+((E37-Scaler!C5)/Scaler!D5-Centroids!E5)^2+((F37-Scaler!C6)/Scaler!D6-Centroids!F5)^2+((G37-Scaler!C7)/Scaler!D7-Centroids!G5)^2+((H37-Scaler!C8)/Scaler!D8-Centroids!H5)^2+((I37-Scaler!C9)/Scaler!D9-Centroids!I5)^2+((J37-Scaler!C10)/Scaler!D10-Centroids!J5)^2+((K37-Scaler!C11)/Scaler!D11-Centroids!K5)^2)),0,IF(SQRT(((B37-Scaler!C2)/Scaler!D2-Centroids!B3)^2+((C37-Scaler!C3)/Scaler!D3-Centroids!C3)^2+((D37-Scaler!C4)/Scaler!D4-Centroids!D3)^2+((E37-Scaler!C5)/Scaler!D5-Centroids!E3)^2+((F37-Scaler!C6)/Scaler!D6-Centroids!F3)^2+((G37-Scaler!C7)/Scaler!D7-Centroids!G3)^2+((H37-Scaler!C8)/Scaler!D8-Centroids!H3)^2+((I37-Scaler!C9)/Scaler!D9-Centroids!I3)^2+((J37-Scaler!C10)/Scaler!D10-Centroids!J3)^2+((K37-Scaler!C11)/Scaler!D11-Centroids!K3)^2)<=MIN(SQRT(((B37-Scaler!C2)/Scaler!D2-Centroids!B2)^2+((C37-Scaler!C3)/Scaler!D3-Centroids!C2)^2+((D37-Scaler!C4)/Scaler!D4-Centroids!D2)^2+((E37-Scaler!C5)/Scaler!D5-Centroids!E2)^2+((F37-Scaler!C6)/Scaler!D6-Centroids!F2)^2+((G37-Scaler!C7)/Scaler!D7-Centroids!G2)^2+((H37-Scaler!C8)/Scaler!D8-Centroids!H2)^2+((I37-Scaler!C9)/Scaler!D9-Centroids!I2)^2+((J37-Scaler!C10)/Scaler!D10-Centroids!J2)^2+((K37-Scaler!C11)/Scaler!D11-Centroids!K2)^2),SQRT(((B37-Scaler!C2)/Scaler!D2-Centroids!B4)^2+((C37-Scaler!C3)/Scaler!D3-Centroids!C4)^2+((D37-Scaler!C4)/Scaler!D4-Centroids!D4)^2+((E37-Scaler!C5)/Scaler!D5-Centroids!E4)^2+((F37-Scaler!C6)/Scaler!D6-Centroids!F4)^2+((G37-Scaler!C7)/Scaler!D7-Centroids!G4)^2+((H37-Scaler!C8)/Scaler!D8-Centroids!H4)^2+((I37-Scaler!C9)/Scaler!D9-Centroids!I4)^2+((J37-Scaler!C10)/Scaler!D10-Centroids!J4)^2+((K37-Scaler!C11)/Scaler!D11-Centroids!K4)^2),SQRT(((B37-Scaler!C2)/Scaler!D2-Centroids!B5)^2+((C37-Scaler!C3)/Scaler!D3-Centroids!C5)^2+((D37-Scaler!C4)/Scaler!D4-Centroids!D5)^2+((E37-Scaler!C5)/Scaler!D5-Centroids!E5)^2+((F37-Scaler!C6)/Scaler!D6-Centroids!F5)^2+((G37-Scaler!C7)/Scaler!D7-Centroids!G5)^2+((H37-Scaler!C8)/Scaler!D8-Centroids!H5)^2+((I37-Scaler!C9)/Scaler!D9-Centroids!I5)^2+((J37-Scaler!C10)/Scaler!D10-Centroids!J5)^2+((K37-Scaler!C11)/Scaler!D11-Centroids!K5)^2)),1,IF(SQRT(((B37-Scaler!C2)/Scaler!D2-Centroids!B4)^2+((C37-Scaler!C3)/Scaler!D3-Centroids!C4)^2+((D37-Scaler!C4)/Scaler!D4-Centroids!D4)^2+((E37-Scaler!C5)/Scaler!D5-Centroids!E4)^2+((F37-Scaler!C6)/Scaler!D6-Centroids!F4)^2+((G37-Scaler!C7)/Scaler!D7-Centroids!G4)^2+((H37-Scaler!C8)/Scaler!D8-Centroids!H4)^2+((I37-Scaler!C9)/Scaler!D9-Centroids!I4)^2+((J37-Scaler!C10)/Scaler!D10-Centroids!J4)^2+((K37-Scaler!C11)/Scaler!D11-Centroids!K4)^2)<=MIN(SQRT(((B37-Scaler!C2)/Scaler!D2-Centroids!B2)^2+((C37-Scaler!C3)/Scaler!D3-Centroids!C2)^2+((D37-Scaler!C4)/Scaler!D4-Centroids!D2)^2+((E37-Scaler!C5)/Scaler!D5-Centroids!E2)^2+((F37-Scaler!C6)/Scaler!D6-Centroids!F2)^2+((G37-Scaler!C7)/Scaler!D7-Centroids!G2)^2+((H37-Scaler!C8)/Scaler!D8-Centroids!H2)^2+((I37-Scaler!C9)/Scaler!D9-Centroids!I2)^2+((J37-Scaler!C10)/Scaler!D10-Centroids!J2)^2+((K37-Scaler!C11)/Scaler!D11-Centroids!K2)^2),SQRT(((B37-Scaler!C2)/Scaler!D2-Centroids!B3)^2+((C37-Scaler!C3)/Scaler!D3-Centroids!C3)^2+((D37-Scaler!C4)/Scaler!D4-Centroids!D3)^2+((E37-Scaler!C5)/Scaler!D5-Centroids!E3)^2+((F37-Scaler!C6)/Scaler!D6-Centroids!F3)^2+((G37-Scaler!C7)/Scaler!D7-Centroids!G3)^2+((H37-Scaler!C8)/Scaler!D8-Centroids!H3)^2+((I37-Scaler!C9)/Scaler!D9-Centroids!I3)^2+((J37-Scaler!C10)/Scaler!D10-Centroids!J3)^2+((K37-Scaler!C11)/Scaler!D11-Centroids!K3)^2),SQRT(((B37-Scaler!C2)/Scaler!D2-Centroids!B5)^2+((C37-Scaler!C3)/Scaler!D3-Centroids!C5)^2+((D37-Scaler!C4)/Scaler!D4-Centroids!D5)^2+((E37-Scaler!C5)/Scaler!D5-Centroids!E5)^2+((F37-Scaler!C6)/Scaler!D6-Centroids!F5)^2+((G37-Scaler!C7)/Scaler!D7-Centroids!G5)^2+((H37-Scaler!C8)/Scaler!D8-Centroids!H5)^2+((I37-Scaler!C9)/Scaler!D9-Centroids!I5)^2+((J37-Scaler!C10)/Scaler!D10-Centroids!J5)^2+((K37-Scaler!C11)/Scaler!D11-Centroids!K5)^2)),2,3)))) | M37: =IF(A37="","",VLOOKUP(L37,{0,"Performance Athletes";1,"Casual Walkers";2,"Sneakerheads";3,"Weekend Warriors"},2,FALSE())) | N37: =IF(A37="","","Scored")
